{"text_format":"1","workbook":"xlsx","n_sheets":32,"sheets":["Cover","Ackn","Index","Census","Mig","GNI","NApc","NAInd","NAInst","NAdet","EmpInst","EmpInd","EmpPriv","Pb_Dept","Pb_Fnd","Real_Cp&Fsh","Real_trsm","M&Ba","M&Bbc","CpiMajOld","CpiMaj","CpiEbeye","BOPsum","BOPdet","IIP","ExtD_out","ExtD_Hist","ExtD_Prj","GFSsum","GFSdet","FPse","CII"],"not_rendered":{"charts":4,"images":2,"macros":1,"external_links":7,"defined_names":17,"comments":4,"pivot_tables":0},"unopened":[{"sheet":"Cover","index":0,"reason":"not_a_worksheet"},{"sheet":"Ackn","index":1,"reason":"not_a_worksheet"}],"bounds":{"document_bytes":16777216,"sheet_cells":100000,"rows_first":2000,"rows_last":500,"rows_between":2000,"halvings":0,"cell_chars":16384,"cell_head_chars":4096},"cells_cut":0,"cells_raw":0,"read":"whole","date_system":"1900"}

{"sheet":"Index","index":2,"n_rows":63,"n_cols":13,"rows_kept":63,"cut":false,"hidden":false,"merged":[]}
[]
[null,"List of Statistical Tables","Page ","Hyperlinks to tables [worksheet name]"]
[{"$f":"Census!A1","v":"Table 1a    Population by major centers, percent of population and growth, 1930-2011"},null,1,"[Census]"]
[{"$f":"Census!A16","v":"Table 1b    Working age population, economically active, and not economically active, 1988, 1999 and 2011"},null,{"$f":"C3","v":1}]
[{"$f":"Mig!A1","v":"Table 1c    Net Air Passengers from US, Majuro and Kwajalein Atolls: 1990 to 2011"},null,{"$f":"C4+1","v":2},"[Mig]"]
[{"$f":"GNI!A1","v":"Table 2a    National income measures in current prices and real terms, FY2004-FY2011"},null,{"$f":"C5+1","v":3},"[GNI]"]
[{"$f":"NApc!A1","v":"Table 2b    Current and constant price RMI GDP, GDP per capita, 1981-2011"},null,{"$f":"C6+1","v":4},"[NApc]"]
[{"$f":"NAInd!A1","v":"Table 2c    RMI Constant price GDP by industry, FY2004-FY2011"},null,{"$f":"C7+1","v":5},"[NAInd]"]
[{"$f":"NAInd!A25","v":"Table 2d    RMI Constant price GDP by industry, annual % growth, FY2004-FY2011"},null,6]
[{"$f":"NAInd!A51","v":"Table 2e:   RMI Constant price GDP by industry, contribution to change, FY2004-FY2011"},null,7]
[{"$f":"NAInd!A75","v":"Table 2f     RMI Current price GDP by industry, FY2004-FY2011"},null,8]
[{"$f":"NAInd!A99","v":"Table 2g    RMI Implicit GDP price deflators by industry, FY2004-FY2011"},null,9]
[{"$f":"NAInd!A123","v":"Table 2h    RMI Share of GDP by industry, current prices, FY2004-FY2011"},null,10]
[{"$f":"NAInst!A1","v":"Table 2i     Constant price GDP by institutional sector, FY2004-FY2011"},null,{"$f":"C13+1","v":11},"[NAInst]"]
[{"$f":"NAInst!A14","v":"Table 2j     Constant price GDP by institutional sector, annual percent growth, FY2004-FY2011"},null,{"$f":"C14","v":11}]
[{"$f":"NAInst!A27","v":"Table 2k    Current price GDP by institutional sector, FY2004-FY2011"},null,{"$f":"C15+1","v":12},null,null,null,null,null,null,null,null,null,"`"]
[{"$f":"NAInst!A40","v":"Table 2l     Implicit GDP price deflators by institutional sector, FY2004-FY2011"},null,{"$f":"C16","v":12}]
[{"$f":"NAInst!A53","v":"Table 2m   Share of GDP by institutional sector, current prices, FY2004-FY2011"},null,{"$f":"C17+1","v":13}]
[{"$f":"NAInst!A66","v":"Table 2n    GDP by income component, current prices, FY2004-FY2011"},null,{"$f":"C18+1","v":14}]
[{"$f":"NAInst!A81","v":"Table 2o    GDP by income component, constant prices, FY2004-FY2011"},null,{"$f":"C19","v":14}]
[{"$f":"NAdet!A1","v":"Table 2p    Current price GDP by institutional sector and income components, FY2004-FY2011"},null,{"$f":"C20+1","v":15},"[NAdet]"]
[{"$f":"NAdet!A39","v":"Table 2q    Constant price GDP by institutional sector and income components, FY2004-FY2011"},null,{"$f":"C21+1","v":16}]
[{"$f":"EmpInst!A1","v":"Table 3a    Employment by institutional sector, numbers, FY2004-FY2011"},null,{"$f":"C22+1","v":17},"[EmpInst]"]
[{"$f":"EmpInst!A15","v":"Table 3b    Employment by institutional sector, wage costs, FY2004-FY2011"},null,{"$f":"C23","v":17}]
[{"$f":"EmpInst!A29","v":"Table 3c    Employment by institutional sector, average wage and salary rates, FY2004-FY2011"},null,{"$f":"C24+1","v":18}]
[{"$f":"EmpInd!A1","v":"Table 3d    Employment by industry, numbers, FY2004-FY2011"},null,19,"EmpInd"]
[{"$f":"EmpInd!A24","v":"Table 3e    Employment by industry, wage costs, FY2004-FY2011"},null,20]
[{"$f":"EmpInd!A47","v":"Table 3f     Employment by industry, average wage and salary rates, FY2004-FY2011"},null,21]
[{"$f":"EmpPriv!A1","v":"Table 3g    Employment in private sector by industry, numbers, FY2004-FY2011"},null,22,"[EmpPriv]"]
[{"$f":"EmpPriv!A24","v":"Table 3h    Employment in private sector by industry, wage costs, FY2004-FY2011"},null,23]
[{"$f":"EmpPriv!A47","v":"Table 3i     Employment in private sector by industry, average wage and salary rates, FY2004-FY2011"},null,{"$f":"C30+1","v":24}]
[{"$f":"Pb_Dept!A1","v":"Table 4a    National government employment by department, FY2004-FY2012"},null,25,"[Pb_Dept]"]
[{"$f":"Pb_Dept!A27","v":"Table 4b    National government wage costs by department, FY2004-FY2012"},null,26]
[{"$f":"Pb_Dept!A53","v":"Table 4c    National government average wage and salary rates by department, FY2004-FY2012"},null,27]
[{"$f":"Pb_Fnd!A1","v":"Table 4d    National government employment, by fund, FY2004 - FY2012 Qtr 1"},null,28,"[Pb_Fnd]"]
[{"$f":"Pb_Fnd!A39","v":"Table 4e    National government wage costs,  by fund, FY2004 - FY2012 Qtr 1"},null,29]
[{"$f":"Pb_Fnd!A77","v":"Table 4f     National government  wage rates, by fund, FY2004 - FY2012 Qtr 1"},null,30]
[{"$f":"'Real_Cp&Fsh'!A1","v":"Table 5a    Copra production, average producer price and income to producers:  1951-2011"},null,{"$f":"C37+1","v":31},"[Real_Cp&Fish]"]
[{"$f":"'Real_Cp&Fsh'!A22","v":"Table 5b    Tuna loining plant achievements, Majuro:  2008 to 2011"},null,32]
[{"$f":"'Real_Cp&Fsh'!A33","v":"Table 5c    Tuna loining plant achievements, Majuro:  FY1999 to FY2003"},null,{"$f":"C39","v":32}]
[{"$f":"'Real_Cp&Fsh'!A45","v":"Table 5d    Total fish catch in RMI EEZ, by method, and fishing license fees recieved:  1998-2011"},null,{"$f":"C40+1","v":33}]
[{"$f":"'Real_Cp&Fsh'!A64","v":"Table 5e    Total fish catch by Marshall Islands and domestically based vessels:  2001-2011"},null,{"$f":"C41","v":33}]
[{"$f":"Real_trsm!A1","v":"Table 5f     Visitors to Majuro, by year and purpose of visit: 2004-2011"},null,{"$f":"C42+1","v":34},"[Real_trsm]"]
[{"$f":"Real_trsm!A13","v":"Table 5g    Length of stay, visitors to Majuro, by year and purpose of visit: 2004-2011"},null,{"$f":"C43","v":34}]
[{"$f":"Real_trsm!A25","v":"Table 5h    Visitors to Majuro by usual residence:  2004 to 2011"},null,{"$f":"C44+1","v":35}]
[{"$f":"'M&Ba'!A1","v":"Table 6a    Assets and liabilities of Deposit Money Banks, FY2004-FY2011"},null,{"$f":"C45+1","v":36},"[M&Ba]"]
[{"$f":"'M&Bbc'!A1","v":"Table 6b    Income and expense of Deposit Money Banks, 2004-2011"},null,{"$f":"C46+1","v":37},"[M&Bbc]"]
[{"$f":"'M&Bbc'!A29","v":"Table 6c    Interest rates of Deposit Money Banks, 2004-2011"},null,{"$f":"C47","v":37}]
[{"$f":"CpiMajOld!A1","v":"Table 7a    Majuro Consumer Price Index (CPI) by major groups, 1982-2001"},null,38,"[CpiMajOld]"]
[{"$f":"CpiMaj!A1","v":"Table 7b    Majuro Consumer Price Index (CPI) by major groups, 2007-2011"},null,39,"[CpiMaj]"]
[{"$f":"CpiEbeye!A1","v":"Table 7c    Ebeye Consumer Price Index (CPI) by major groups, 2005-2010"},null,40,"CpiEbeye]"]
[{"$f":"BOPsum!A1","v":"Table 8a    Marshall Islands: Balance of Payments (summary), FY2004-FY2011"},null,41,"[BOPsum]"]
[{"$f":"BOPdet!A1","v":"Table 8b    Marshall Islands: Balance of Payments (detail), FY2004-FY2011"},null,42,"[BOPdet]"]
[{"$f":"IIP!A1","v":"Table 8c    Marshall Islands: International Investment Position, FY2004-FY2011"},null,{"$f":"C53+2","v":44},"[IIP]"]
[{"$f":"ExtD_out!A1","v":"Table 8d    External debt, original value, and outstanding principle by loan"},null,{"$f":"C54+1","v":45},"[ExtD_out]"]
[{"$f":"ExtD_Hist!A1","v":"Table 8e    External debt and debt service, RMI and national government, FY2004-FY2010"},null,46,"[ExtD_Hist]"]
[{"$f":"ExtD_Prj!A1","v":"Table 8f     External debt and debt service projections, FY2011-FY2038"},null,47,"[ExtD_Prj]"]
[{"$f":"GFSsum!A1","v":"Table 9a    RMI Government Finances (GFS 2001 Format, summary) FY2004-FY2010"},null,48,"[GFSsum]"]
[{"$f":"GFSdet!A1","v":"Table 9b    RMI Government Finances (GFS 2001 Format, detail) FY2004-FY2010"},null,49,"[GFSdet]"]
[{"$f":"FPse!B1","v":"Table 9c    Transfers (including subsidies and capital transfers) to Public Enterprises,  FY2004-FY2011"},null,{"$f":"C59+2","v":51},"[FPse]"]
[{"$f":"FPse!B23","v":"Table 9d    Transfers treated as current subsidies to Public Enterprises in GDP estimates,  FY2004-FY2011"},null,{"$f":"C60","v":51}]
[{"$f":"FPse!B41","v":"Table 9e    Operating Income (loss), Public Enterprises,   FY2004-FY2011"},null,{"$f":"C61","v":51}]
[{"$f":"CII!A1","v":"Table 9f    RMI: Compact grants awarded, FY2004-FY2012"},null,{"$f":"C61+1","v":52},"[CII]"]

{"sheet":"Census","index":3,"n_rows":31,"n_cols":12,"rows_kept":31,"cut":false,"hidden":false,"merged":[[25,7,26,7],[1,1,1,4],[1,8,1,11],[1,5,1,7],[25,4,26,4],[16,4,16,6],[16,7,16,9]]}
["Table 1a    Population by major centers, percent of population and growth, 1930-2011"]
[null,"Population",null,null,null,"Percent of Population",null,null,"Population Growth"]
[null,"Total","Majuro","Ebeye","Other","Majuro","Ebeye","Other","Total","Majuro","Ebeye","Other"]
[1930,10412,753,19,{"$f":"B4-C4-D4","v":9640},{"$f":"C4/$B4","v":7.2320399538993468E-2},{"$f":"D4/$B4","v":1.8248175182481751E-3},{"$f":"E4/$B4","v":0.92585478294275836}]
[1935,10446,779,16,{"$f":"B5-C5-D5","v":9651},{"$f":"C5/$B5","v":7.4573999617078307E-2},{"$f":"D5/$B5","v":1.5316867700555237E-3},{"$f":"E5/$B5","v":0.92389431361286611},{"$f":"EXP(LN(B5/B4)/($A5-$A4))-1","v":6.5224119319795548E-4},{"$f":"EXP(LN(C5/C4)/($A5-$A4))-1","v":6.8122622292989821E-3},-3.3786110314771522E-2,2.2811167402103649E-4]
[1958,14163,3415,1284,9464,0.241121231377533,9.0658758737555606E-2,0.66822000988491137,{"$f":"EXP(LN(B6/B5)/($A6-$A5))-1","v":1.3323357995501439E-2},6.636691702216857E-2,0.21004621714887284,-8.5035173495329186E-4]
[1967,18925,5249,3540,10136,0.27735799207397621,0.1870541611624835,0.53558784676354032,3.2729866555834874E-2,4.8921225915835143E-2,0.11927700641401384,7.651156800833947E-3]
[1973,25045,10290,5123,9632,0.41086045118786185,0.20455180674785386,0.38458774206428431,4.7805944454180072E-2,0.11872445996260161,6.3539233923297633E-2,-8.4643992755344399E-3]
[1980,30873,11791,6169,12913,0.38191947656528358,0.19981861173193405,0.41826191170278237,3.0337923822896462E-2,1.9642419754164475E-2,2.6897749436052054E-2,4.2766905890289308E-2]
[1988,43380,19664,8324,15392,0.4532964499769479,0.19188566159520518,0.35481788842784695,4.3431249910260705E-2,6.6019510414341509E-2,3.8160886943184869E-2,2.2194377818671507E-2]
[1999,50840,23676,9345,17819,0.46569630212431157,0.1838119590873328,0.3504917387883556,1.4530459233569548E-2,1.7022562513075767E-2,1.0573557514036214E-2,1.339965499867235E-2]
[2011,53158,27797,9614,15747,0.52291282591519617,0.18085706760976711,0.29623010647503667,{"$f":"EXP(LN(B12/B11)/($A12-$A11))-1","v":3.7223411462632416E-3},{"$f":"EXP(LN(C12/C11)/($A12-$A11))-1","v":1.3461992896550923E-2},{"$f":"EXP(LN(D12/D11)/($A12-$A11))-1","v":2.3677093207459254E-3},{"$f":"EXP(LN(E12/E11)/($A12-$A11))-1","v":-1.0248409541094183E-2}]
["Source","Annual Abstract 2004 Tables 1.3 and 1.6; RMI 2011 Census of Population"]
[]
[]
["Table 1b    Working age population, economically active, and not economically active, 1988, 1999 and 2011"]
[null,null,null,null,"Numbers",null,null,"Percent"]
[null,null,null,null,1988,1999,2011,1988,1999,2011]
["Working age population",null,null,null,21244,28692,31307]
["Economically active",null,null,null,11488,14677,12924,{"$f":"E20/E$19","v":0.54076445113914517},0.5115363167433431,0.41281502539368192]
["Economically inactive",null,null,null,9546,14015,18383,0.44935040482018451,0.4884636832566569,0.58718497460631802]
["Not stated",null,null,null,210,6]
["Employed",null,null,null,10056,10141,12312,{"$f":"E23/E$20","v":0.87534818941504178},{"$f":"F23/F$20","v":0.69094501601144653},{"$f":"G23/G$20","v":0.9526462395543176}]
["Employee - public sector",null,null,null,3392,3106,null,{"$f":"E24/E$23","v":0.33731105807478123},{"$f":"F24/F$23","v":0.30628143181145845}]
["Employee - private sector",null,null,null,3369,4115,null,{"$f":"E25/E$23","v":0.33502386634844866},0.40577852282812343]
["Self employed",null,null,null,2484,2622,null,{"$f":"E26/E23","v":0.24701670644391407},0.25855438319692337]
["Employer in own farm or business",null,null,null,null,115,null,null,1.1340104526180851E-2]
["Paid family worker",null,null,null,811,96,null,{"$f":"E28/E23","v":8.0648369132856002E-2},9.4665220392466231E-3]
["Unpaid family worker",null,null,null,null,87,null,null,8.5790355980672525E-3]
["Unemployed",null,null,null,1432,4536,612,{"$f":"E30/E$20","v":0.12465181058495822},{"$f":"F30/F$20","v":0.30905498398855352},{"$f":"G30/G$20","v":4.7353760445682451E-2}]
["Source","RMI Population Censuses"]

{"sheet":"Mig","index":4,"n_rows":40,"n_cols":8,"rows_kept":40,"cut":false,"hidden":false,"merged":[]}
["Table 1c    Net Air Passengers from US, Majuro and Kwajalein Atolls: 1990 to 2011"]
["                    (Arrivals minus departures)"]
[]
["Calender Year","Kwajalein",null,"Majuro",null,"Majuro","Kwajalein","RMI"]
[null,"Disembarkations","Embarkations","Disembarkations","Embarkations"]
[1990,6002,5682,6636,6945,-309,320,11]
[1991,6593,6058,7078,7275,-197,535,338]
[1992,5530,5906,7194,7524,-330,-376,-706]
[1993,5332,5856,7633,7887,-254,-524,-778]
[1994,4781,4574,7744,8074,-330,207,-123]
[1995,5086,5366,7959,8472,-513,-280,-793]
[1996,5051,5105,8160,8746,-586,-54,-640]
[1997,4719,4955,8111,9290,-1179,-236,-1415]
[1998,3869,3791,8227,9060,-833,78,-755]
[1999,4335,4132,8776,9436,-660,203,-457]
[2000,23190,23817,8893,10182,-1289,-627,-1916]
[2001,5676,6188,9392,10909,-1517,-512,-2029]
[2002,7463,7482,9548,10442,-894,-19,-913]
[2003,6813,7175,10005,10424,-419,-362,-781]
[2004,7991,8002,9406,9948,-542,-11,-553]
[2005,7001,6984,10369,11423,-1054,17,-1037]
[2006,6282,6468,9312,10104,-792,-186,-978]
[2007,5669,5781,9878,10344,-466,-112,-578]
[2008,4994,5274,9517,10740,-1223,-280,-1503]
[2009,4932,4833,9011,9782,-771,99,-672]
[2010,4753,4887,8890,9796,-906,-134,-1040]
[2011,4780,4817,8773,9603,-830,-37,-867]
[]
[" 5 year averages"]
["1993-1996",null,null,null,null,{"$f":"AVERAGE(F9:F12)","v":-420.75},{"$f":"AVERAGE(G9:G12)","v":-162.75},-583.5]
["1997-2001",null,null,null,null,{"$f":"AVERAGE(F13:F17)","v":-1095.5999999999999},{"$f":"AVERAGE(G13:G17)","v":-218.8},-1314.4]
["2002-2006",null,null,null,null,{"$f":"AVERAGE(F18:F22)","v":-740.2},{"$f":"AVERAGE(G18:G22)","v":-112.2},-852.4]
["2007-2011",null,null,null,null,{"$f":"AVERAGE(F23:F27)","v":-839.2},{"$f":"AVERAGE(G23:G27)","v":-92.8},-932]
[]
["Source :  US Department of Transportation \"TRANSTATS\" database"]
["Notes :   Only includes air passengers to/from Majuro or Kwajalein and US airports (Guam, Hawaii)"]
["These data are used as proxy indicators of net migration to/from the RMI. However;"]
["Passengers to/from FSM and other countries (e.g. FSM, Kiribati) are excluded."]
["Passengers between Majuro and Kwajalein are excluded."]
["Some one-way movements of non-residents (e.g. fishing crews and US military personnel) may be included."]

{"sheet":"GNI","index":5,"n_rows":55,"n_cols":17,"rows_kept":55,"cut":false,"hidden":false,"merged":[[53,0,53,16],[54,0,54,16]]}
["Table 2a    National income measures in current prices and real terms, FY2004-FY2011"]
[null,"(US$ millions)","FY1997","FY1998","FY1999","FY2000","FY2001","FY2002","FY2003","FY2004","FY2005","FY2006","FY2007","FY2008","FY2009","FY2010","FY2011"]
["Current prices"]
[null,"Gross Domestic Product (GDP)",{"$f":"[2]cerTabGNI!C4","v":106.24181840238887},{"$f":"[2]cerTabGNI!D4","v":108.65772030952792},{"$f":"[2]cerTabGNI!E4","v":107.93861021329369},{"$f":"[2]cerTabGNI!F4","v":110.90273322462824},{"$f":"[2]cerTabGNI!G4","v":115.12100198460593},{"$f":"[2]cerTabGNI!H4","v":124.69807108904428},{"$f":"[2]cerTabGNI!I4","v":126.88489438896619},{"$f":"[2]cerTabGNI!J4","v":131.14868074440383},{"$f":"[2]cerTabGNI!K4","v":137.61878408161394},{"$f":"[2]cerTabGNI!L4","v":143.42114457105905},{"$f":"[2]cerTabGNI!M4","v":149.84863533771372},{"$f":"[2]cerTabGNI!N4","v":152.71244942877968},{"$f":"[2]cerTabGNI!O4","v":151.68106740590329},{"$f":"[2]cerTabGNI!P4","v":163.21955169519242},{"$f":"[2]cerTabGNI!Q4","v":170.74769749380366}]
[null,"Primary incomes 2"]
[null,"Receivable from the rest of the world",{"$f":"[2]cerTabGNI!C6","v":38.661853762752962},{"$f":"[2]cerTabGNI!D6","v":43.579121801390926},{"$f":"[2]cerTabGNI!E6","v":46.282576714912686},{"$f":"[2]cerTabGNI!F6","v":45.966896476329012},{"$f":"[2]cerTabGNI!G6","v":46.178310332244735},{"$f":"[2]cerTabGNI!H6","v":45.1204427316679},{"$f":"[2]cerTabGNI!I6","v":44.435001866155019},{"$f":"[2]cerTabGNI!J6","v":47.230678630506347},{"$f":"[2]cerTabGNI!K6","v":52.059556117003424},{"$f":"[2]cerTabGNI!L6","v":56.037062459536664},{"$f":"[2]cerTabGNI!M6","v":57.691955730806228},{"$f":"[2]cerTabGNI!N6","v":56.958002028573489},{"$f":"[2]cerTabGNI!O6","v":53.749098081829146},{"$f":"[2]cerTabGNI!P6","v":52.290861813370718},{"$f":"[2]cerTabGNI!Q6","v":56.465392343035106}]
[null,"Payable to the rest of the world",{"$f":"[2]cerTabGNI!C7","v":-11.835629750196487},{"$f":"[2]cerTabGNI!D7","v":-11.384590629284814},{"$f":"[2]cerTabGNI!E7","v":-10.392664144804153},{"$f":"[2]cerTabGNI!F7","v":-8.7523597392170664},{"$f":"[2]cerTabGNI!G7","v":-7.9892243179184543},{"$f":"[2]cerTabGNI!H7","v":-7.6572721124366598},{"$f":"[2]cerTabGNI!I7","v":-7.8031626142754336},{"$f":"[2]cerTabGNI!J7","v":-9.7677944873902796},{"$f":"[2]cerTabGNI!K7","v":-10.525383676726838},{"$f":"[2]cerTabGNI!L7","v":-14.39950677218312},{"$f":"[2]cerTabGNI!M7","v":-13.705113901854823},{"$f":"[2]cerTabGNI!N7","v":-12.932825310224377},{"$f":"[2]cerTabGNI!O7","v":-12.39184772609792},{"$f":"[2]cerTabGNI!P7","v":-16.67937385404112},{"$f":"[2]cerTabGNI!Q7","v":-17.332898424871011}]
[null,"Net primary incomes",{"$f":"[2]cerTabGNI!C8","v":26.826224012556473},{"$f":"[2]cerTabGNI!D8","v":32.19453117210611},{"$f":"[2]cerTabGNI!E8","v":35.889912570108535},{"$f":"[2]cerTabGNI!F8","v":37.214536737111942},{"$f":"[2]cerTabGNI!G8","v":38.189086014326278},{"$f":"[2]cerTabGNI!H8","v":37.463170619231242},{"$f":"[2]cerTabGNI!I8","v":36.631839251879583},{"$f":"[2]cerTabGNI!J8","v":37.462884143116071},{"$f":"[2]cerTabGNI!K8","v":41.534172440276585},{"$f":"[2]cerTabGNI!L8","v":41.63755568735354},{"$f":"[2]cerTabGNI!M8","v":43.986841828951405},{"$f":"[2]cerTabGNI!N8","v":44.025176718349115},{"$f":"[2]cerTabGNI!O8","v":41.357250355731225},{"$f":"[2]cerTabGNI!P8","v":35.611487959329594},{"$f":"[2]cerTabGNI!Q8","v":39.132493918164094}]
[null,"Gross National Income (GNI)",{"$f":"[2]cerTabGNI!C9","v":133.06804241494535},{"$f":"[2]cerTabGNI!D9","v":140.85225148163403},{"$f":"[2]cerTabGNI!E9","v":143.82852278340224},{"$f":"[2]cerTabGNI!F9","v":148.11726996174019},{"$f":"[2]cerTabGNI!G9","v":153.3100879989322},{"$f":"[2]cerTabGNI!H9","v":162.16124170827553},{"$f":"[2]cerTabGNI!I9","v":163.51673364084576},{"$f":"[2]cerTabGNI!J9","v":168.61156488751988},{"$f":"[2]cerTabGNI!K9","v":179.15295652189053},{"$f":"[2]cerTabGNI!L9","v":185.05870025841259},{"$f":"[2]cerTabGNI!M9","v":193.83547716666513},{"$f":"[2]cerTabGNI!N9","v":196.73762614712879},{"$f":"[2]cerTabGNI!O9","v":193.03831776163452},{"$f":"[2]cerTabGNI!P9","v":198.83103965452202},{"$f":"[2]cerTabGNI!Q9","v":209.88019141196776}]
[null,"Secondary Incomes (Current transfers) 2 3"]
[null,"Receivable from the rest of the world",{"$f":"[2]cerTabGNI!C11","v":27.282331755535289},{"$f":"[2]cerTabGNI!D11","v":32.316522106058073},{"$f":"[2]cerTabGNI!E11","v":28.461356715493572},{"$f":"[2]cerTabGNI!F11","v":36.730719668572291},{"$f":"[2]cerTabGNI!G11","v":44.942160978164516},{"$f":"[2]cerTabGNI!H11","v":41.293029887663153},{"$f":"[2]cerTabGNI!I11","v":43.150773263095012},{"$f":"[2]cerTabGNI!J11","v":49.224900642064952},{"$f":"[2]cerTabGNI!K11","v":61.155203347903878},{"$f":"[2]cerTabGNI!L11","v":58.145100402508447},{"$f":"[2]cerTabGNI!M11","v":66.029519146598176},{"$f":"[2]cerTabGNI!N11","v":66.317955617032311},{"$f":"[2]cerTabGNI!O11","v":64.645913607226461},{"$f":"[2]cerTabGNI!P11","v":66.161594526044993},{"$f":"[2]cerTabGNI!Q11","v":66.775514577331691}]
[null,"Payable to the rest of the world",{"$f":"[2]cerTabGNI!C12","v":-2.7671961373380922},{"$f":"[2]cerTabGNI!D12","v":-2.8470063287167702},{"$f":"[2]cerTabGNI!E12","v":-2.8351870310304697},{"$f":"[2]cerTabGNI!F12","v":-2.955779705767672},{"$f":"[2]cerTabGNI!G12","v":-3.0442603747811678},{"$f":"[2]cerTabGNI!H12","v":-3.2226263555911365},{"$f":"[2]cerTabGNI!I12","v":-3.3101608668839999},{"$f":"[2]cerTabGNI!J12","v":-3.3905000875963016},{"$f":"[2]cerTabGNI!K12","v":-3.581153848740255},{"$f":"[2]cerTabGNI!L12","v":-3.7112201983744053},{"$f":"[2]cerTabGNI!M12","v":-3.8824961340323161},{"$f":"[2]cerTabGNI!N12","v":-4.1052044549745697},{"$f":"[2]cerTabGNI!O12","v":-4.4324703002373917},{"$f":"[2]cerTabGNI!P12","v":-5.3268658479783619},{"$f":"[2]cerTabGNI!Q12","v":-5.9827516185451612}]
[null,"Net secondary incomes",{"$f":"[2]cerTabGNI!C13","v":24.515135618197196},{"$f":"[2]cerTabGNI!D13","v":29.469515777341304},{"$f":"[2]cerTabGNI!E13","v":25.626169684463104},{"$f":"[2]cerTabGNI!F13","v":33.774939962804616},{"$f":"[2]cerTabGNI!G13","v":41.897900603383349},{"$f":"[2]cerTabGNI!H13","v":38.070403532072014},{"$f":"[2]cerTabGNI!I13","v":39.840612396211014},{"$f":"[2]cerTabGNI!J13","v":45.834400554468651},{"$f":"[2]cerTabGNI!K13","v":57.574049499163621},{"$f":"[2]cerTabGNI!L13","v":54.433880204134041},{"$f":"[2]cerTabGNI!M13","v":62.14702301256586},{"$f":"[2]cerTabGNI!N13","v":62.212751162057742},{"$f":"[2]cerTabGNI!O13","v":60.21344330698907},{"$f":"[2]cerTabGNI!P13","v":60.834728678066632},{"$f":"[2]cerTabGNI!Q13","v":60.792762958786533}]
[null,"Gross National Disposable Income (GNDI)",{"$f":"[2]cerTabGNI!C14","v":157.58317803314256},{"$f":"[2]cerTabGNI!D14","v":170.32176725897534},{"$f":"[2]cerTabGNI!E14","v":169.45469246786533},{"$f":"[2]cerTabGNI!F14","v":181.89220992454483},{"$f":"[2]cerTabGNI!G14","v":195.20798860231554},{"$f":"[2]cerTabGNI!H14","v":200.23164524034755},{"$f":"[2]cerTabGNI!I14","v":203.35734603705677},{"$f":"[2]cerTabGNI!J14","v":214.44596544198851},{"$f":"[2]cerTabGNI!K14","v":236.72700602105414},{"$f":"[2]cerTabGNI!L14","v":239.49258046254664},{"$f":"[2]cerTabGNI!M14","v":255.98250017923098},{"$f":"[2]cerTabGNI!N14","v":258.95037730918654},{"$f":"[2]cerTabGNI!O14","v":253.25176106862361},{"$f":"[2]cerTabGNI!P14","v":259.66576833258864},{"$f":"[2]cerTabGNI!Q14","v":270.67295437075433}]
["Constant 2004 prices"]
[null,"GDP, at constant prices",{"$f":"[2]cerTabGNI!C16","v":120.58411157647633},{"$f":"[2]cerTabGNI!D16","v":117.13020921274814},{"$f":"[2]cerTabGNI!E16","v":114.34676131905282},{"$f":"[2]cerTabGNI!F16","v":121.10958692602699},{"$f":"[2]cerTabGNI!G16","v":127.60578868739719},{"$f":"[2]cerTabGNI!H16","v":130.9324531568549},{"$f":"[2]cerTabGNI!I16","v":131.18413620761848},{"$f":"[2]cerTabGNI!J16","v":131.14868074440383},{"$f":"[2]cerTabGNI!K16","v":134.58197257363591},{"$f":"[2]cerTabGNI!L16","v":137.09475606787478},{"$f":"[2]cerTabGNI!M16","v":141.48372400960193},{"$f":"[2]cerTabGNI!N16","v":138.82015426721284},{"$f":"[2]cerTabGNI!O16","v":136.7710554786064},{"$f":"[2]cerTabGNI!P16","v":144.42116770269726},{"$f":"[2]cerTabGNI!Q16","v":145.58965491904388}]
[null,"Trading gains/losses 4",{"$f":"[2]cerTabGNI!C17","v":"n.a."},{"$f":"[2]cerTabGNI!D17","v":"n.a."},{"$f":"[2]cerTabGNI!E17","v":"n.a."},{"$f":"[2]cerTabGNI!F17","v":"n.a."},{"$f":"[2]cerTabGNI!G17","v":"n.a."},{"$f":"[2]cerTabGNI!H17","v":"n.a."},{"$f":"[2]cerTabGNI!I17","v":"n.a."},{"$f":"[2]cerTabGNI!J17","v":"n.a."},{"$f":"[2]cerTabGNI!K17","v":"n.a."},{"$f":"[2]cerTabGNI!L17","v":"n.a."},{"$f":"[2]cerTabGNI!M17","v":"n.a."},{"$f":"[2]cerTabGNI!N17","v":"n.a."},{"$f":"[2]cerTabGNI!O17","v":"n.a."},{"$f":"[2]cerTabGNI!P17","v":"n.a."},{"$f":"[2]cerTabGNI!Q17","v":"n.a."}]
[null,"Real Gross Domestic Income",{"$f":"[2]cerTabGNI!C18","v":120.58411157647633},{"$f":"[2]cerTabGNI!D18","v":117.13020921274814},{"$f":"[2]cerTabGNI!E18","v":114.34676131905282},{"$f":"[2]cerTabGNI!F18","v":121.10958692602699},{"$f":"[2]cerTabGNI!G18","v":127.60578868739719},{"$f":"[2]cerTabGNI!H18","v":130.9324531568549},{"$f":"[2]cerTabGNI!I18","v":131.18413620761848},{"$f":"[2]cerTabGNI!J18","v":131.14868074440383},{"$f":"[2]cerTabGNI!K18","v":134.58197257363591},{"$f":"[2]cerTabGNI!L18","v":137.09475606787478},{"$f":"[2]cerTabGNI!M18","v":141.48372400960193},{"$f":"[2]cerTabGNI!N18","v":138.82015426721284},{"$f":"[2]cerTabGNI!O18","v":136.7710554786064},{"$f":"[2]cerTabGNI!P18","v":144.42116770269726},{"$f":"[2]cerTabGNI!Q18","v":145.58965491904388}]
[null,"Primary incomes 5"]
[null,"Receivable from the rest of the world",{"$f":"[2]cerTabGNI!C20","v":44.862534563409518},{"$f":"[2]cerTabGNI!D20","v":48.216805663917889},{"$f":"[2]cerTabGNI!E20","v":49.647230661793515},{"$f":"[2]cerTabGNI!F20","v":48.801559550316838},{"$f":"[2]cerTabGNI!G20","v":49.05973414293755},{"$f":"[2]cerTabGNI!H20","v":46.800921103081585},{"$f":"[2]cerTabGNI!I20","v":45.915812991934175},{"$f":"[2]cerTabGNI!J20","v":47.230678630506347},{"$f":"[2]cerTabGNI!K20","v":49.914038918542595},{"$f":"[2]cerTabGNI!L20","v":50.824406995108021},{"$f":"[2]cerTabGNI!M20","v":51.098890161809777},{"$f":"[2]cerTabGNI!N20","v":44.723985906161204},{"$f":"[2]cerTabGNI!O20","v":43.313339401467466},{"$f":"[2]cerTabGNI!P20","v":41.299173261286441},{"$f":"[2]cerTabGNI!Q20","v":42.85396348064949}]
[null,"Payable to the rest of the world",{"$f":"[2]cerTabGNI!C21","v":-13.733856426187543},{"$f":"[2]cerTabGNI!D21","v":-12.596137123579352},{"$f":"[2]cerTabGNI!E21","v":-11.148190757957375},{"$f":"[2]cerTabGNI!F21","v":-9.2920957854779314},{"$f":"[2]cerTabGNI!G21","v":-8.4877341380697118},{"$f":"[2]cerTabGNI!H21","v":-7.942461693698184},{"$f":"[2]cerTabGNI!I21","v":-8.0632055878368725},{"$f":"[2]cerTabGNI!J21","v":-9.7677944873902796},{"$f":"[2]cerTabGNI!K21","v":-10.091603725778684},{"$f":"[2]cerTabGNI!L21","v":-13.060042061389316},{"$f":"[2]cerTabGNI!M21","v":-12.138886627343412},{"$f":"[2]cerTabGNI!N21","v":-10.154982202696591},{"$f":"[2]cerTabGNI!O21","v":-9.9858848897268118},{"$f":"[2]cerTabGNI!P21","v":-13.173321815699707},{"$f":"[2]cerTabGNI!Q21","v":-13.15466634147722}]
[null,"Net primary incomes",{"$f":"[2]cerTabGNI!C22","v":31.128678137221975},{"$f":"[2]cerTabGNI!D22","v":35.620668540338535},{"$f":"[2]cerTabGNI!E22","v":38.499039903836142},{"$f":"[2]cerTabGNI!F22","v":39.509463764838905},{"$f":"[2]cerTabGNI!G22","v":40.572000004867839},{"$f":"[2]cerTabGNI!H22","v":38.8584594093834},{"$f":"[2]cerTabGNI!I22","v":37.852607404097299},{"$f":"[2]cerTabGNI!J22","v":37.462884143116071},{"$f":"[2]cerTabGNI!K22","v":39.822435192763912},{"$f":"[2]cerTabGNI!L22","v":37.764364933718703},{"$f":"[2]cerTabGNI!M22","v":38.960003534466367},{"$f":"[2]cerTabGNI!N22","v":34.569003703464617},{"$f":"[2]cerTabGNI!O22","v":33.327454511740655},{"$f":"[2]cerTabGNI!P22","v":28.125851445586733},{"$f":"[2]cerTabGNI!Q22","v":29.69929713917227}]
[null,"Real Gross National Income (GNI)",{"$f":"[2]cerTabGNI!C23","v":151.7127897136983},{"$f":"[2]cerTabGNI!D23","v":152.75087775308668},{"$f":"[2]cerTabGNI!E23","v":152.84580122288895},{"$f":"[2]cerTabGNI!F23","v":160.61905069086592},{"$f":"[2]cerTabGNI!G23","v":168.17778869226504},{"$f":"[2]cerTabGNI!H23","v":169.79091256623829},{"$f":"[2]cerTabGNI!I23","v":169.03674361171579},{"$f":"[2]cerTabGNI!J23","v":168.61156488751988},{"$f":"[2]cerTabGNI!K23","v":174.4044077663998},{"$f":"[2]cerTabGNI!L23","v":174.85912100159351},{"$f":"[2]cerTabGNI!M23","v":180.44372754406828},{"$f":"[2]cerTabGNI!N23","v":173.38915797067745},{"$f":"[2]cerTabGNI!O23","v":170.09850999034705},{"$f":"[2]cerTabGNI!P23","v":172.54701914828399},{"$f":"[2]cerTabGNI!Q23","v":175.28895205821615}]
[null,"Secondary Incomes (Current transfers) 5"]
[null,"Receivable from the rest of the world",{"$f":"[2]cerTabGNI!C25","v":31.657937533566262},{"$f":"[2]cerTabGNI!D25","v":35.75564173190326},{"$f":"[2]cerTabGNI!E25","v":30.530442384518413},{"$f":"[2]cerTabGNI!F25","v":38.99581091264001},{"$f":"[2]cerTabGNI!G25","v":47.746451819790423},{"$f":"[2]cerTabGNI!H25","v":42.830959026103407},{"$f":"[2]cerTabGNI!I25","v":44.588787046158089},{"$f":"[2]cerTabGNI!J25","v":49.224900642064952},{"$f":"[2]cerTabGNI!K25","v":58.634829561707832},{"$f":"[2]cerTabGNI!L25","v":52.736351941403015},{"$f":"[2]cerTabGNI!M25","v":58.483632658469155},{"$f":"[2]cerTabGNI!N25","v":52.073513934945538},{"$f":"[2]cerTabGNI!O25","v":52.094462919636321},{"$f":"[2]cerTabGNI!P25","v":52.25423832803299},{"$f":"[2]cerTabGNI!Q25","v":50.678749307433478}]
[null,"Payable to the rest of the world",{"$f":"[2]cerTabGNI!C26","v":-3.2110056883683091},{"$f":"[2]cerTabGNI!D26","v":-3.1499843319765901},{"$f":"[2]cerTabGNI!E26","v":-3.0412996529110994},{"$f":"[2]cerTabGNI!F26","v":-3.1380552176917118},{"$f":"[2]cerTabGNI!G26","v":-3.2342154482070145},{"$f":"[2]cerTabGNI!H26","v":-3.342650751670869},{"$f":"[2]cerTabGNI!I26","v":-3.4204730719912555},{"$f":"[2]cerTabGNI!J26","v":-3.3905000875963016},{"$f":"[2]cerTabGNI!K26","v":-3.4335646692332689},{"$f":"[2]cerTabGNI!L26","v":-3.3659966731276421},{"$f":"[2]cerTabGNI!M26","v":-3.4388025330996346},{"$f":"[2]cerTabGNI!N26","v":-3.2234470951787908},{"$f":"[2]cerTabGNI!O26","v":-3.5718755728481812},{"$f":"[2]cerTabGNI!P26","v":-4.207143427478095},{"$f":"[2]cerTabGNI!Q26","v":-4.5405620812365699}]
[null,"Net secondary incomes",{"$f":"[2]cerTabGNI!C27","v":28.446931845197952},{"$f":"[2]cerTabGNI!D27","v":32.60565739992667},{"$f":"[2]cerTabGNI!E27","v":27.489142731607313},{"$f":"[2]cerTabGNI!F27","v":35.857755694948295},{"$f":"[2]cerTabGNI!G27","v":44.512236371583406},{"$f":"[2]cerTabGNI!H27","v":39.488308274432541},{"$f":"[2]cerTabGNI!I27","v":41.168313974166836},{"$f":"[2]cerTabGNI!J27","v":45.834400554468651},{"$f":"[2]cerTabGNI!K27","v":55.201264892474562},{"$f":"[2]cerTabGNI!L27","v":49.370355268275375},{"$f":"[2]cerTabGNI!M27","v":55.044830125369522},{"$f":"[2]cerTabGNI!N27","v":48.850066839766747},{"$f":"[2]cerTabGNI!O27","v":48.522587346788143},{"$f":"[2]cerTabGNI!P27","v":48.047094900554896},{"$f":"[2]cerTabGNI!Q27","v":46.138187226196905}]
[null,"Real Gross National Disposable Income (GNDI) 1",{"$f":"[2]cerTabGNI!C28","v":180.15972155889625},{"$f":"[2]cerTabGNI!D28","v":185.35653515301337},{"$f":"[2]cerTabGNI!E28","v":180.33494395449625},{"$f":"[2]cerTabGNI!F28","v":196.4768063858142},{"$f":"[2]cerTabGNI!G28","v":212.69002506384845},{"$f":"[2]cerTabGNI!H28","v":209.27922084067083},{"$f":"[2]cerTabGNI!I28","v":210.2050575858826},{"$f":"[2]cerTabGNI!J28","v":214.44596544198851},{"$f":"[2]cerTabGNI!K28","v":229.60567265887434},{"$f":"[2]cerTabGNI!L28","v":224.22947626986888},{"$f":"[2]cerTabGNI!M28","v":235.4885576694378},{"$f":"[2]cerTabGNI!N28","v":222.2392248104442},{"$f":"[2]cerTabGNI!O28","v":218.62109733713521},{"$f":"[2]cerTabGNI!P28","v":220.59411404883889},{"$f":"[2]cerTabGNI!Q28","v":221.42713928441307}]
[null,"Annual changes"]
[null,"GDP at constant prices",null,{"$f":"[2]cerTabGNI!D30","v":-2.8643096661517209E-2},{"$f":"[2]cerTabGNI!E30","v":-2.3763706326517697E-2},{"$f":"[2]cerTabGNI!F30","v":5.9143132074413574E-2},{"$f":"[2]cerTabGNI!G30","v":5.3639038215348211E-2},{"$f":"[2]cerTabGNI!H30","v":2.6069855479732285E-2},{"$f":"[2]cerTabGNI!I30","v":1.9222358146919749E-3},{"$f":"[2]cerTabGNI!J30","v":-2.7027249055888714E-4},{"$f":"[2]cerTabGNI!K30","v":2.6178622687964559E-2},{"$f":"[2]cerTabGNI!L30","v":1.867102588992009E-2},{"$f":"[2]cerTabGNI!M30","v":3.2014119778251748E-2},{"$f":"[2]cerTabGNI!N30","v":-1.8825979885914834E-2},{"$f":"[2]cerTabGNI!O30","v":-1.4760816247633368E-2},{"$f":"[2]cerTabGNI!P30","v":5.5933707591278248E-2},{"$f":"[2]cerTabGNI!Q30","v":8.0908306928526574E-3}]
[null,"Real GNI",null,{"$f":"[2]cerTabGNI!D31","v":6.8424556779120849E-3},{"$f":"[2]cerTabGNI!E31","v":6.2142667327713674E-4},{"$f":"[2]cerTabGNI!F31","v":5.0856807356072231E-2},{"$f":"[2]cerTabGNI!G31","v":4.7060034092387903E-2},{"$f":"[2]cerTabGNI!H31","v":9.5917771693678766E-3},{"$f":"[2]cerTabGNI!I31","v":-4.441750993171012E-3},{"$f":"[2]cerTabGNI!J31","v":-2.5153035672088597E-3},{"$f":"[2]cerTabGNI!K31","v":3.4356142075689267E-2},{"$f":"[2]cerTabGNI!L31","v":2.6072347655499151E-3},{"$f":"[2]cerTabGNI!M31","v":3.1937748002426991E-2},{"$f":"[2]cerTabGNI!N31","v":-3.9095676360753284E-2},{"$f":"[2]cerTabGNI!O31","v":-1.8978395297858719E-2},{"$f":"[2]cerTabGNI!P31","v":1.4394653769018273E-2},{"$f":"[2]cerTabGNI!Q31","v":1.5890931778866468E-2}]
[null,"Real GNDI",null,{"$f":"[2]cerTabGNI!D32","v":2.8845590729991377E-2},{"$f":"[2]cerTabGNI!E32","v":-2.7091524959569124E-2},{"$f":"[2]cerTabGNI!F32","v":8.9510452479975244E-2},{"$f":"[2]cerTabGNI!G32","v":8.2519758826886447E-2},{"$f":"[2]cerTabGNI!H32","v":-1.6036502991401247E-2},{"$f":"[2]cerTabGNI!I32","v":4.4239305817974639E-3},{"$f":"[2]cerTabGNI!J32","v":2.0175099042863076E-2},{"$f":"[2]cerTabGNI!K32","v":7.0692433805600308E-2},{"$f":"[2]cerTabGNI!L32","v":-2.3414910993914684E-2},{"$f":"[2]cerTabGNI!M32","v":5.0212316359416365E-2},{"$f":"[2]cerTabGNI!N32","v":-5.6263170449207478E-2},{"$f":"[2]cerTabGNI!O32","v":-1.6280327995181865E-2},{"$f":"[2]cerTabGNI!P32","v":9.0248230190752565E-3},{"$f":"[2]cerTabGNI!Q32","v":3.7762804287233553E-3}]
[null,"Per capita income measures 6"]
[null,"Population (1999 Census and estimates)",{"$f":"[2]cerTabGNI!C34","v":49286.22219341412},{"$f":"[2]cerTabGNI!D34","v":50028.078409869391},{"$f":"[2]cerTabGNI!E34","v":50840},{"$f":"[2]cerTabGNI!F34","v":51231.333766666663},{"$f":"[2]cerTabGNI!G34","v":50539.667533333333},{"$f":"[2]cerTabGNI!H34","v":49714.001300000004},{"$f":"[2]cerTabGNI!I34","v":49995.335066666667},{"$f":"[2]cerTabGNI!J34","v":50460.66883333333},{"$f":"[2]cerTabGNI!K34","v":51186.0026},{"$f":"[2]cerTabGNI!L34","v":51479.33636666667},{"$f":"[2]cerTabGNI!M34","v":51796.670133333333},{"$f":"[2]cerTabGNI!N34","v":52476.403900000005},{"$f":"[2]cerTabGNI!O34","v":52278.35766666667},{"$f":"[2]cerTabGNI!P34","v":52920.507433333332},{"$f":"[2]cerTabGNI!Q34","v":53158}]
[null,"Current price GDP per capita (US$)",{"$f":"[2]cerTabGNI!C35","v":2155.6088836645604},{"$f":"[2]cerTabGNI!D35","v":2171.934716726842},{"$f":"[2]cerTabGNI!E35","v":2123.104056123007},{"$f":"[2]cerTabGNI!F35","v":2164.744211613448},{"$f":"[2]cerTabGNI!G35","v":2277.8345723916386},{"$f":"[2]cerTabGNI!H35","v":2508.3088833777751},{"$f":"[2]cerTabGNI!I35","v":2537.9346737004671},{"$f":"[2]cerTabGNI!J35","v":2599.0277928652736},{"$f":"[2]cerTabGNI!K35","v":2688.6019046467586},{"$f":"[2]cerTabGNI!L35","v":2785.9944337574157},{"$f":"[2]cerTabGNI!M35","v":2893.0167702282438},{"$f":"[2]cerTabGNI!N35","v":2910.1165110282959},{"$f":"[2]cerTabGNI!O35","v":2901.4122511851019},{"$f":"[2]cerTabGNI!P35","v":3084.2401105244207},{"$f":"[2]cerTabGNI!Q35","v":3212.0790378457364}]
[null,"Current price GNI per capita (US$)",{"$f":"[2]cerTabGNI!C36","v":2699.9034718616876},{"$f":"[2]cerTabGNI!D36","v":2815.4639546148769},{"$f":"[2]cerTabGNI!E36","v":2829.0425409795876},{"$f":"[2]cerTabGNI!F36","v":2891.1460833001333},{"$f":"[2]cerTabGNI!G36","v":3033.4605564592775},{"$f":"[2]cerTabGNI!H36","v":3261.8827185064165},{"$f":"[2]cerTabGNI!I36","v":3270.6398191511889},{"$f":"[2]cerTabGNI!J36","v":3341.4453035576566},{"$f":"[2]cerTabGNI!K36","v":3500.0380459850667},{"$f":"[2]cerTabGNI!L36","v":3594.8151883760443},{"$f":"[2]cerTabGNI!M36","v":3742.2381915227375},{"$f":"[2]cerTabGNI!N36","v":3749.0683721780101},{"$f":"[2]cerTabGNI!O36","v":3692.5092213583089},{"$f":"[2]cerTabGNI!P36","v":3757.1642695414366},{"$f":"[2]cerTabGNI!Q36","v":3948.2334062975988}]
[null,"Current price GNDI per capita (US$)",{"$f":"[2]cerTabGNI!C37","v":3197.3068947085917},{"$f":"[2]cerTabGNI!D37","v":3404.5234730697703},{"$f":"[2]cerTabGNI!E37","v":3333.0978062129293},{"$f":"[2]cerTabGNI!F37","v":3550.4094184425048},{"$f":"[2]cerTabGNI!G37","v":3862.4707705796941},{"$f":"[2]cerTabGNI!H37","v":4027.6710786574235},{"$f":"[2]cerTabGNI!I37","v":4067.5264155323362},{"$f":"[2]cerTabGNI!J37","v":4249.7646265903177},{"$f":"[2]cerTabGNI!K37","v":4624.8387058272474},{"$f":"[2]cerTabGNI!L37","v":4652.2079996668372},{"$f":"[2]cerTabGNI!M37","v":4942.0647991519345},{"$f":"[2]cerTabGNI!N37","v":4934.6059955374822},{"$f":"[2]cerTabGNI!O37","v":4844.2945106154339},{"$f":"[2]cerTabGNI!P37","v":4906.7135015608619},{"$f":"[2]cerTabGNI!Q37","v":5091.8573755738425}]
[null,"Constant price GDP per capita (US$)",{"$f":"[2]cerTabGNI!C38","v":2446.6089347093316},{"$f":"[2]cerTabGNI!D38","v":2341.2893905923247},{"$f":"[2]cerTabGNI!E38","v":2249.1495145368372},{"$f":"[2]cerTabGNI!F38","v":2363.9748962543345},{"$f":"[2]cerTabGNI!G38","v":2524.8640308770346},{"$f":"[2]cerTabGNI!H38","v":2633.7138378128275},{"$f":"[2]cerTabGNI!I38","v":2623.9275330926371},{"$f":"[2]cerTabGNI!J38","v":2599.0277928652736},{"$f":"[2]cerTabGNI!K38","v":2629.2729601360961},{"$f":"[2]cerTabGNI!L38","v":2663.1026299834912},{"$f":"[2]cerTabGNI!M38","v":2731.5216141384967},{"$f":"[2]cerTabGNI!N38","v":2645.3823804647718},{"$f":"[2]cerTabGNI!O38","v":2616.2079602935446},{"$f":"[2]cerTabGNI!P38","v":2729.0208410157816},{"$f":"[2]cerTabGNI!Q38","v":2738.8098671703956}]
[null,"Real GDI per capita",{"$f":"[2]cerTabGNI!C39","v":2446.6089347093316},{"$f":"[2]cerTabGNI!D39","v":2341.2893905923247},{"$f":"[2]cerTabGNI!E39","v":2249.1495145368372},{"$f":"[2]cerTabGNI!F39","v":2363.9748962543345},{"$f":"[2]cerTabGNI!G39","v":2524.8640308770346},{"$f":"[2]cerTabGNI!H39","v":2633.7138378128275},{"$f":"[2]cerTabGNI!I39","v":2623.9275330926371},{"$f":"[2]cerTabGNI!J39","v":2599.0277928652736},{"$f":"[2]cerTabGNI!K39","v":2629.2729601360961},{"$f":"[2]cerTabGNI!L39","v":2663.1026299834912},{"$f":"[2]cerTabGNI!M39","v":2731.5216141384967},{"$f":"[2]cerTabGNI!N39","v":2645.3823804647718},{"$f":"[2]cerTabGNI!O39","v":2616.2079602935446},{"$f":"[2]cerTabGNI!P39","v":2729.0208410157816},{"$f":"[2]cerTabGNI!Q39","v":2738.8098671703956}]
[null,"Real GNI per capita (US$)",{"$f":"[2]cerTabGNI!C40","v":3078.198793941463},{"$f":"[2]cerTabGNI!D40","v":3053.3029172464167},{"$f":"[2]cerTabGNI!E40","v":3006.4083639435275},{"$f":"[2]cerTabGNI!F40","v":3135.1721472332947},{"$f":"[2]cerTabGNI!G40","v":3327.6393949632484},{"$f":"[2]cerTabGNI!H40","v":3415.3539873331069},{"$f":"[2]cerTabGNI!I40","v":3381.0503197210787},{"$f":"[2]cerTabGNI!J40","v":3341.4453035576566},{"$f":"[2]cerTabGNI!K40","v":3407.2675908940741},{"$f":"[2]cerTabGNI!L40","v":3396.6856090789925},{"$f":"[2]cerTabGNI!M40","v":3483.6935864714042},{"$f":"[2]cerTabGNI!N40","v":3304.1356702164844},{"$f":"[2]cerTabGNI!O40","v":3253.707988971581},{"$f":"[2]cerTabGNI!P40","v":3260.4944192126331},{"$f":"[2]cerTabGNI!Q40","v":3297.5084099893929}]
[null,"Real GNDI per capita (US$)",{"$f":"[2]cerTabGNI!C41","v":3655.3769703000312},{"$f":"[2]cerTabGNI!D41","v":3705.0500647741605},{"$f":"[2]cerTabGNI!E41","v":3547.1074735345446},{"$f":"[2]cerTabGNI!F41","v":3835.0905967170152},{"$f":"[2]cerTabGNI!G41","v":4208.3780017660229},{"$f":"[2]cerTabGNI!H41","v":4209.6635830572504},{"$f":"[2]cerTabGNI!I41","v":4204.4934253482452},{"$f":"[2]cerTabGNI!J41","v":4249.7646265903177},{"$f":"[2]cerTabGNI!K41","v":4485.7121282386361},{"$f":"[2]cerTabGNI!L41","v":4355.7180821596503},{"$f":"[2]cerTabGNI!M41","v":4546.4034090077739},{"$f":"[2]cerTabGNI!N41","v":4235.031524529526},{"$f":"[2]cerTabGNI!O41","v":4181.8662080222684},{"$f":"[2]cerTabGNI!P41","v":4168.4051183132087},{"$f":"[2]cerTabGNI!Q41","v":4165.4527876220527}]
[null,"RMI Implicit Price deflators"]
[null,"Gross Domestic Product (GDP)",{"$f":"[2]cerTabGNI!C43","v":88.105984290483121},{"$f":"[2]cerTabGNI!D43","v":92.766606531171377},{"$f":"[2]cerTabGNI!E43","v":94.395861297829882},{"$f":"[2]cerTabGNI!F43","v":91.572216568096266},{"$f":"[2]cerTabGNI!G43","v":90.21612825623771},{"$f":"[2]cerTabGNI!H43","v":95.238474558830774},{"$f":"[2]cerTabGNI!I43","v":96.722742594540463},{"$f":"[2]cerTabGNI!J43","v":100},{"$f":"[2]cerTabGNI!K43","v":102.25647718628619},{"$f":"[2]cerTabGNI!L43","v":104.6146101314423},{"$f":"[2]cerTabGNI!M43","v":105.91227816956818},{"$f":"[2]cerTabGNI!N43","v":110.00740507378039},{"$f":"[2]cerTabGNI!O43","v":110.90143808214532},{"$f":"[2]cerTabGNI!P43","v":113.01636338462045},{"$f":"[2]cerTabGNI!Q43","v":117.28010316993269}]
[null,"Gross National Income (GNI)",{"$f":"[2]cerTabGNI!C44","v":87.710497358899005},{"$f":"[2]cerTabGNI!D44","v":92.210436727777022},{"$f":"[2]cerTabGNI!E44","v":94.100408145110123},{"$f":"[2]cerTabGNI!F44","v":92.216501918451016},{"$f":"[2]cerTabGNI!G44","v":91.15953372383909},{"$f":"[2]cerTabGNI!H44","v":95.506431561826787},{"$f":"[2]cerTabGNI!I44","v":96.734431903427037},{"$f":"[2]cerTabGNI!J44","v":100},{"$f":"[2]cerTabGNI!K44","v":102.72272290379898},{"$f":"[2]cerTabGNI!L44","v":105.83302672368239},{"$f":"[2]cerTabGNI!M44","v":107.42156560655525},{"$f":"[2]cerTabGNI!N44","v":113.46593319312382},{"$f":"[2]cerTabGNI!O44","v":113.48618972182018},{"$f":"[2]cerTabGNI!P44","v":115.23296121600917},{"$f":"[2]cerTabGNI!Q44","v":119.73383886867173}]
[null,"Gross National Disposable Income (GNDI)",{"$f":"[2]cerTabGNI!C45","v":87.468595460515758},{"$f":"[2]cerTabGNI!D45","v":91.888730612262094},{"$f":"[2]cerTabGNI!E45","v":93.966642710479704},{"$f":"[2]cerTabGNI!F45","v":92.576937334460681},{"$f":"[2]cerTabGNI!G45","v":91.780509473218174},{"$f":"[2]cerTabGNI!H45","v":95.676792199445643},{"$f":"[2]cerTabGNI!I45","v":96.742365941396017},{"$f":"[2]cerTabGNI!J45","v":100},{"$f":"[2]cerTabGNI!K45","v":103.1015493997659},{"$f":"[2]cerTabGNI!L45","v":106.80691247492726},{"$f":"[2]cerTabGNI!M45","v":108.70273388763165},{"$f":"[2]cerTabGNI!N45","v":116.51875474730195},{"$f":"[2]cerTabGNI!O45","v":115.84049488054875},{"$f":"[2]cerTabGNI!P45","v":117.71201124391715},{"$f":"[2]cerTabGNI!Q45","v":122.2401893667999}]
[null,"Other Price Indexes"]
[null,"Majuro CPI",{"$f":"[2]cerTabGNI!C47","v":92.206537067406856},{"$f":"[2]cerTabGNI!D47","v":94.8899741356162},{"$f":"[2]cerTabGNI!E47","v":96.666053012624261},{"$f":"[2]cerTabGNI!F47","v":97.539564485844579},{"$f":"[2]cerTabGNI!G47","v":99.344504596266532},{"$f":"[2]cerTabGNI!H47","v":98.942157186449563},{"$f":"[2]cerTabGNI!I47","v":98.003084556454695},{"$f":"[2]cerTabGNI!J47","v":100},{"$f":"[2]cerTabGNI!K47","v":103.48645025615184},{"$f":"[2]cerTabGNI!L47","v":108.92243166134263},{"$f":"[2]cerTabGNI!M47","v":111.79439963165359},{"$f":"[2]cerTabGNI!N47","v":128.20026455960493},{"$f":"[2]cerTabGNI!O47","v":128.81257326269957},{"$f":"[2]cerTabGNI!P47","v":131.08837093650251},{"$f":"[2]cerTabGNI!Q47","v":138.18212472840767}]
[null,"US CPI",{"$f":"[2]cerTabGNI!C48","v":84.718484791516033},{"$f":"[2]cerTabGNI!D48","v":86.096021129589474},{"$f":"[2]cerTabGNI!E48","v":88.032741441298029},{"$f":"[2]cerTabGNI!F48","v":91.1312023201843},{"$f":"[2]cerTabGNI!G48","v":93.682875985149465},{"$f":"[2]cerTabGNI!H48","v":95.181802000911858},{"$f":"[2]cerTabGNI!I48","v":97.370983446932826},{"$f":"[2]cerTabGNI!J48","v":100},{"$f":"[2]cerTabGNI!K48","v":103.4},{"$f":"[2]cerTabGNI!L48","v":106.7088},{"$f":"[2]cerTabGNI!M48","v":109.69664640000001},{"$f":"[2]cerTabGNI!N48","v":113.86511896320002},{"$f":"[2]cerTabGNI!O48","v":113.47797755872516},{"$f":"[2]cerTabGNI!P48","v":115.38968972004983},{"$f":"[2]cerTabGNI!Q48","v":118.45139307299306}]
[null,"US GDP deflator",{"$f":"[2]cerTabGNI!C49","v":87.785762641253982},{"$f":"[2]cerTabGNI!D49","v":88.888194552934436},{"$f":"[2]cerTabGNI!E49","v":90.098422121543507},{"$f":"[2]cerTabGNI!F49","v":91.842420455137201},{"$f":"[2]cerTabGNI!G49","v":94.026714575847521},{"$f":"[2]cerTabGNI!H49","v":95.587928969431857},{"$f":"[2]cerTabGNI!I49","v":97.533979065770964},{"$f":"[2]cerTabGNI!J49","v":100},{"$f":"[2]cerTabGNI!K49","v":103.25079414674789},{"$f":"[2]cerTabGNI!L49","v":106.76170390043222},{"$f":"[2]cerTabGNI!M49","v":109.90912878196116},{"$f":"[2]cerTabGNI!N49","v":112.4858095089309},{"$f":"[2]cerTabGNI!O49","v":114.11472165807426},{"$f":"[2]cerTabGNI!P49","v":115.15127844607613},{"$f":"[2]cerTabGNI!Q49","v":117.42852679268864}]
[" 1) GDP, GNI and GNDI are at purchasers prices."]
[" 2) Refer to Balance of Payments tables for breakdown of primary and secondary Income flows"]
[" 3) Grants not passed through the Government of the RMI may be understated"]
[" 4) Changes in the terms of trade. Not currently estimated."]
[" 5) Primary, Secondary income and capital grants are deflated by an equal weighting of the RMI CPI and the RMI GDP implicit price deflator, as a proxy for the Gross Domestic Expenditure deflator"]
[" 6) Income comparisons between countries should be made using Purchasing Power Paritys (PPP) rather than US$. However, these measures are currently not available for the RMI."]

{"sheet":"NApc","index":6,"n_rows":37,"n_cols":9,"rows_kept":37,"cut":false,"hidden":false,"merged":[]}
["Table 2b    Current and constant price RMI GDP, GDP per capita, 1981-2011"]
[null,"GDP US$ millions (old series) 1","GDP US$ millions (new series) 2","Linked Series 3","Real GDP  $ millions  4"," Real GDP annual growth","Population","GDP  per capita, Constant prices 4","Real per capita GDP annual growth"]
["FY1981",{"$f":"[3]cerNApc!B4","v":27.152000000000001},null,{"$f":"[3]cerNApc!D4","v":30.951952993579933},{"$f":"[3]cerNApc!F4","v":63.149678334384497},null,{"$f":"[3]cerNApc!H4","v":32213.852978479477},{"$f":"E3/G3*1000000","v":1960.3267692496067}]
["FY1982",{"$f":"[3]cerNApc!B5","v":30.564},null,{"$f":"[3]cerNApc!D5","v":34.841466238058963},{"$f":"[3]cerNApc!F5","v":66.200585026630037},{"$f":"E4/E3-1","v":4.831230772214945E-2},{"$f":"[3]cerNApc!H5","v":33612.940877760215},{"$f":"E4/G4*1000000","v":1969.4969644989089},{"$f":"H4/H3-1","v":4.6778911522045163E-3}]
["FY1983",{"$f":"[3]cerNApc!B6","v":36.542999999999999},null,{"$f":"[3]cerNApc!D6","v":41.65723402491129},{"$f":"[3]cerNApc!F6","v":76.466909267939315},{"$f":"E5/E4-1","v":0.15507905613189843},{"$f":"[3]cerNApc!H6","v":35072.792913241035},2180.2343901466356,{"$f":"H5/H4-1","v":0.10700063490645895}]
["FY1984",{"$f":"[3]cerNApc!B7","v":39.515000000000001},null,{"$f":"[3]cerNApc!D7","v":45.045168773619288},{"$f":"[3]cerNApc!F7","v":79.423192736212968},3.8660951470064875E-2,{"$f":"[3]cerNApc!H7","v":36596.048147306828},2170.2669210762274,-4.5717419720812114E-3]
["FY1985",{"$f":"[3]cerNApc!B8","v":38.408000000000001},null,{"$f":"[3]cerNApc!D8","v":43.783242876304435},{"$f":"[3]cerNApc!F8","v":74.45338028821601},-6.257381851297672E-2,{"$f":"[3]cerNApc!H8","v":38185.460260120446},1949.7834982487434,-0.10159276754683566]
["FY1986",{"$f":"[3]cerNApc!B9","v":49.008000000000003},null,{"$f":"[3]cerNApc!D9","v":55.866724819879394},{"$f":"[3]cerNApc!F9","v":92.72611391136887},0.24542517146189202,{"$f":"[3]cerNApc!H9","v":39843.902527616068},2327.2347342758353,0.19358622963324446]
["FY1987",{"$f":"[3]cerNApc!B10","v":55.13},null,{"$f":"[3]cerNApc!D10","v":62.845505617857306},{"$f":"[3]cerNApc!F10","v":101.40882116222423},9.3638209179720544E-2,{"$f":"[3]cerNApc!H10","v":41574.373015693032},2439.2146845833504,4.811717041614183E-2]
["FY1988",{"$f":"[3]cerNApc!B11","v":61.874000000000002},null,{"$f":"[3]cerNApc!D11","v":70.533336016675193},{"$f":"[3]cerNApc!F11","v":109.30754022865257},7.7889861807906469E-2,{"$f":"[3]cerNApc!H11","v":43380},2519.7681011676482,3.3024324219357304E-2]
["FY1989",{"$f":"[3]cerNApc!B12","v":63.720999999999997},null,{"$f":"[3]cerNApc!D12","v":72.638825747786782},{"$f":"[3]cerNApc!F12","v":107.45850819248727},-1.6915869045241005E-2,{"$f":"[3]cerNApc!H12","v":43734},2457.093067007072,-2.487333422926219E-2]
["FY1990",{"$f":"[3]cerNApc!B13","v":68.691000000000003},null,{"$f":"[3]cerNApc!D13","v":78.304382847745984},{"$f":"[3]cerNApc!F13","v":110.33440136110593},2.6762824247170469E-2,{"$f":"[3]cerNApc!H13","v":44392.284168000006},2485.4409595945062,1.1537166812311206E-2]
["FY1991",{"$f":"[3]cerNApc!B14","v":72.219200000000001},null,{"$f":"[3]cerNApc!D14","v":82.326358413153642},{"$f":"[3]cerNApc!F14","v":110.4313552970646},8.7872807358913008E-4,{"$f":"[3]cerNApc!H14","v":45060.476829296742},2450.7365005348988,-1.3963099354920683E-2]
["FY1992",{"$f":"[3]cerNApc!B15","v":79.708500000000001},null,{"$f":"[3]cerNApc!D15","v":90.863794386740054},{"$f":"[3]cerNApc!F15","v":118.31698834286395},7.1407554716563126E-2,{"$f":"[3]cerNApc!H15","v":45738.727126531317},2586.8010715635487,5.5519869638760655E-2]
["FY1993",{"$f":"[3]cerNApc!B16","v":87.059399999999997},null,{"$f":"[3]cerNApc!D16","v":99.243461124383927},{"$f":"[3]cerNApc!F16","v":125.42342058581413},6.0062653237562547E-2,{"$f":"[3]cerNApc!H16","v":46427.186447239867},2701.5081072885182,4.4343199400190825E-2]
["FY1994",{"$f":"[3]cerNApc!B17","v":94.596174000000005},null,{"$f":"[3]cerNApc!D17","v":107.83501513776179},{"$f":"[3]cerNApc!F17","v":132.79549486185178},5.8777493402786929E-2,{"$f":"[3]cerNApc!H17","v":47126.008457643722},2817.8812339094393,4.3077096939651227E-2]
["FY1995",{"$f":"[3]cerNApc!B18","v":105.2388},null,{"$f":"[3]cerNApc!D18","v":119.96708863806569},{"$f":"[3]cerNApc!F18","v":143.70225005086007},8.2131966904108289E-2,{"$f":"[3]cerNApc!H18","v":47835.349136948178},3004.1016245006144,6.6085251695586544E-2]
["FY1996",{"$f":"[3]cerNApc!B19","v":97.035699999999991},null,{"$f":"[3]cerNApc!D19","v":110.61595555020344},{"$f":"[3]cerNApc!F19","v":128.89670920700723},-0.10302929034592545,{"$f":"[3]cerNApc!H19","v":48555.366812157525},2654.6336207418676,-0.11633028686798852]
["FY1997",{"$f":"[3]cerNApc!B20","v":92.183899999999994},{"$f":"[3]cerNApc!C20","v":106.24181840238887},{"$f":"[3]cerNApc!D20","v":106.24181840238887},{"$f":"[3]cerNApc!F20","v":120.5841115764763},-6.4490379014882082E-2,{"$f":"[3]cerNApc!H20","v":49286.22219341412},2446.6089347093312,-7.8362861227682989E-2]
["FY1998",{"$f":"[3]cerNApc!B21","v":95.659300000000002},{"$f":"[3]cerNApc!C21","v":108.65772030952792},{"$f":"[3]cerNApc!D21","v":108.65772030952792},{"$f":"[3]cerNApc!F21","v":117.13020921274816},-2.8643096661516876E-2,{"$f":"[3]cerNApc!H21","v":50028.078409869391},2341.2893905923247,-4.3047150945485613E-2]
["FY1999",{"$f":"[3]cerNApc!B22","v":95.360300000000009},{"$f":"[3]cerNApc!C22","v":107.9386102132937},{"$f":"[3]cerNApc!D22","v":107.9386102132937},{"$f":"[3]cerNApc!F22","v":114.34676131905282},-2.3763706326517808E-2,{"$f":"[3]cerNApc!H22","v":50840},2249.1495145368372,-3.9354330321454634E-2]
["FY2000",{"$f":"[3]cerNApc!B23","v":98.848600000000005},{"$f":"[3]cerNApc!C23","v":110.90273322462824},{"$f":"[3]cerNApc!D23","v":110.90273322462824},{"$f":"[3]cerNApc!F23","v":121.10958692602698},5.9143132074413352E-2,{"$f":"[3]cerNApc!H23","v":51231.333766666663},2363.974896254334,5.1052800614343585E-2]
["FY2001",{"$f":"[3]cerNApc!B24","v":99.173789989559936},{"$f":"[3]cerNApc!C24","v":115.12100198460594},{"$f":"[3]cerNApc!D24","v":115.12100198460594},{"$f":"[3]cerNApc!F24","v":127.60578868739722},5.3639038215348656E-2,{"$f":"[3]cerNApc!H24","v":50539.667533333333},2524.864030877035,6.8058732297718638E-2]
["FY2002",null,{"$f":"[3]cerNApc!C25","v":124.69807108904428},{"$f":"[3]cerNApc!D25","v":124.69807108904428},{"$f":"[3]cerNApc!F25","v":130.9324531568549},2.6069855479732063E-2,{"$f":"[3]cerNApc!H25","v":49714.001300000004},2633.7138378128275,4.3111155929447253E-2]
["FY2003",null,{"$f":"[3]cerNApc!C26","v":126.88489438896616},{"$f":"[3]cerNApc!D26","v":126.88489438896616},{"$f":"[3]cerNApc!F26","v":131.18413620761845},1.9222358146917529E-3,{"$f":"[3]cerNApc!H26","v":49995.335066666667},2623.9275330926366,-3.7157813349676383E-3]
["FY2004",null,{"$f":"[3]cerNApc!C27","v":131.14868074440386},{"$f":"[3]cerNApc!D27","v":131.14868074440386},{"$f":"[3]cerNApc!F27","v":131.14868074440386},-2.7027249055844305E-4,{"$f":"[3]cerNApc!H27","v":50460.66883333333},2599.027792865274,-9.4894923405202114E-3]
["FY2005",null,{"$f":"[3]cerNApc!C28","v":137.61878408161394},{"$f":"[3]cerNApc!D28","v":137.61878408161394},{"$f":"[3]cerNApc!F28","v":134.58197257363591},2.6178622687964337E-2,{"$f":"[3]cerNApc!H28","v":51186.0026},2629.2729601360961,1.1637108057809042E-2]
["FY2006",null,{"$f":"[3]cerNApc!C29","v":143.42114457105907},{"$f":"[3]cerNApc!D29","v":143.42114457105907},{"$f":"[3]cerNApc!F29","v":137.09475606787478},1.867102588992009E-2,{"$f":"[3]cerNApc!H29","v":51479.33636666667},2663.1026299834912,1.286654917930008E-2]
["FY2007",null,{"$f":"[3]cerNApc!C30","v":149.84863533771369},{"$f":"[3]cerNApc!D30","v":149.84863533771369},{"$f":"[3]cerNApc!F30","v":141.48372400960193},3.2014119778251748E-2,{"$f":"[3]cerNApc!H30","v":51796.670133333333},2731.5216141384967,2.5691456042544525E-2]
["FY2008",null,{"$f":"[3]cerNApc!C31","v":152.71244942877965},{"$f":"[3]cerNApc!D31","v":152.71244942877965},{"$f":"[3]cerNApc!F31","v":138.82015426721287},-1.8825979885914612E-2,{"$f":"[3]cerNApc!H31","v":52476.403900000005},2645.3823804647723,-3.1535256110683307E-2]
["FY2009",null,{"$f":"[3]cerNApc!C32","v":151.68106740590326},{"$f":"[3]cerNApc!D32","v":151.68106740590326},{"$f":"[3]cerNApc!F32","v":136.7710554786064},-1.476081624763359E-2,{"$f":"[3]cerNApc!H32","v":52278.35766666667},2616.2079602935446,-1.102843217928362E-2]
["FY2010",null,{"$f":"[3]cerNApc!C33","v":163.21955169519242},{"$f":"[3]cerNApc!D33","v":163.21955169519242},{"$f":"[3]cerNApc!F33","v":144.4211677026972},{"$f":"E32/E31-1","v":5.5933707591277804E-2},{"$f":"[3]cerNApc!H33","v":52920.507433333332},2729.0208410157807,{"$f":"H32/H31-1","v":4.3120761970916854E-2}]
["FY2011",null,{"$f":"[3]cerNApc!C34","v":170.74769749380366},{"$f":"[3]cerNApc!D34","v":170.74769749380366},{"$f":"[3]cerNApc!F34","v":145.58965491904391},{"$f":"E33/E32-1","v":8.0908306928533236E-3},{"$f":"[3]cerNApc!H34","v":53158},{"$f":"E33/G33*1000000","v":2738.809867170396},{"$f":"H33/H32-1","v":3.5870104058903785E-3}]
["Notes","1 GDP estimates old series 1981-2001"]
[null,"2 GDP estimates, EPPSO from 1997"]
[null,"3 Series linked based on differential between the average figures 1997-1999"]
[null,"4 Constant price GDP is in 2004 prices. U.S. CPI used as deflator for 1981-1997"]

{"sheet":"NAInd","index":7,"n_rows":146,"n_cols":17,"rows_kept":146,"cut":false,"hidden":false,"merged":[]}
["Table 2c    RMI Constant price GDP by industry, FY2004-FY2011"]
[null,"(constant prices of FY2004, US$ millions)","FY1997","FY1998","FY1999","FY2000","FY2001","FY2002","FY2003","FY2004","FY2005","FY2006","FY2007","FY2008","FY2009","FY2010","FY2011"]
["A","Agriculture, Hunting and Forestry",{"$f":"[3]cerNAind!C3","v":4.5072880890699398},{"$f":"[3]cerNAind!D3","v":4.0769154344727303},{"$f":"[3]cerNAind!E3","v":3.8658084838622608},{"$f":"[3]cerNAind!F3","v":3.7670413921519912},{"$f":"[3]cerNAind!G3","v":4.1392638707584268},{"$f":"[3]cerNAind!H3","v":3.4652956383762148},{"$f":"[3]cerNAind!I3","v":3.7566752857944183},{"$f":"[3]cerNAind!J3","v":3.9200083154202994},{"$f":"[3]cerNAind!K3","v":3.965399387860979},{"$f":"[3]cerNAind!L3","v":3.929807708054208},{"$f":"[3]cerNAind!M3","v":4.3100531365126526},{"$f":"[3]cerNAind!N3","v":4.6143754898242442},{"$f":"[3]cerNAind!O3","v":4.4580838508590661},{"$f":"[3]cerNAind!P3","v":4.2048342528564993},{"$f":"[3]cerNAind!Q3","v":3.8699219445489725}]
["B","Fisheries (1)",{"$f":"[3]cerNAind!C4","v":5.3614520185854078},{"$f":"[3]cerNAind!D4","v":5.4424059881937445},{"$f":"[3]cerNAind!E4","v":5.2706302000171235},{"$f":"[3]cerNAind!F4","v":7.4859843317845733},{"$f":"[3]cerNAind!G4","v":7.6615639882110127},{"$f":"[3]cerNAind!H4","v":8.2210999735348196},{"$f":"[3]cerNAind!I4","v":9.1933103733933343},{"$f":"[3]cerNAind!J4","v":8.223696121252658},{"$f":"[3]cerNAind!K4","v":7.04277720061053},{"$f":"[3]cerNAind!L4","v":7.3676674043676416},{"$f":"[3]cerNAind!M4","v":7.9292238889614159},{"$f":"[3]cerNAind!N4","v":7.404449259896225},{"$f":"[3]cerNAind!O4","v":9.0862892350704438},{"$f":"[3]cerNAind!P4","v":12.635384628167103},{"$f":"[3]cerNAind!Q4","v":13.77291678025504}]
["C","Mining and Quarrying",{"$f":"[3]cerNAind!C5","v":0},{"$f":"[3]cerNAind!D5","v":0},{"$f":"[3]cerNAind!E5","v":0},{"$f":"[3]cerNAind!F5","v":0},{"$f":"[3]cerNAind!G5","v":0},{"$f":"[3]cerNAind!H5","v":0},{"$f":"[3]cerNAind!I5","v":0},{"$f":"[3]cerNAind!J5","v":0},{"$f":"[3]cerNAind!K5","v":0},{"$f":"[3]cerNAind!L5","v":0},{"$f":"[3]cerNAind!M5","v":0},{"$f":"[3]cerNAind!N5","v":0},{"$f":"[3]cerNAind!O5","v":0},{"$f":"[3]cerNAind!P5","v":0},{"$f":"[3]cerNAind!Q5","v":0}]
["D","Manufacturing",{"$f":"[3]cerNAind!C6","v":3.8845877514496965},{"$f":"[3]cerNAind!D6","v":3.4948171330604012},{"$f":"[3]cerNAind!E6","v":2.9390640791824136},{"$f":"[3]cerNAind!F6","v":3.2735496722283597},{"$f":"[3]cerNAind!G6","v":3.7000887460775922},{"$f":"[3]cerNAind!H6","v":2.7868475837641218},{"$f":"[3]cerNAind!I6","v":3.3551274564099609},{"$f":"[3]cerNAind!J6","v":3.6545389226365828},{"$f":"[3]cerNAind!K6","v":3.6932466863442142},{"$f":"[3]cerNAind!L6","v":3.630376893512222},{"$f":"[3]cerNAind!M6","v":4.2821849073373883},{"$f":"[3]cerNAind!N6","v":4.6148765500421636},{"$f":"[3]cerNAind!O6","v":4.1407615379787499},{"$f":"[3]cerNAind!P6","v":3.6673337526848355},{"$f":"[3]cerNAind!Q6","v":3.2996325702824469}]
["E","Electricity, Gas and Water Supply",{"$f":"[3]cerNAind!C7","v":1.6482650794209526},{"$f":"[3]cerNAind!D7","v":1.6152550539921378},{"$f":"[3]cerNAind!E7","v":1.7432102114951},{"$f":"[3]cerNAind!F7","v":1.7538459348056881},{"$f":"[3]cerNAind!G7","v":1.8483399904811972},{"$f":"[3]cerNAind!H7","v":1.8786982405727304},{"$f":"[3]cerNAind!I7","v":1.8467230000114618},{"$f":"[3]cerNAind!J7","v":1.9400640000000022},{"$f":"[3]cerNAind!K7","v":2.3364392983336408},{"$f":"[3]cerNAind!L7","v":1.9951569551306823},{"$f":"[3]cerNAind!M7","v":2.1859218538565655},{"$f":"[3]cerNAind!N7","v":2.3502783378532515},{"$f":"[3]cerNAind!O7","v":2.3391980112459057},{"$f":"[3]cerNAind!P7","v":2.3127853533073077},{"$f":"[3]cerNAind!Q7","v":2.3014339799563897}]
["F","Construction",{"$f":"[3]cerNAind!C8","v":7.7006322097624169},{"$f":"[3]cerNAind!D8","v":9.641539128774772},{"$f":"[3]cerNAind!E8","v":9.513997823748765},{"$f":"[3]cerNAind!F8","v":7.1196913603619318},{"$f":"[3]cerNAind!G8","v":8.5357974372140628},{"$f":"[3]cerNAind!H8","v":8.6763508321902432},{"$f":"[3]cerNAind!I8","v":7.9079545813494683},{"$f":"[3]cerNAind!J8","v":7.0706577627238643},{"$f":"[3]cerNAind!K8","v":7.2089813103008149},{"$f":"[3]cerNAind!L8","v":10.595876504286036},{"$f":"[3]cerNAind!M8","v":9.314375095791803},{"$f":"[3]cerNAind!N8","v":9.3385325936702213},{"$f":"[3]cerNAind!O8","v":8.6224273163111089},{"$f":"[3]cerNAind!P8","v":8.1906827337071295},{"$f":"[3]cerNAind!Q8","v":7.6660057633438079}]
["G","Wholesale and Retail Trade and Repairs",{"$f":"[3]cerNAind!C9","v":15.861326135509897},{"$f":"[3]cerNAind!D9","v":14.726981196428826},{"$f":"[3]cerNAind!E9","v":14.158923443610034},{"$f":"[3]cerNAind!F9","v":16.951475606634737},{"$f":"[3]cerNAind!G9","v":18.238490474210611},{"$f":"[3]cerNAind!H9","v":19.290588570142937},{"$f":"[3]cerNAind!I9","v":18.136880704481346},{"$f":"[3]cerNAind!J9","v":19.15975003609476},{"$f":"[3]cerNAind!K9","v":19.43120239680453},{"$f":"[3]cerNAind!L9","v":17.74314894904456},{"$f":"[3]cerNAind!M9","v":18.340785259680722},{"$f":"[3]cerNAind!N9","v":18.166200034193743},{"$f":"[3]cerNAind!O9","v":17.558502533356943},{"$f":"[3]cerNAind!P9","v":18.495083032307896},{"$f":"[3]cerNAind!Q9","v":19.054636477865557}]
["H","Hotels and Restaurants",{"$f":"[3]cerNAind!C10","v":4.6983148305421922},{"$f":"[3]cerNAind!D10","v":4.1270064254109631},{"$f":"[3]cerNAind!E10","v":3.937215733991251},{"$f":"[3]cerNAind!F10","v":4.7513681311941038},{"$f":"[3]cerNAind!G10","v":5.4186159571245245},{"$f":"[3]cerNAind!H10","v":5.1972430079790541},{"$f":"[3]cerNAind!I10","v":4.5044656759300281},{"$f":"[3]cerNAind!J10","v":3.9983869852849385},{"$f":"[3]cerNAind!K10","v":4.2297843727015998},{"$f":"[3]cerNAind!L10","v":3.3456235646253747},{"$f":"[3]cerNAind!M10","v":4.1619120768999371},{"$f":"[3]cerNAind!N10","v":3.8392990627016359},{"$f":"[3]cerNAind!O10","v":3.7657670191150503},{"$f":"[3]cerNAind!P10","v":3.4204117235442828},{"$f":"[3]cerNAind!Q10","v":3.4043053427602108}]
["I","Transport, Storage and Communications",{"$f":"[3]cerNAind!C11","v":10.039089779279857},{"$f":"[3]cerNAind!D11","v":9.5934449876175094},{"$f":"[3]cerNAind!E11","v":8.9686089480050377},{"$f":"[3]cerNAind!F11","v":9.7883856334794519},{"$f":"[3]cerNAind!G11","v":10.40103291170124},{"$f":"[3]cerNAind!H11","v":12.074969490724596},{"$f":"[3]cerNAind!I11","v":12.364026649722099},{"$f":"[3]cerNAind!J11","v":12.116230004958028},{"$f":"[3]cerNAind!K11","v":11.422505812840269},{"$f":"[3]cerNAind!L11","v":11.665545804437425},{"$f":"[3]cerNAind!M11","v":13.24908978756674},{"$f":"[3]cerNAind!N11","v":10.225734774453775},{"$f":"[3]cerNAind!O11","v":10.720217601801682},{"$f":"[3]cerNAind!P11","v":11.162937812029032},{"$f":"[3]cerNAind!Q11","v":10.289653157168727}]
["J","Financial Intermediation",{"$f":"[3]cerNAind!C12","v":4.7755264161994981},{"$f":"[3]cerNAind!D12","v":5.0491686078828186},{"$f":"[3]cerNAind!E12","v":5.2450608335717517},{"$f":"[3]cerNAind!F12","v":5.3554769068380077},{"$f":"[3]cerNAind!G12","v":5.9146134413803466},{"$f":"[3]cerNAind!H12","v":5.8445470296901378},{"$f":"[3]cerNAind!I12","v":5.6664535130280598},{"$f":"[3]cerNAind!J12","v":6.0725377326848626},{"$f":"[3]cerNAind!K12","v":6.1110314772660237},{"$f":"[3]cerNAind!L12","v":6.2777909119463384},{"$f":"[3]cerNAind!M12","v":6.8786750553873546},{"$f":"[3]cerNAind!N12","v":7.3330574077785711},{"$f":"[3]cerNAind!O12","v":7.5660570471734445},{"$f":"[3]cerNAind!P12","v":7.9403706424921241},{"$f":"[3]cerNAind!Q12","v":7.7818136940974147}]
["K","Real Estate, Renting, Business Activities",{"$f":"[3]cerNAind!C13","v":11.111745014224738},{"$f":"[3]cerNAind!D13","v":10.043803006679372},{"$f":"[3]cerNAind!E13","v":9.6486532401931075},{"$f":"[3]cerNAind!F13","v":9.9934256471945986},{"$f":"[3]cerNAind!G13","v":10.078108144411859},{"$f":"[3]cerNAind!H13","v":10.096085297466404},{"$f":"[3]cerNAind!I13","v":10.0678846718895},{"$f":"[3]cerNAind!J13","v":9.7032802103730535},{"$f":"[3]cerNAind!K13","v":9.782105800819572},{"$f":"[3]cerNAind!L13","v":9.8857684106119343},{"$f":"[3]cerNAind!M13","v":10.024924325233311},{"$f":"[3]cerNAind!N13","v":10.16524822451219},{"$f":"[3]cerNAind!O13","v":10.495094609638652},{"$f":"[3]cerNAind!P13","v":10.614133865217264},{"$f":"[3]cerNAind!Q13","v":10.827454384179864}]
["L","Public Administration",{"$f":"[3]cerNAind!C14","v":21.93751595625557},{"$f":"[3]cerNAind!D14","v":21.500853437696662},{"$f":"[3]cerNAind!E14","v":20.88405673046125},{"$f":"[3]cerNAind!F14","v":21.02448921579197},{"$f":"[3]cerNAind!G14","v":20.836830933563121},{"$f":"[3]cerNAind!H14","v":19.973184204950719},{"$f":"[3]cerNAind!I14","v":20.148166041878323},{"$f":"[3]cerNAind!J14","v":21.179838912506764},{"$f":"[3]cerNAind!K14","v":21.794886692540128},{"$f":"[3]cerNAind!L14","v":22.385113909841447},{"$f":"[3]cerNAind!M14","v":22.053764353543539},{"$f":"[3]cerNAind!N14","v":22.76486406363939},{"$f":"[3]cerNAind!O14","v":21.746693661590356},{"$f":"[3]cerNAind!P14","v":21.620704920489906},{"$f":"[3]cerNAind!Q14","v":21.46111050667248}]
["M","Education",{"$f":"[3]cerNAind!C15","v":14.447422918837528},{"$f":"[3]cerNAind!D15","v":13.029679976474887},{"$f":"[3]cerNAind!E15","v":13.456809063783766},{"$f":"[3]cerNAind!F15","v":13.634281380975411},{"$f":"[3]cerNAind!G15","v":15.265005672071521},{"$f":"[3]cerNAind!H15","v":17.425804876869702},{"$f":"[3]cerNAind!I15","v":17.472680136602726},{"$f":"[3]cerNAind!J15","v":16.999353679274371},{"$f":"[3]cerNAind!K15","v":18.26333788094599},{"$f":"[3]cerNAind!L15","v":18.511624765200803},{"$f":"[3]cerNAind!M15","v":19.771279974605079},{"$f":"[3]cerNAind!N15","v":19.543539521419827},{"$f":"[3]cerNAind!O15","v":19.974295618788215},{"$f":"[3]cerNAind!P15","v":21.106455415341745},{"$f":"[3]cerNAind!Q15","v":22.048492558196827}]
["N","Health and Social Work",{"$f":"[3]cerNAind!C16","v":7.8442002573758964},{"$f":"[3]cerNAind!D16","v":7.3472545829608888},{"$f":"[3]cerNAind!E16","v":6.7398940939697081},{"$f":"[3]cerNAind!F16","v":6.5925650106153686},{"$f":"[3]cerNAind!G16","v":6.5086493713297093},{"$f":"[3]cerNAind!H16","v":6.8297020472994667},{"$f":"[3]cerNAind!I16","v":7.6394114496898782},{"$f":"[3]cerNAind!J16","v":8.3860163676355839},{"$f":"[3]cerNAind!K16","v":9.1895634853332719},{"$f":"[3]cerNAind!L16","v":9.5969581621368203},{"$f":"[3]cerNAind!M16","v":9.6410827435038424},{"$f":"[3]cerNAind!N16","v":9.3393500473604512},{"$f":"[3]cerNAind!O16","v":8.9021081835418201},{"$f":"[3]cerNAind!P16","v":9.4746575100828156},{"$f":"[3]cerNAind!Q16","v":9.7407442052627999}]
["O","Other Community, Social, Personal Services",{"$f":"[3]cerNAind!C17","v":0.37124164754385036},{"$f":"[3]cerNAind!D17","v":0.51821609062002461},{"$f":"[3]cerNAind!E17","v":0.57783084245001504},{"$f":"[3]cerNAind!F17","v":0.70434343435815649},{"$f":"[3]cerNAind!G17","v":0.77756913176172671},{"$f":"[3]cerNAind!H17","v":0.66060495911573591},{"$f":"[3]cerNAind!I17","v":0.62046508791278865},{"$f":"[3]cerNAind!J17","v":0.63919664824077382},{"$f":"[3]cerNAind!K17","v":0.63285621392832125},{"$f":"[3]cerNAind!L17","v":0.63356236717921943},{"$f":"[3]cerNAind!M17","v":0.69061328653680842},{"$f":"[3]cerNAind!N17","v":0.96677206743944855},{"$f":"[3]cerNAind!O17","v":1.0600688502323501},{"$f":"[3]cerNAind!P17","v":1.2090786783461933},{"$f":"[3]cerNAind!Q17","v":1.3499305832490271}]
[null,"less intermediate FISIM",{"$f":"[3]cerNAind!C18","v":-2.4041909070641041},{"$f":"[3]cerNAind!D18","v":-2.4656826043172475},{"$f":"[3]cerNAind!E18","v":-2.551250317397471},{"$f":"[3]cerNAind!F18","v":-2.6325521938289067},{"$f":"[3]cerNAind!G18","v":-2.7211497143570558},{"$f":"[3]cerNAind!H18","v":-2.7946432149439655},{"$f":"[3]cerNAind!I18","v":-2.7306066827707043},{"$f":"[3]cerNAind!J18","v":-2.8393505586826855},{"$f":"[3]cerNAind!K18","v":-2.8102742249895547},{"$f":"[3]cerNAind!L18","v":-2.6935448602218988},{"$f":"[3]cerNAind!M18","v":-3.0090850859373917},{"$f":"[3]cerNAind!N18","v":-3.3334363718489},{"$f":"[3]cerNAind!O18","v":-3.5742414000063669},{"$f":"[3]cerNAind!P18","v":-3.6787898884343471},{"$f":"[3]cerNAind!Q18","v":-3.5345055121449591}]
[null,"GDP at basic prices",{"$f":"[3]cerNAind!C19","v":111.78441719699335},{"$f":"[3]cerNAind!D19","v":107.74165844594849},{"$f":"[3]cerNAind!E19","v":104.3985134109441},{"$f":"[3]cerNAind!F19","v":109.56337146458544},{"$f":"[3]cerNAind!G19","v":116.60282035593988},{"$f":"[3]cerNAind!H19","v":119.62637853773292},{"$f":"[3]cerNAind!I19","v":119.9496179453227},{"$f":"[3]cerNAind!J19","v":120.22420514040385},{"$f":"[3]cerNAind!K19","v":122.29384379164033},{"$f":"[3]cerNAind!L19","v":124.87047745015282},{"$f":"[3]cerNAind!M19","v":129.82480065947976},{"$f":"[3]cerNAind!N19","v":127.33314106293622},{"$f":"[3]cerNAind!O19","v":126.86132367669742},{"$f":"[3]cerNAind!P19","v":132.3760644321398},{"$f":"[3]cerNAind!Q19","v":133.33354643569459}]
[null,"Taxes on products",{"$f":"[3]cerNAind!C20","v":12.20270028199187},{"$f":"[3]cerNAind!D20","v":12.51019172840855},{"$f":"[3]cerNAind!E20","v":12.660549944559035},{"$f":"[3]cerNAind!F20","v":14.280993252529987},{"$f":"[3]cerNAind!G20","v":14.068711597748729},{"$f":"[3]cerNAind!H20","v":14.095694957900285},{"$f":"[3]cerNAind!I20","v":14.072625861565427},{"$f":"[3]cerNAind!J20","v":14.009451604000001},{"$f":"[3]cerNAind!K20","v":15.340223674758617},{"$f":"[3]cerNAind!L20","v":15.183971446753675},{"$f":"[3]cerNAind!M20","v":16.411606876488211},{"$f":"[3]cerNAind!N20","v":15.887884382646307},{"$f":"[3]cerNAind!O20","v":14.212301781931259},{"$f":"[3]cerNAind!P20","v":15.844348217572351},{"$f":"[3]cerNAind!Q20","v":15.447791431064996}]
[null,"less subsidies",{"$f":"[3]cerNAind!C21","v":-3.4030059025088861},{"$f":"[3]cerNAind!D21","v":-3.12164096160889},{"$f":"[3]cerNAind!E21","v":-2.7123020364503265},{"$f":"[3]cerNAind!F21","v":-2.7347777910884341},{"$f":"[3]cerNAind!G21","v":-3.065743266291403},{"$f":"[3]cerNAind!H21","v":-2.7896203387782781},{"$f":"[3]cerNAind!I21","v":-2.8381075992696552},{"$f":"[3]cerNAind!J21","v":-3.0849760000000002},{"$f":"[3]cerNAind!K21","v":-3.0520948927630314},{"$f":"[3]cerNAind!L21","v":-2.9596928290317259},{"$f":"[3]cerNAind!M21","v":-4.7526835263660363},{"$f":"[3]cerNAind!N21","v":-4.4008711783696839},{"$f":"[3]cerNAind!O21","v":-4.3025699800222581},{"$f":"[3]cerNAind!P21","v":-3.7992449470149121},{"$f":"[3]cerNAind!Q21","v":-3.1916829477156825}]
[null,"GDP at purchasers prices",{"$f":"[3]cerNAind!C22","v":120.58411157647633},{"$f":"[3]cerNAind!D22","v":117.13020921274814},{"$f":"[3]cerNAind!E22","v":114.34676131905282},{"$f":"[3]cerNAind!F22","v":121.10958692602699},{"$f":"[3]cerNAind!G22","v":127.60578868739719},{"$f":"[3]cerNAind!H22","v":130.9324531568549},{"$f":"[3]cerNAind!I22","v":131.18413620761848},{"$f":"[3]cerNAind!J22","v":131.14868074440383},{"$f":"[3]cerNAind!K22","v":134.58197257363591},{"$f":"[3]cerNAind!L22","v":137.09475606787478},{"$f":"[3]cerNAind!M22","v":141.48372400960193},{"$f":"[3]cerNAind!N22","v":138.82015426721284},{"$f":"[3]cerNAind!O22","v":136.7710554786064},{"$f":"[3]cerNAind!P22","v":144.42116770269726},{"$f":"[3]cerNAind!Q22","v":145.58965491904388}]
["memo: GDP excluding offshore fishing vessels",null,{"$f":"[3]cerNAind!C23","v":120.58411157647633},{"$f":"[3]cerNAind!D23","v":117.13020921274814},{"$f":"[3]cerNAind!E23","v":114.34676131905282},{"$f":"[3]cerNAind!F23","v":121.10958692602699},{"$f":"[3]cerNAind!G23","v":127.60578868739719},{"$f":"[3]cerNAind!H23","v":130.9324531568549},{"$f":"[3]cerNAind!I23","v":131.18413620761848},{"$f":"[3]cerNAind!J23","v":131.14868074440383},{"$f":"[3]cerNAind!K23","v":134.58197257363591},{"$f":"[3]cerNAind!L23","v":137.09475606787478},{"$f":"[3]cerNAind!M23","v":141.48372400960193},{"$f":"[3]cerNAind!N23","v":138.82015426721284},{"$f":"[3]cerNAind!O23","v":135.9069652568167},{"$f":"[3]cerNAind!P23","v":140.78741267999666},{"$f":"[3]cerNAind!Q23","v":140.40062360276661}]
[]
["Table 2d    RMI Constant price GDP by industry, annual % growth, FY2004-FY2011"]
[null,null,{"$f":"C2","v":"FY1997"},{"$f":"D2","v":"FY1998"},"FY1999","FY2000","FY2001","FY2002","FY2003","FY2004","FY2005","FY2006","FY2007","FY2008","FY2009","FY2010",{"$f":"Q2","v":"FY2011"}]
["A","Agriculture, Hunting and Forestry",null,{"$f":"IF(C3>0.1,D3/C3-1,\"\")","v":-9.5483724601685083E-2},{"$f":"IF(D3>0.1,E3/D3-1,\"\")","v":-5.1781047216588161E-2},-2.5548883790433741E-2,9.881029695662491E-2,-0.16282321046102399,8.4085076087401234E-2,4.3478080270475505E-2,1.1579330651448672E-2,-8.9755599185609158E-3,9.6759296308347453E-2,7.0607564146604629E-2,-3.3870594040263269E-2,{"$f":"IF(O3>0.1,P3/O3-1,\"\")","v":-5.6806826985491998E-2},-7.9649348385137486E-2]
["B","Fisheries (1)",null,{"$f":"IF(C4>0.1,D4/C4-1,\"\")","v":1.5099262164001592E-2},-3.1562472286936316E-2,0.42032053999164143,2.3454451498241768E-2,7.3031561987183746E-2,0.11825794638043963,-0.10546954391389518,-0.14359953276851467,4.6130978519233423E-2,7.6219032941263976E-2,-6.6182344755802647E-2,0.22713910463042186,0.39059898945305194,9.0027504944497183E-2]
["C","Mining and Quarrying",null,"","","","","","","","","","","","","",""]
["D","Manufacturing",null,-0.10033770462356939,-0.15902206974455235,0.11380683919589574,0.13029864109527334,-0.24681601577302259,0.20391494531548027,8.923996781540966E-2,1.0591695567359061E-2,-1.7022906448262209E-2,0.17954279485141056,7.7692031031802999E-2,-0.10273622856912212,-0.11433350627696637,-0.10026389938826719]
["E","Electricity, Gas and Water Supply",null,-2.0027133888204096E-2,7.9216689145604757E-2,6.1012282055565858E-3,5.387819636847313E-2,1.6424602750508832E-2,-1.7019891683893174E-2,5.0544125993969402E-2,0.20431042395180676,-0.14606942429292413,9.5613980762424777E-2,7.5188636641660311E-2,-4.7144742088149894E-3,-1.1291330537909428E-2,-4.9080963500073294E-3]
["F","Construction",null,0.25204513943047235,-1.3228313791245783E-2,-0.25166144745274011,0.19889992489507891,1.6466346115876718E-2,-8.8562146195142022E-2,-0.10588032720879914,1.9563038152714096E-2,0.4698160597456027,-0.12094340736944842,2.5935715096263579E-3,-7.6682848207275889E-2,-5.007227857835872E-2,-6.4057782168038035E-2]
["G","Wholesale and Retail Trade and Repairs",null,-7.1516399662291286E-2,-3.8572586278343368E-2,0.19722913074192738,7.5923471055943992E-2,5.768559066990786E-2,-5.9806773726294948E-2,5.6397202378944744E-2,1.4167844580351252E-2,-8.687333975984779E-2,3.3682651954987097E-2,-9.5189613211805746E-3,-3.3452097835152461E-2,5.334056803373044E-2,3.025417320810142E-2]
["H","Hotels and Restaurants",null,-0.12159857858339806,-4.5987495985255866E-2,0.20678379144277348,0.14043277799287868,-4.0854150007513246E-2,-0.13329708289288023,-0.11235043777763953,5.7872684226979887E-2,-0.20903212319343456,0.24398695684281679,-7.7515576551680621E-2,-1.9152465693788034E-2,-9.1709150836401299E-2,-4.7089011750264254E-3]
["I","Transport, Storage and Communications",null,-4.4390955899421769E-2,-6.5131560187082216E-2,9.1405109780905658E-2,6.2589205325782826E-2,0.16093945603615634,2.3938541560667437E-2,-2.004174301659567E-2,-5.7255779383016292E-2,2.1277292003996973E-2,0.13574538300016403,-0.22819341264862991,4.8356703772841625E-2,4.1297688785062014E-2,-7.8230719329034026E-2]
["J","Financial Intermediation",null,5.7300948175069033E-2,3.8796926960035449E-2,2.1051438061408634E-2,0.10440462059101008,-1.1846321384252123E-2,-3.0471739855521429E-2,7.1664616805406034E-2,6.3389881258328895E-3,2.7288263086303166E-2,9.5715857993543985E-2,6.6056667705991723E-2,3.1773873629806548E-2,4.9472742933985181E-2,-1.9968456830743775E-2]
["K","Real Estate, Renting, Business Activities",null,-9.6109297520617698E-2,-3.9342644038665497E-2,3.5732697446860584E-2,8.4738207104220198E-3,1.7837825112556605E-3,-2.7932237838740326E-3,-3.6214604497254221E-2,8.1236024042934396E-3,1.0597167103189253E-2,1.4076388282776131E-2,1.399750209841244E-2,3.2448433903569551E-2,1.134237088909007E-2,2.0097779213210876E-2]
["L","Public Administration",null,-1.9904829673041968E-2,-2.868708021394184E-2,6.7243872750970546E-3,-8.9256999446100105E-3,-4.1448084469566604E-2,8.7608382885804303E-3,5.120430655991659E-2,2.9039303961380769E-2,2.7080994988762264E-2,-1.4802227839110227E-2,3.2243915310611992E-2,-4.4725520837845978E-2,-5.7934664947699721E-3,-7.3815545979807329E-3]
["M","Education",null,-9.8131199614437281E-2,3.2781241602254374E-2,1.3188291247237416E-2,0.11960471150107987,0.14155246655109521,2.6899910830084917E-3,-2.70895165268209E-2,7.4354838749703056E-2,1.3594825101157948E-2,6.8046712559356015E-2,-1.1518751111600722E-2,2.2040843568601032E-2,5.668083711991323E-2,4.4632655001386023E-2]
["N","Health and Social Work",null,-6.3351987214723349E-2,-8.2664957656390259E-2,-2.1859257920114339E-2,-1.2728830000240832E-2,4.9327081188914379E-2,0.11855706102297381,9.7730685519761273E-2,9.5819884253844689E-2,4.4332320839151729E-2,4.5977673989565648E-3,-3.1296557053895113E-2,-4.6817161965377552E-2,6.4316150145144579E-2,2.8084043660345337E-2]
["O","Other Community, Social, Personal Services",null,0.39589966278989186,0.11503840368728002,0.21894399297158551,0.10396305812135265,-0.15042285999829597,-6.0762291667742163E-2,3.0189547635947056E-2,-9.9193797869606692E-3,1.1158194157798729E-3,9.0047834772122304E-2,0.39987470019217675,9.6503390959570723E-2,0.14056617933937288,0.11649523511198989]
[null,"less intermediate FISIM",null,"","","","","","","","","","","","","",""]
[null,"GDP at basic prices",null,-3.6165673645911278E-2,-3.1029270230526151E-2,4.9472524894208947E-2,6.4250020762000926E-2,2.5930403506222E-2,2.7020746723334099E-3,2.2891877421928886E-3,1.7214824991518496E-2,2.1069201675453675E-2,3.9675696854003517E-2,-1.9192477738355751E-2,-3.7053777382716202E-3,4.3470622847169293E-2,7.2330447929702668E-3]
[null,"Taxes on products",null,{"$f":"IF(C20>0.1,D20/C20-1,\"\")","v":2.5198639588850824E-2},1.2018857857233778E-2,0.12799154184193617,-1.4864628182892692E-2,1.9179695286293263E-3,-1.6366058150206753E-3,-4.4891591794510299E-3,9.4991018090861745E-2,-1.0185785508593614E-2,8.0850746725883882E-2,-3.1911713324805802E-2,-0.10546291503387439,0.11483336483299178,-2.5028280183059248E-2]
[null,"less subsidies",null,"","","","","","","","","","","","","",""]
[null,"GDP at purchasers prices",null,-2.8643096661517209E-2,-2.3763706326517697E-2,5.9143132074413574E-2,5.3639038215348211E-2,2.6069855479732285E-2,1.9222358146919749E-3,-2.7027249055888714E-4,2.6178622687964559E-2,1.867102588992009E-2,3.2014119778251748E-2,-1.8825979885914834E-2,-1.4760816247633368E-2,5.5933707591278248E-2,8.0908306928526574E-3]
["memo: GDP excluding offshore fishing vessels",null,null,-2.8643096661517209E-2,-2.3763706326517697E-2,5.9143132074413574E-2,5.3639038215348211E-2,2.6069855479732285E-2,1.9222358146919749E-3,-2.7027249055888714E-4,2.6178622687964559E-2,1.867102588992009E-2,3.2014119778251748E-2,-1.8825979885914834E-2,-2.0985346297689444E-2,3.5910208236624275E-2,-2.747327121560228E-3]
["1) \"Fisheries\" includes fish processing and other vessel support services."]
["Source: EPPSO estimates"]
[]
["Table 2e:   RMI Constant price GDP by industry, contribution to change, FY2004-FY2011"]
[null,null,{"$f":"C2","v":"FY1997"},{"$f":"D2","v":"FY1998"},"FY1999","FY2000","FY2001","FY2002","FY2003","FY2004","FY2005","FY2006","FY2007","FY2008","FY2009","FY2010",{"$f":"Q2","v":"FY2011"}]
["A","Agriculture, Hunting and Forestry",null,{"$f":"[3]cerNAind!D53","v":-3.5690660151711591E-3},{"$f":"[3]cerNAind!E53","v":-1.8023271027121082E-3},{"$f":"[3]cerNAind!F53","v":-8.6375067007528632E-4},{"$f":"[3]cerNAind!G53","v":3.073435291574307E-3},{"$f":"[3]cerNAind!H53","v":-5.2816430924874534E-3},{"$f":"[3]cerNAind!I53","v":2.2254195991357572E-3},{"$f":"[3]cerNAind!J53","v":1.2450669291875574E-3},{"$f":"[3]cerNAind!K53","v":3.4610391948313829E-4},{"$f":"[3]cerNAind!L53","v":-2.6446097591039628E-4},{"$f":"[3]cerNAind!M53","v":2.7735957184984441E-3},{"$f":"[3]cerNAind!N53","v":2.1509354198998541E-3},{"$f":"[3]cerNAind!O53","v":-1.1258569750926435E-3},{"$f":"[3]cerNAind!P53","v":-1.8516315247869204E-3},{"$f":"[3]cerNAind!Q53","v":-2.3189973716107909E-3}]
["B","Fisheries",null,{"$f":"[3]cerNAind!D54","v":6.7134855952389867E-4},{"$f":"[3]cerNAind!E54","v":-1.4665370217568966E-3},{"$f":"[3]cerNAind!F54","v":1.9373999807359175E-2},{"$f":"[3]cerNAind!G54","v":1.4497585276521778E-3},{"$f":"[3]cerNAind!H54","v":4.3848793309410675E-3},{"$f":"[3]cerNAind!I54","v":7.4252820933078814E-3},{"$f":"[3]cerNAind!J54","v":-7.3912462297092505E-3},{"$f":"[3]cerNAind!K54","v":-9.0044285153249876E-3},{"$f":"[3]cerNAind!L54","v":2.4140692660700857E-3},{"$f":"[3]cerNAind!M54","v":4.0961193608000162E-3},{"$f":"[3]cerNAind!N54","v":-3.7090812582058629E-3},{"$f":"[3]cerNAind!O54","v":1.2115243525352034E-2},{"$f":"[3]cerNAind!P54","v":2.5949170171109971E-2},{"$f":"[3]cerNAind!Q54","v":7.8764918618412279E-3}]
["C","Mining and Quarrying",null,{"$f":"[3]cerNAind!D55","v":0},{"$f":"[3]cerNAind!E55","v":0},{"$f":"[3]cerNAind!F55","v":0},{"$f":"[3]cerNAind!G55","v":0},{"$f":"[3]cerNAind!H55","v":0},{"$f":"[3]cerNAind!I55","v":0},{"$f":"[3]cerNAind!J55","v":0},{"$f":"[3]cerNAind!K55","v":0},{"$f":"[3]cerNAind!L55","v":0},{"$f":"[3]cerNAind!M55","v":0},{"$f":"[3]cerNAind!N55","v":0},{"$f":"[3]cerNAind!O55","v":0},{"$f":"[3]cerNAind!P55","v":0},{"$f":"[3]cerNAind!Q55","v":0}]
["D","Manufacturing",null,{"$f":"[3]cerNAind!D56","v":-3.2323546883048179E-3},{"$f":"[3]cerNAind!E56","v":-4.7447456775951595E-3},{"$f":"[3]cerNAind!F56","v":2.9251864170657268E-3},{"$f":"[3]cerNAind!G56","v":3.5219265846374546E-3},{"$f":"[3]cerNAind!H56","v":-7.1567377288085073E-3},{"$f":"[3]cerNAind!I56","v":4.340252236510236E-3},{"$f":"[3]cerNAind!J56","v":2.2823755591395351E-3},{"$f":"[3]cerNAind!K56","v":2.9514413326863853E-4},{"$f":"[3]cerNAind!L56","v":-4.6714869480450838E-4},{"$f":"[3]cerNAind!M56","v":4.7544343235306746E-3},{"$f":"[3]cerNAind!N56","v":2.3514481615015473E-3},{"$f":"[3]cerNAind!O56","v":-3.4153182912532751E-3},{"$f":"[3]cerNAind!P56","v":-3.4614618103021863E-3},{"$f":"[3]cerNAind!Q56","v":-2.5460338553647483E-3}]
["E","Electricity, Gas and Water Supply",null,{"$f":"[3]cerNAind!D57","v":-2.7375103566508604E-4},{"$f":"[3]cerNAind!E57","v":1.0924180735522799E-3},{"$f":"[3]cerNAind!F57","v":9.3012895056223619E-5},{"$f":"[3]cerNAind!G57","v":7.8023596706036267E-4},{"$f":"[3]cerNAind!H57","v":2.3790652762550676E-4},{"$f":"[3]cerNAind!I57","v":-2.4421172742376655E-4},{"$f":"[3]cerNAind!J57","v":7.115265815446103E-4},{"$f":"[3]cerNAind!K57","v":3.0223353836562588E-3},{"$f":"[3]cerNAind!L57","v":-2.5358696761278105E-3},{"$f":"[3]cerNAind!M57","v":1.391482097473061E-3},{"$f":"[3]cerNAind!N57","v":1.1616635422003006E-3},{"$f":"[3]cerNAind!O57","v":-7.9817852572166523E-5},{"$f":"[3]cerNAind!P57","v":-1.931158449144931E-4},{"$f":"[3]cerNAind!Q57","v":-7.8599096873980528E-5}]
["F","Construction",null,{"$f":"[3]cerNAind!D58","v":1.6095876095429024E-2},{"$f":"[3]cerNAind!E58","v":-1.0888848050664033E-3},{"$f":"[3]cerNAind!F58","v":-2.093899674785029E-2},{"$f":"[3]cerNAind!G58","v":1.1692766136813679E-2},{"$f":"[3]cerNAind!H58","v":1.1014656656407589E-3},{"$f":"[3]cerNAind!I58","v":-5.8686462547235052E-3},{"$f":"[3]cerNAind!J58","v":-6.382607248347421E-3},{"$f":"[3]cerNAind!K58","v":1.0547078841497001E-3},{"$f":"[3]cerNAind!L58","v":2.5166039174615261E-2},{"$f":"[3]cerNAind!M58","v":-9.3475596386762855E-3},{"$f":"[3]cerNAind!N58","v":1.707440064044234E-4},{"$f":"[3]cerNAind!O58","v":-5.158510888704915E-3},{"$f":"[3]cerNAind!P58","v":-3.156695552967455E-3},{"$f":"[3]cerNAind!Q58","v":-3.6329644657311943E-3}]
["G","Wholesale and Retail Trade and Repairs",null,{"$f":"[3]cerNAind!D59","v":-9.4070846005416715E-3},{"$f":"[3]cerNAind!E59","v":-4.8497971329242821E-3},{"$f":"[3]cerNAind!F59","v":2.4421786247473105E-2},{"$f":"[3]cerNAind!G59","v":1.0626862003599968E-2},{"$f":"[3]cerNAind!H59","v":8.2449088458651006E-3},{"$f":"[3]cerNAind!I59","v":-8.811473686202222E-3},{"$f":"[3]cerNAind!J59","v":7.7972029331061969E-3},{"$f":"[3]cerNAind!K59","v":2.0698062623962753E-3},{"$f":"[3]cerNAind!L59","v":-1.2542938816239349E-2},{"$f":"[3]cerNAind!M59","v":4.3592937306827159E-3},{"$f":"[3]cerNAind!N59","v":-1.233959783777874E-3},{"$f":"[3]cerNAind!O59","v":-4.3775884275928101E-3},{"$f":"[3]cerNAind!P59","v":6.8477975524394268E-3},{"$f":"[3]cerNAind!Q59","v":3.874455901849047E-3}]
["H","Hotels and Restaurants",null,{"$f":"[3]cerNAind!D60","v":-4.7378414756482686E-3},{"$f":"[3]cerNAind!E60","v":-1.6203393872113133E-3},{"$f":"[3]cerNAind!F60","v":7.1200302292007741E-3},{"$f":"[3]cerNAind!G60","v":5.5094550552630978E-3},{"$f":"[3]cerNAind!H60","v":-1.7348190189692542E-3},{"$f":"[3]cerNAind!I60","v":-5.2911048051551921E-3},{"$f":"[3]cerNAind!J60","v":-3.8577735485101072E-3},{"$f":"[3]cerNAind!K60","v":1.7643897453123397E-3},{"$f":"[3]cerNAind!L60","v":-6.5696823368555802E-3},{"$f":"[3]cerNAind!M60","v":5.9541920908369825E-3},{"$f":"[3]cerNAind!N60","v":-2.2802129111077342E-3},{"$f":"[3]cerNAind!O60","v":-5.2969285313604337E-4},{"$f":"[3]cerNAind!P60","v":-2.5250612738364807E-3},{"$f":"[3]cerNAind!Q60","v":-1.1152368479133004E-4}]
["I","Transport, Storage and Communications",null,{"$f":"[3]cerNAind!D61","v":-3.6957173365224968E-3},{"$f":"[3]cerNAind!E61","v":-5.3345421630518501E-3},{"$f":"[3]cerNAind!F61","v":7.169216478174362E-3},{"$f":"[3]cerNAind!G61","v":5.0586191710487076E-3},{"$f":"[3]cerNAind!H61","v":1.311803011636152E-2},{"$f":"[3]cerNAind!I61","v":2.2076815337081059E-3},{"$f":"[3]cerNAind!J61","v":-1.8889223341173851E-3},{"$f":"[3]cerNAind!K61","v":-5.289600994689234E-3},{"$f":"[3]cerNAind!L61","v":1.8058881657732433E-3},{"$f":"[3]cerNAind!M61","v":1.1550726144078904E-2},{"$f":"[3]cerNAind!N61","v":-2.1368924477191093E-2},{"$f":"[3]cerNAind!O61","v":3.5620391718920361E-3},{"$f":"[3]cerNAind!P61","v":3.2369437281750159E-3},{"$f":"[3]cerNAind!Q61","v":-6.0467912616383604E-3}]
["J","Financial Intermediation",null,{"$f":"[3]cerNAind!D62","v":2.2693055337541048E-3},{"$f":"[3]cerNAind!E62","v":1.6724312797318714E-3},{"$f":"[3]cerNAind!F62","v":9.6562484142573757E-4},{"$f":"[3]cerNAind!G62","v":4.6167817819728844E-3},{"$f":"[3]cerNAind!H62","v":-5.490848997599454E-4},{"$f":"[3]cerNAind!I62","v":-1.360193843223236E-3},{"$f":"[3]cerNAind!J62","v":3.0955284030285673E-3},{"$f":"[3]cerNAind!K62","v":2.9351225161145775E-4},{"$f":"[3]cerNAind!L62","v":1.2390919191578029E-3},{"$f":"[3]cerNAind!M62","v":4.3829841539929091E-3},{"$f":"[3]cerNAind!N62","v":3.2115521101238101E-3},{"$f":"[3]cerNAind!O62","v":1.6784280396805774E-3},{"$f":"[3]cerNAind!P62","v":2.7367895495785752E-3},{"$f":"[3]cerNAind!Q62","v":-1.0978788699528229E-3}]
["K","Real Estate, Renting, Business Activities",null,{"$f":"[3]cerNAind!D63","v":-8.8564073125675293E-3},{"$f":"[3]cerNAind!E63","v":-3.3735939613029342E-3},{"$f":"[3]cerNAind!F63","v":3.0151479851668419E-3},{"$f":"[3]cerNAind!G63","v":6.9922207949552311E-4},{"$f":"[3]cerNAind!H63","v":1.408803882603121E-4},{"$f":"[3]cerNAind!I63","v":-2.1538300777972617E-4},{"$f":"[3]cerNAind!J63","v":-2.7793334777917638E-3},{"$f":"[3]cerNAind!K63","v":6.0103990371160798E-4},{"$f":"[3]cerNAind!L63","v":7.7025628180356831E-4},{"$f":"[3]cerNAind!M63","v":1.0150345542938345E-3},{"$f":"[3]cerNAind!N63","v":9.918024158690824E-4},{"$f":"[3]cerNAind!O63","v":2.3760698644056132E-3},{"$f":"[3]cerNAind!P63","v":8.7035414885155895E-4},{"$f":"[3]cerNAind!Q63","v":1.4770723873506666E-3}]
["L","Public Administration",null,{"$f":"[3]cerNAind!D64","v":-3.6212276464131716E-3},{"$f":"[3]cerNAind!E64","v":-5.2659063053077998E-3},{"$f":"[3]cerNAind!F64","v":1.228128227776267E-3},{"$f":"[3]cerNAind!G64","v":-1.5494915554742398E-3},{"$f":"[3]cerNAind!H64","v":-6.7680842499090402E-3},{"$f":"[3]cerNAind!I64","v":1.336428308709451E-3},{"$f":"[3]cerNAind!J64","v":7.8643111923023395E-3},{"$f":"[3]cerNAind!K64","v":4.6896985661033942E-3},{"$f":"[3]cerNAind!L64","v":4.3856335734591854E-3},{"$f":"[3]cerNAind!M64","v":-2.4169382243465235E-3},{"$f":"[3]cerNAind!N64","v":5.0260177633406414E-3},{"$f":"[3]cerNAind!O64","v":-7.3344566386893111E-3},{"$f":"[3]cerNAind!P64","v":-9.2116523236278368E-4},{"$f":"[3]cerNAind!Q64","v":-1.1050624804942505E-3}]
["M","Education",null,{"$f":"[3]cerNAind!D65","v":-1.1757294753243547E-2},{"$f":"[3]cerNAind!E65","v":3.6466176418508667E-3},{"$f":"[3]cerNAind!F65","v":1.5520537280147492E-3},{"$f":"[3]cerNAind!G65","v":1.3464865437053762E-2},{"$f":"[3]cerNAind!H65","v":1.6933394848501631E-2},{"$f":"[3]cerNAind!I65","v":3.5801100951546305E-4},{"$f":"[3]cerNAind!J65","v":-3.608107435947883E-3},{"$f":"[3]cerNAind!K65","v":9.6377957787851312E-3},{"$f":"[3]cerNAind!L65","v":1.8448747592769584E-3},{"$f":"[3]cerNAind!M65","v":9.1882085466539302E-3},{"$f":"[3]cerNAind!N65","v":-1.6096583177991081E-3},{"$f":"[3]cerNAind!O65","v":3.102979532346803E-3},{"$f":"[3]cerNAind!P65","v":8.2777733387502262E-3},{"$f":"[3]cerNAind!Q65","v":6.5228467394358282E-3}]
["N","Health and Social Work",null,{"$f":"[3]cerNAind!D66","v":-4.1211538395739301E-3},{"$f":"[3]cerNAind!E66","v":-5.1853445244687121E-3},{"$f":"[3]cerNAind!F66","v":-1.2884412435893975E-3},{"$f":"[3]cerNAind!G66","v":-6.928901453269351E-4},{"$f":"[3]cerNAind!H66","v":2.5159726629350159E-3},{"$f":"[3]cerNAind!I66","v":6.1841765190204893E-3},{"$f":"[3]cerNAind!J66","v":5.6912744141965795E-3},{"$f":"[3]cerNAind!K66","v":6.1269935247289858E-3},{"$f":"[3]cerNAind!L66","v":3.0271117967202556E-3},{"$f":"[3]cerNAind!M66","v":3.2185462546194943E-4},{"$f":"[3]cerNAind!N66","v":-2.1326318504516543E-3},{"$f":"[3]cerNAind!O66","v":-3.1497001723322549E-3},{"$f":"[3]cerNAind!P66","v":4.1861878197653893E-3},{"$f":"[3]cerNAind!Q66","v":1.84243556130038E-3}]
["O","Other Community, Social, Personal Services",null,{"$f":"[3]cerNAind!D67","v":1.2188541355463776E-3},{"$f":"[3]cerNAind!E67","v":5.0896137068884989E-4},{"$f":"[3]cerNAind!F67","v":1.1063941859721306E-3},{"$f":"[3]cerNAind!G67","v":6.0462345931620138E-4},{"$f":"[3]cerNAind!H67","v":-9.1660553842524387E-4},{"$f":"[3]cerNAind!I67","v":-3.0656930528032166E-4},{"$f":"[3]cerNAind!J67","v":1.4278830405506905E-4},{"$f":"[3]cerNAind!K67","v":-4.8345391478314784E-5},{"$f":"[3]cerNAind!L67","v":5.2470121918579594E-6},{"$f":"[3]cerNAind!M67","v":4.1614224346658206E-4},{"$f":"[3]cerNAind!N67","v":1.9518766758209955E-3},{"$f":"[3]cerNAind!O67","v":6.720694360655737E-4},{"$f":"[3]cerNAind!P67","v":1.0894836454424534E-3},{"$f":"[3]cerNAind!Q67","v":9.7528573645647783E-4}]
[null,"less intermediate FISIM",null,{"$f":"[3]cerNAind!D68","v":-5.0994858650299166E-4},{"$f":"[3]cerNAind!E68","v":-7.3053496322888101E-4},{"$f":"[3]cerNAind!F68","v":-7.1101162370997364E-4},{"$f":"[3]cerNAind!G68","v":-7.3154836687094546E-4},{"$f":"[3]cerNAind!H68","v":-5.7594174482906882E-4},{"$f":"[3]cerNAind!I68","v":4.8908067197476026E-4},{"$f":"[3]cerNAind!J68","v":-8.2894074737856736E-4},{"$f":"[3]cerNAind!K68","v":2.2170511764276691E-4},{"$f":"[3]cerNAind!L68","v":8.6734770293089695E-4},{"$f":"[3]cerNAind!M68","v":-2.3016214096421897E-3},{"$f":"[3]cerNAind!N68","v":-2.2924989300500179E-3},{"$f":"[3]cerNAind!O68","v":-1.734654664725017E-3},{"$f":"[3]cerNAind!P68","v":-7.6440507139563876E-4},{"$f":"[3]cerNAind!Q68","v":9.99052829889901E-4}]
[null,"GDP at basic prices",null,{"$f":"[3]cerNAind!D69","v":-3.3526462965901255E-2},{"$f":"[3]cerNAind!E69","v":-2.8542124678802475E-2},{"$f":"[3]cerNAind!F69","v":4.5168380757460137E-2},{"$f":"[3]cerNAind!G69","v":5.8124621427815999E-2},{"$f":"[3]cerNAind!H69","v":2.3694522112942401E-2},{"$f":"[3]cerNAind!I69","v":2.4687493420941756E-3},{"$f":"[3]cerNAind!J69","v":2.0931432947580769E-3},{"$f":"[3]cerNAind!K69","v":1.5780857569357157E-2},{"$f":"[3]cerNAind!L69","v":1.9145459152061475E-2},{"$f":"[3]cerNAind!M69","v":3.6137948317105005E-2},{"$f":"[3]cerNAind!N69","v":-1.7610927433422692E-2},{"$f":"[3]cerNAind!O69","v":-3.3987671943558001E-3},{"$f":"[3]cerNAind!P69","v":4.0320963643546655E-2},{"$f":"[3]cerNAind!Q69","v":6.6297899316660504E-3}]
[null,"Taxes on products",null,{"$f":"[3]cerNAind!D70","v":2.5500162699433511E-3},{"$f":"[3]cerNAind!E70","v":1.283684347198495E-3},{"$f":"[3]cerNAind!F70","v":1.4171309176388239E-2},{"$f":"[3]cerNAind!G70","v":-1.7528063646267726E-3},{"$f":"[3]cerNAind!H70","v":2.1145874673177158E-4},{"$f":"[3]cerNAind!I70","v":-1.7619082037071052E-4},{"$f":"[3]cerNAind!J70","v":-4.8156933751155836E-4},{"$f":"[3]cerNAind!K70","v":1.0147048854819997E-2},{"$f":"[3]cerNAind!L70","v":-1.1610190058660651E-3},{"$f":"[3]cerNAind!M70","v":8.9546490686102168E-3},{"$f":"[3]cerNAind!N70","v":-3.7016448182149576E-3},{"$f":"[3]cerNAind!O70","v":-1.2070168121912226E-2},{"$f":"[3]cerNAind!P70","v":1.1932688754430099E-2},{"$f":"[3]cerNAind!Q70","v":-2.7458356196349808E-3}]
[null,"less subsidies",null,{"$f":"[3]cerNAind!D71","v":2.333350034440896E-3},{"$f":"[3]cerNAind!E71","v":3.4947340050855442E-3},{"$f":"[3]cerNAind!F71","v":-1.9655785943421532E-4},{"$f":"[3]cerNAind!G71","v":-2.7327768478404815E-3},{"$f":"[3]cerNAind!H71","v":2.1638746200578372E-3},{"$f":"[3]cerNAind!I71","v":-3.7032270703190619E-4},{"$f":"[3]cerNAind!J71","v":-1.8818464478054964E-3},{"$f":"[3]cerNAind!K71","v":2.5071626378805607E-4},{"$f":"[3]cerNAind!L71","v":6.8658574372392563E-4},{"$f":"[3]cerNAind!M71","v":-1.3078477607463104E-2},{"$f":"[3]cerNAind!N71","v":2.4865923657230878E-3},{"$f":"[3]cerNAind!O71","v":7.0811906863470903E-4},{"$f":"[3]cerNAind!P71","v":3.6800551933013248E-3},{"$f":"[3]cerNAind!Q71","v":4.2068763808220059E-3}]
[null,"GDP at purchasers prices",null,{"$f":"[3]cerNAind!D72","v":-2.8643096661517008E-2},{"$f":"[3]cerNAind!E72","v":-2.3763706326518433E-2},{"$f":"[3]cerNAind!F72","v":5.9143132074414156E-2},{"$f":"[3]cerNAind!G72","v":5.3639038215348739E-2},{"$f":"[3]cerNAind!H72","v":2.606985547973201E-2},{"$f":"[3]cerNAind!I72","v":1.9222358146915586E-3},{"$f":"[3]cerNAind!J72","v":-2.7027249055897799E-4},{"$f":"[3]cerNAind!K72","v":2.6178622687965208E-2},{"$f":"[3]cerNAind!L72","v":1.8671025889919337E-2},{"$f":"[3]cerNAind!M72","v":3.2014119778252116E-2},{"$f":"[3]cerNAind!N72","v":-1.8825979885914564E-2},{"$f":"[3]cerNAind!O72","v":-1.4760816247633316E-2},{"$f":"[3]cerNAind!P72","v":5.5933707591278081E-2},{"$f":"[3]cerNAind!Q72","v":8.0908306928530755E-3}]
[null,"memo: Excluding offshore fishing vessels",null,{"$f":"[3]cerNAind!D73","v":-2.8643096661517209E-2},{"$f":"[3]cerNAind!E73","v":-2.3763706326517697E-2},{"$f":"[3]cerNAind!F73","v":5.9143132074413574E-2},{"$f":"[3]cerNAind!G73","v":5.3639038215348211E-2},{"$f":"[3]cerNAind!H73","v":2.6069855479732285E-2},{"$f":"[3]cerNAind!I73","v":1.9222358146919749E-3},{"$f":"[3]cerNAind!J73","v":-2.7027249055888714E-4},{"$f":"[3]cerNAind!K73","v":2.6178622687964559E-2},{"$f":"[3]cerNAind!L73","v":1.867102588992009E-2},{"$f":"[3]cerNAind!M73","v":3.2014119778251748E-2},{"$f":"[3]cerNAind!N73","v":-1.8825979885914834E-2},{"$f":"[3]cerNAind!O73","v":-2.0985346297689444E-2},{"$f":"[3]cerNAind!P73","v":3.5910208236624275E-2},{"$f":"[3]cerNAind!Q73","v":-2.747327121560228E-3}]
[]
["Table 2f     RMI Current price GDP by industry, FY2004-FY2011"]
[null,"(US$ millions)",{"$f":"C2","v":"FY1997"},{"$f":"D2","v":"FY1998"},"FY1999","FY2000","FY2001","FY2002","FY2003","FY2004","FY2005","FY2006","FY2007","FY2008","FY2009","FY2010",{"$f":"Q2","v":"FY2011"}]
["A","Agriculture, Hunting and Forestry",{"$f":"[3]cerNAind!C77","v":4.8282154196320244},{"$f":"[3]cerNAind!D77","v":3.5407294473062567},{"$f":"[3]cerNAind!E77","v":3.8549450154346752},{"$f":"[3]cerNAind!F77","v":3.753595211193157},{"$f":"[3]cerNAind!G77","v":3.6930001252074507},{"$f":"[3]cerNAind!H77","v":3.1727587314607431},{"$f":"[3]cerNAind!I77","v":3.604492774756777},{"$f":"[3]cerNAind!J77","v":3.9200083154202994},{"$f":"[3]cerNAind!K77","v":3.9695526193239528},{"$f":"[3]cerNAind!L77","v":3.9783449977807828},{"$f":"[3]cerNAind!M77","v":4.7472058266991608},{"$f":"[3]cerNAind!N77","v":6.4665120039979005},{"$f":"[3]cerNAind!O77","v":6.5112184358888072},{"$f":"[3]cerNAind!P77","v":5.6556082065110571},{"$f":"[3]cerNAind!Q77","v":5.6496700807414459}]
["B","Fisheries (1)",{"$f":"[3]cerNAind!C78","v":4.7748596409505337},{"$f":"[3]cerNAind!D78","v":4.8300997306628313},{"$f":"[3]cerNAind!E78","v":4.8637343291370794},{"$f":"[3]cerNAind!F78","v":6.8915413876855549},{"$f":"[3]cerNAind!G78","v":7.1561936529922461},{"$f":"[3]cerNAind!H78","v":7.7443262323702866},{"$f":"[3]cerNAind!I78","v":8.2996621192799029},{"$f":"[3]cerNAind!J78","v":8.2236961212526598},{"$f":"[3]cerNAind!K78","v":7.4701685550636814},{"$f":"[3]cerNAind!L78","v":8.0195852937863599},{"$f":"[3]cerNAind!M78","v":8.1483490344051202},{"$f":"[3]cerNAind!N78","v":8.8626128276813159},{"$f":"[3]cerNAind!O78","v":11.882940681501212},{"$f":"[3]cerNAind!P78","v":17.670519199048897},{"$f":"[3]cerNAind!Q78","v":18.766792951679257}]
["C","Mining and Quarrying",{"$f":"[3]cerNAind!C79","v":0},{"$f":"[3]cerNAind!D79","v":0},{"$f":"[3]cerNAind!E79","v":0},{"$f":"[3]cerNAind!F79","v":0},{"$f":"[3]cerNAind!G79","v":0},{"$f":"[3]cerNAind!H79","v":0},{"$f":"[3]cerNAind!I79","v":0},{"$f":"[3]cerNAind!J79","v":0},{"$f":"[3]cerNAind!K79","v":0},{"$f":"[3]cerNAind!L79","v":0},{"$f":"[3]cerNAind!M79","v":0},{"$f":"[3]cerNAind!N79","v":0},{"$f":"[3]cerNAind!O79","v":0},{"$f":"[3]cerNAind!P79","v":0},{"$f":"[3]cerNAind!Q79","v":0}]
["D","Manufacturing",{"$f":"[3]cerNAind!C80","v":1.2842697310395217},{"$f":"[3]cerNAind!D80","v":1.998901004846211},{"$f":"[3]cerNAind!E80","v":1.9704326303667754},{"$f":"[3]cerNAind!F80","v":1.144203187978571},{"$f":"[3]cerNAind!G80","v":2.0391278977334677},{"$f":"[3]cerNAind!H80","v":2.1567874264402871},{"$f":"[3]cerNAind!I80","v":2.3246182976864436},{"$f":"[3]cerNAind!J80","v":3.6545389226365828},{"$f":"[3]cerNAind!K80","v":2.7765040594738331},{"$f":"[3]cerNAind!L80","v":2.7682700654758108},{"$f":"[3]cerNAind!M80","v":4.0696757694153138},{"$f":"[3]cerNAind!N80","v":4.1968572484591586},{"$f":"[3]cerNAind!O80","v":1.0497221722230752},{"$f":"[3]cerNAind!P80","v":2.777504867680431},{"$f":"[3]cerNAind!Q80","v":4.9350066876742504}]
["E","Electricity, Gas and Water Supply",{"$f":"[3]cerNAind!C81","v":2.9188000000000009},{"$f":"[3]cerNAind!D81","v":3.8800000000000003},{"$f":"[3]cerNAind!E81","v":4.4047999999999998},{"$f":"[3]cerNAind!F81","v":4.0663},{"$f":"[3]cerNAind!G81","v":1.9600000000000002},{"$f":"[3]cerNAind!H81","v":5.9376630000000006},{"$f":"[3]cerNAind!I81","v":3.3187469999999974},{"$f":"[3]cerNAind!J81","v":1.9400640000000022},{"$f":"[3]cerNAind!K81","v":1.5862790000000004},{"$f":"[3]cerNAind!L81","v":1.8855799999999994},{"$f":"[3]cerNAind!M81","v":4.9082680000000005},{"$f":"[3]cerNAind!N81","v":4.4369759999999969},{"$f":"[3]cerNAind!O81","v":6.4067039999999995},{"$f":"[3]cerNAind!P81","v":5.7843810000000015},{"$f":"[3]cerNAind!Q81","v":6.8717404599999981}]
["F","Construction",{"$f":"[3]cerNAind!C82","v":6.8314542627442432},{"$f":"[3]cerNAind!D82","v":8.6542354387347853},{"$f":"[3]cerNAind!E82","v":8.8132829466068632},{"$f":"[3]cerNAind!F82","v":6.727133705216497},{"$f":"[3]cerNAind!G82","v":8.1079734690296412},{"$f":"[3]cerNAind!H82","v":8.2937023063384654},{"$f":"[3]cerNAind!I82","v":7.7880863871752339},{"$f":"[3]cerNAind!J82","v":7.0706577627238643},{"$f":"[3]cerNAind!K82","v":7.3750594539448908},{"$f":"[3]cerNAind!L82","v":11.233336390266922},{"$f":"[3]cerNAind!M82","v":10.040574160681256},{"$f":"[3]cerNAind!N82","v":10.81729073696755},{"$f":"[3]cerNAind!O82","v":10.082837707678447},{"$f":"[3]cerNAind!P82","v":9.6650961095632226},{"$f":"[3]cerNAind!Q82","v":9.5030327427555825}]
["G","Wholesale and Retail Trade and Repairs",{"$f":"[3]cerNAind!C83","v":14.724390714284187},{"$f":"[3]cerNAind!D83","v":14.105347113024578},{"$f":"[3]cerNAind!E83","v":13.401426372325444},{"$f":"[3]cerNAind!F83","v":15.878819668622638},{"$f":"[3]cerNAind!G83","v":17.640458595866725},{"$f":"[3]cerNAind!H83","v":18.917203713341934},{"$f":"[3]cerNAind!I83","v":17.930538541313084},{"$f":"[3]cerNAind!J83","v":19.15975003609476},{"$f":"[3]cerNAind!K83","v":20.076698605987804},{"$f":"[3]cerNAind!L83","v":20.013865483772257},{"$f":"[3]cerNAind!M83","v":20.361368220780708},{"$f":"[3]cerNAind!N83","v":20.901328266259242},{"$f":"[3]cerNAind!O83","v":21.40797582104986},{"$f":"[3]cerNAind!P83","v":22.357072085985418},{"$f":"[3]cerNAind!Q83","v":23.674427600536173}]
["H","Hotels and Restaurants",{"$f":"[3]cerNAind!C84","v":4.0925423232702762},{"$f":"[3]cerNAind!D84","v":4.4115794413061042},{"$f":"[3]cerNAind!E84","v":3.7485057118934781},{"$f":"[3]cerNAind!F84","v":4.2200936377825471},{"$f":"[3]cerNAind!G84","v":6.2229446643882076},{"$f":"[3]cerNAind!H84","v":4.0752099133462965},{"$f":"[3]cerNAind!I84","v":3.7038534083321304},{"$f":"[3]cerNAind!J84","v":3.9983869852849385},{"$f":"[3]cerNAind!K84","v":3.4917156832286427},{"$f":"[3]cerNAind!L84","v":2.8388733384048379},{"$f":"[3]cerNAind!M84","v":3.2743111723264597},{"$f":"[3]cerNAind!N84","v":2.6211955701724383},{"$f":"[3]cerNAind!O84","v":2.6851393729997746},{"$f":"[3]cerNAind!P84","v":2.41500275998466},{"$f":"[3]cerNAind!Q84","v":2.365299333624618}]
["I","Transport, Storage and Communications",{"$f":"[3]cerNAind!C85","v":8.9251111766185343},{"$f":"[3]cerNAind!D85","v":9.6639380936229884},{"$f":"[3]cerNAind!E85","v":9.4651641266215734},{"$f":"[3]cerNAind!F85","v":10.319140566009137},{"$f":"[3]cerNAind!G85","v":10.107546622338692},{"$f":"[3]cerNAind!H85","v":11.872866319729425},{"$f":"[3]cerNAind!I85","v":13.541263342836263},{"$f":"[3]cerNAind!J85","v":12.116230004958028},{"$f":"[3]cerNAind!K85","v":12.263538636734232},{"$f":"[3]cerNAind!L85","v":11.7438847146122},{"$f":"[3]cerNAind!M85","v":13.864156409911102},{"$f":"[3]cerNAind!N85","v":11.115537363578493},{"$f":"[3]cerNAind!O85","v":11.639133023851684},{"$f":"[3]cerNAind!P85","v":13.590791832404541},{"$f":"[3]cerNAind!Q85","v":13.250259616753867}]
["J","Financial Intermediation",{"$f":"[3]cerNAind!C86","v":4.2353996195242551},{"$f":"[3]cerNAind!D86","v":4.542171571554749},{"$f":"[3]cerNAind!E86","v":4.8308830320269482},{"$f":"[3]cerNAind!F86","v":5.3173897459350776},{"$f":"[3]cerNAind!G86","v":5.2236358550752007},{"$f":"[3]cerNAind!H86","v":5.8062117912676863},{"$f":"[3]cerNAind!I86","v":5.5797088858930932},{"$f":"[3]cerNAind!J86","v":6.0725377326848626},{"$f":"[3]cerNAind!K86","v":6.9554866580643626},{"$f":"[3]cerNAind!L86","v":7.937243354252379},{"$f":"[3]cerNAind!M86","v":8.873640244975384},{"$f":"[3]cerNAind!N86","v":8.4168901254591066},{"$f":"[3]cerNAind!O86","v":7.4077437281492404},{"$f":"[3]cerNAind!P86","v":6.9059993893394029},{"$f":"[3]cerNAind!Q86","v":6.7816592007270318}]
["K","Real Estate, Renting, Business Activities",{"$f":"[3]cerNAind!C87","v":10.23413843234801},{"$f":"[3]cerNAind!D87","v":9.4345801820926507},{"$f":"[3]cerNAind!E87","v":9.2869627916247008},{"$f":"[3]cerNAind!F87","v":9.7068583364043359},{"$f":"[3]cerNAind!G87","v":9.9245017036635055},{"$f":"[3]cerNAind!H87","v":9.9212268582811181},{"$f":"[3]cerNAind!I87","v":9.8524446574512634},{"$f":"[3]cerNAind!J87","v":9.7032802103730535},{"$f":"[3]cerNAind!K87","v":10.093826182307213},{"$f":"[3]cerNAind!L87","v":10.663527524045186},{"$f":"[3]cerNAind!M87","v":11.007898807428086},{"$f":"[3]cerNAind!N87","v":12.564801771488012},{"$f":"[3]cerNAind!O87","v":12.975311675905528},{"$f":"[3]cerNAind!P87","v":13.337230211665291},{"$f":"[3]cerNAind!Q87","v":14.298243509988131}]
["L","Public Administration",{"$f":"[3]cerNAind!C88","v":19.403994837008671},{"$f":"[3]cerNAind!D88","v":18.946853686231446},{"$f":"[3]cerNAind!E88","v":18.722936035456328},{"$f":"[3]cerNAind!F88","v":19.51565030236517},{"$f":"[3]cerNAind!G88","v":19.855153113691511},{"$f":"[3]cerNAind!H88","v":20.093544619049361},{"$f":"[3]cerNAind!I88","v":20.358284140684944},{"$f":"[3]cerNAind!J88","v":21.179838912506764},{"$f":"[3]cerNAind!K88","v":22.657446533736511},{"$f":"[3]cerNAind!L88","v":23.374175258628522},{"$f":"[3]cerNAind!M88","v":23.488687014939725},{"$f":"[3]cerNAind!N88","v":23.570637173160719},{"$f":"[3]cerNAind!O88","v":22.942139563306917},{"$f":"[3]cerNAind!P88","v":22.329468574943821},{"$f":"[3]cerNAind!Q88","v":22.602941462814972}]
["M","Education",{"$f":"[3]cerNAind!C89","v":8.5950150771721248},{"$f":"[3]cerNAind!D89","v":9.1530891226247526},{"$f":"[3]cerNAind!E89","v":10.037510511129662},{"$f":"[3]cerNAind!F89","v":10.868845251946899},{"$f":"[3]cerNAind!G89","v":11.522405391752848},{"$f":"[3]cerNAind!H89","v":13.88018869975088},{"$f":"[3]cerNAind!I89","v":15.000622486286229},{"$f":"[3]cerNAind!J89","v":16.999353679274368},{"$f":"[3]cerNAind!K89","v":17.757935200230385},{"$f":"[3]cerNAind!L89","v":18.485341424070203},{"$f":"[3]cerNAind!M89","v":18.640221288883502},{"$f":"[3]cerNAind!N89","v":19.249934553749124},{"$f":"[3]cerNAind!O89","v":20.092777345789301},{"$f":"[3]cerNAind!P89","v":21.097089977949953},{"$f":"[3]cerNAind!Q89","v":21.791627682266981}]
["N","Health and Social Work",{"$f":"[3]cerNAind!C90","v":6.3505458315152064},{"$f":"[3]cerNAind!D90","v":6.0488625179667981},{"$f":"[3]cerNAind!E90","v":5.6822047743620399},{"$f":"[3]cerNAind!F90","v":5.7486508796058011},{"$f":"[3]cerNAind!G90","v":5.9163445096359668},{"$f":"[3]cerNAind!H90","v":6.3491264684360393},{"$f":"[3]cerNAind!I90","v":7.5648497836218107},{"$f":"[3]cerNAind!J90","v":8.3860163676355839},{"$f":"[3]cerNAind!K90","v":9.8441625530017873},{"$f":"[3]cerNAind!L90","v":10.45670595266756},{"$f":"[3]cerNAind!M90","v":10.863157873619981},{"$f":"[3]cerNAind!N90","v":10.966939159420658},{"$f":"[3]cerNAind!O90","v":10.668389627758179},{"$f":"[3]cerNAind!P90","v":11.187595501239079},{"$f":"[3]cerNAind!Q90","v":11.277292482890296}]
["O","Other Community, Social, Personal Services",{"$f":"[3]cerNAind!C91","v":0.34508279767046357},{"$f":"[3]cerNAind!D91","v":0.40635493839502551},{"$f":"[3]cerNAind!E91","v":0.47399287239658144},{"$f":"[3]cerNAind!F91","v":0.54920568891044075},{"$f":"[3]cerNAind!G91","v":0.63993235602607679},{"$f":"[3]cerNAind!H91","v":0.64179462616063543},{"$f":"[3]cerNAind!I91","v":0.59926187028758071},{"$f":"[3]cerNAind!J91","v":0.63919664824077382},{"$f":"[3]cerNAind!K91","v":0.57445031787488821},{"$f":"[3]cerNAind!L91","v":0.58353774275031089},{"$f":"[3]cerNAind!M91","v":0.70237939501065738},{"$f":"[3]cerNAind!N91","v":0.99527331245831507},{"$f":"[3]cerNAind!O91","v":1.1124577617012397},{"$f":"[3]cerNAind!P91","v":1.2004963410550176},{"$f":"[3]cerNAind!Q91","v":1.4386099726577148}]
[null,"less intermediate FISIM",{"$f":"[3]cerNAind!C92","v":-2.225958612402124},{"$f":"[3]cerNAind!D92","v":-2.2503667989272671},{"$f":"[3]cerNAind!E92","v":-2.4450143601505294},{"$f":"[3]cerNAind!F92","v":-2.8546298983609328},{"$f":"[3]cerNAind!G92","v":-2.9595879394622719},{"$f":"[3]cerNAind!H92","v":-3.1870334452622351},{"$f":"[3]cerNAind!I92","v":-2.7301110766385599},{"$f":"[3]cerNAind!J92","v":-2.8393505586826855},{"$f":"[3]cerNAind!K92","v":-3.1077918313582376},{"$f":"[3]cerNAind!L92","v":-3.4924575234542852},{"$f":"[3]cerNAind!M92","v":-4.1349490153627562},{"$f":"[3]cerNAind!N92","v":-4.0213738230723681},{"$f":"[3]cerNAind!O92","v":-3.5648120419000113},{"$f":"[3]cerNAind!P92","v":-3.3401780521783646},{"$f":"[3]cerNAind!Q92","v":-3.1789933323066486}]
[null,"GDP at basic prices",{"$f":"[3]cerNAind!C93","v":95.31786125137593},{"$f":"[3]cerNAind!D93","v":97.366375489441907},{"$f":"[3]cerNAind!E93","v":97.111766789231623},{"$f":"[3]cerNAind!F93","v":101.85279767129491},{"$f":"[3]cerNAind!G93","v":107.04963001793926},{"$f":"[3]cerNAind!H93","v":115.67557726071094},{"$f":"[3]cerNAind!I93","v":116.73632261896618},{"$f":"[3]cerNAind!J93","v":120.22420514040385},{"$f":"[3]cerNAind!K93","v":123.78503222761393},{"$f":"[3]cerNAind!L93","v":130.48981401705905},{"$f":"[3]cerNAind!M93","v":138.8549442037137},{"$f":"[3]cerNAind!N93","v":141.16141228977966},{"$f":"[3]cerNAind!O93","v":143.29967887590328},{"$f":"[3]cerNAind!P93","v":152.63367800519242},{"$f":"[3]cerNAind!Q93","v":160.02761045280366}]
[null,"Taxes on products",{"$f":"[3]cerNAind!C94","v":13.232357151012947},{"$f":"[3]cerNAind!D94","v":13.929944820086014},{"$f":"[3]cerNAind!E94","v":12.195143424062074},{"$f":"[3]cerNAind!F94","v":11.042435553333332},{"$f":"[3]cerNAind!G94","v":10.679871966666665},{"$f":"[3]cerNAind!H94","v":12.890256828333332},{"$f":"[3]cerNAind!I94","v":13.99041877},{"$f":"[3]cerNAind!J94","v":14.009451604000001},{"$f":"[3]cerNAind!K94","v":16.531230854},{"$f":"[3]cerNAind!L94","v":16.948562553999999},{"$f":"[3]cerNAind!M94","v":18.858294133999998},{"$f":"[3]cerNAind!N94","v":18.451269139000001},{"$f":"[3]cerNAind!O94","v":15.858177529999999},{"$f":"[3]cerNAind!P94","v":17.391609689999999},{"$f":"[3]cerNAind!Q94","v":16.251564791}]
[null,"less subsidies",{"$f":"[3]cerNAind!C95","v":-2.3083999999999998},{"$f":"[3]cerNAind!D95","v":-2.6385999999999998},{"$f":"[3]cerNAind!E95","v":-1.3682999999999998},{"$f":"[3]cerNAind!F95","v":-1.9924999999999999},{"$f":"[3]cerNAind!G95","v":-2.6084999999999998},{"$f":"[3]cerNAind!H95","v":-3.8677630000000001},{"$f":"[3]cerNAind!I95","v":-3.8418469999999991},{"$f":"[3]cerNAind!J95","v":-3.0849760000000002},{"$f":"[3]cerNAind!K95","v":-2.6974790000000004},{"$f":"[3]cerNAind!L95","v":-4.0172319999999999},{"$f":"[3]cerNAind!M95","v":-7.8646029999999998},{"$f":"[3]cerNAind!N95","v":-6.9002319999999999},{"$f":"[3]cerNAind!O95","v":-7.4767890000000001},{"$f":"[3]cerNAind!P95","v":-6.8057359999999996},{"$f":"[3]cerNAind!Q95","v":-5.5314777499999996}]
[null,"GDP at purchasers prices",{"$f":"[3]cerNAind!C96","v":106.24181840238887},{"$f":"[3]cerNAind!D96","v":108.65772030952792},{"$f":"[3]cerNAind!E96","v":107.93861021329369},{"$f":"[3]cerNAind!F96","v":110.90273322462824},{"$f":"[3]cerNAind!G96","v":115.12100198460593},{"$f":"[3]cerNAind!H96","v":124.69807108904428},{"$f":"[3]cerNAind!I96","v":126.88489438896619},{"$f":"[3]cerNAind!J96","v":131.14868074440383},{"$f":"[3]cerNAind!K96","v":137.61878408161394},{"$f":"[3]cerNAind!L96","v":143.42114457105905},{"$f":"[3]cerNAind!M96","v":149.84863533771372},{"$f":"[3]cerNAind!N96","v":152.71244942877968},{"$f":"[3]cerNAind!O96","v":151.68106740590329},{"$f":"[3]cerNAind!P96","v":163.21955169519242},{"$f":"[3]cerNAind!Q96","v":170.74769749380366}]
["memo: GDP excluding offshore fishing vessels",null,{"$f":"[3]cerNAind!C97","v":106.24181840238887},{"$f":"[3]cerNAind!D97","v":108.65772030952792},{"$f":"[3]cerNAind!E97","v":107.93861021329369},{"$f":"[3]cerNAind!F97","v":110.90273322462824},{"$f":"[3]cerNAind!G97","v":115.12100198460593},{"$f":"[3]cerNAind!H97","v":124.69807108904428},{"$f":"[3]cerNAind!I97","v":126.88489438896619},{"$f":"[3]cerNAind!J97","v":131.14868074440383},{"$f":"[3]cerNAind!K97","v":137.61878408161394},{"$f":"[3]cerNAind!L97","v":143.42114457105905},{"$f":"[3]cerNAind!M97","v":149.84863533771372},{"$f":"[3]cerNAind!N97","v":152.71244942877968},{"$f":"[3]cerNAind!O97","v":150.2687234059033},{"$f":"[3]cerNAind!P97","v":157.38967644519244},{"$f":"[3]cerNAind!Q97","v":164.31897429905365}]
[]
["Table 2g    RMI Implicit GDP price deflators by industry, FY2004-FY2011"]
[null,"(FY2004=100)",{"$f":"C2","v":"FY1997"},{"$f":"D2","v":"FY1998"},"FY1999","FY2000","FY2001","FY2002","FY2003","FY2004","FY2005","FY2006","FY2007","FY2008","FY2009","FY2010",{"$f":"Q2","v":"FY2011"}]
["A","Agriculture, Hunting and Forestry",{"$f":"IF(C77<>0,C77/C3*100,0)","v":107.12018677795025},86.848243585513103,99.718985860967109,99.643057254776991,89.218765474132283,91.558096698134818,95.949010775216365,100,100.10473677571264,101.23510597292322,110.14262878763989,140.13840048903782,146.05419399265236,134.50252415226578,{"$f":"IF(Q77<>0,Q77/Q3*100,0)","v":145.9892515067225}]
["B","Fisheries (1)",{"$f":"IF(C78<>0,C78/C4*100,0)","v":89.0590762427518},88.749346174115004,92.279938917385579,92.059254765267312,93.403822822645751,94.200608888112882,90.279363821983338,100.00000000000003,106.06850596404074,108.84836208855266,102.76351315730605,119.69307259194491,130.77880721248124,139.84947604726926,{"$f":"IF(Q78<>0,Q78/Q4*100,0)","v":136.25866801564848}]
["C","Mining and Quarrying",{"$f":"IF(C79<>0,C79/C5*100,0)","v":0},0,0,0,0,0,0,0,0,0,0,0,0,0,{"$f":"IF(Q79<>0,Q79/Q5*100,0)","v":0}]
["D","Manufacturing",{"$f":"IF(C80<>0,C80/C6*100,0)","v":33.060644094350621},57.1961544407269,67.042860491660619,34.952980786746181,55.110242960932119,77.391653530157228,69.285543630995818,100,75.177866394355988,76.252966198163435,95.037366612591939,90.941918011237249,25.350944810395461,75.736353846906752,{"$f":"IF(Q80<>0,Q80/Q6*100,0)","v":149.56230981959959}]
["E","Electricity, Gas and Water Supply",{"$f":"IF(C81<>0,C81/C7*100,0)","v":177.08316680623949},240.20974213394325,252.68323756674951,231.85046755264241,106.04109688119301,316.05198066241201,179.71005938515952,100,67.893011435449736,94.507852886014902,224.53995742530643,188.78512934143532,273.88463777752855,250.10453268948089,{"$f":"IF(Q81<>0,Q81/Q7*100,0)","v":298.58516559011667}]
["F","Construction",{"$f":"IF(C82<>0,C82/C8*100,0)","v":88.712901443127222},89.759895418632695,92.634906060281168,94.486310778428475,94.987885182007602,95.589752728392355,98.484207351709657,100,102.30376715510094,106.01611283146831,107.79654091037784,115.835016138399,116.93734650107945,118.00110471607499,{"$f":"IF(Q82<>0,Q82/Q8*100,0)","v":123.96328722052105}]
["G","Wholesale and Retail Trade and Repairs",{"$f":"IF(C83<>0,C83/C9*100,0)","v":92.832027968453588},95.778944271654339,94.650037664929599,93.672197259380383,96.721045093125952,98.06441957204504,98.862306222716242,100,103.32195710796275,112.79770880157083,111.01688358754144,115.05613847099141,121.92369924701632,120.88116634529975,{"$f":"IF(Q83<>0,Q83/Q9*100,0)","v":124.244971180831}]
["H","Hotels and Restaurants",{"$f":"IF(C84<>0,C84/C10*100,0)","v":87.106600363730649},106.89538582113556,95.207018491047407,88.81849440535693,114.84380354001897,78.410994196150554,82.226254450643651,100,82.550678132995557,84.853339999795224,78.673242294089491,68.272763526995391,71.303916555909993,70.605615790668537,{"$f":"IF(Q84<>0,Q84/Q10*100,0)","v":69.479646961010658}]
["I","Transport, Storage and Communications",{"$f":"IF(C85<>0,C85/C11*100,0)","v":88.903589596733013},100.73480492249098,105.53659080795343,105.42229283156081,97.178296695587093,98.326263506086562,109.52146680418733,100,107.36294502865161,100.6715408904826,104.64233115033726,108.70160050843143,108.57179822446483,121.74923896610161,{"$f":"IF(Q85<>0,Q85/Q11*100,0)","v":128.77265554400643}]
["J","Financial Intermediation",{"$f":"IF(C86<>0,C86/C12*100,0)","v":88.6896909450018},89.958801622577226,92.103470013278013,99.288818501778991,88.317451458942912,99.344085380309039,98.469154879052184,100,113.8185375732369,126.43370041439547,129.00217227190547,114.78009317819952,97.907584914610879,86.973262335924431,{"$f":"IF(Q86<>0,Q86/Q12*100,0)","v":87.147539986352911}]
["K","Real Estate, Renting, Business Activities",{"$f":"IF(C87<>0,C87/C13*100,0)","v":92.101991354613901},93.934341163585415,96.251389291702154,97.132441658074384,98.475840519398218,98.268057033658721,97.860126317897084,100,103.18663882639181,107.86746240786262,109.80530575897289,123.60545944357371,123.63215538799483,125.65537971375763,{"$f":"IF(Q87<>0,Q87/Q13*100,0)","v":132.055449071016}]
["L","Public Administration",{"$f":"IF(C88<>0,C88/C14*100,0)","v":88.451194181242499},88.121402906791673,89.6518156271203,92.823421782378063,95.288737414045215,100.60261004386474,101.04286463775355,100,103.95762480147059,104.41838872373235,106.50647498718571,103.53954720427403,105.49713864700266,103.27817088786138,{"$f":"IF(Q88<>0,Q88/Q14*100,0)","v":105.32046538685631}]
["M","Education",{"$f":"IF(C89<>0,C89/C15*100,0)","v":59.491683225839274},70.247996413961616,74.590569454861026,79.717037871264253,75.482483526579742,79.653070821278803,85.851869140911617,99.999999999999972,97.232692709239714,99.858017102961114,94.279284461226851,98.497687855626609,100.59317098966754,99.955627616255327,{"$f":"IF(Q89<>0,Q89/Q15*100,0)","v":98.835000282890746}]
["N","Health and Social Work",{"$f":"IF(C90<>0,C90/C16*100,0)","v":80.958486820167451},82.328200958148258,84.307033539978022,87.199001759547386,90.89972699554508,92.963447372445003,99.023986774909289,100,107.12328794194926,108.9585447389229,112.67570419867594,117.42722035052329,119.84115905805157,118.0791547275812,{"$f":"IF(Q90<>0,Q90/Q16*100,0)","v":115.77444438790742}]
["O","Other Community, Social, Personal Services",{"$f":"IF(C91<>0,C91/C17*100,0)","v":92.953686622593452},78.414187778082749,82.029694086048025,77.974133373006111,82.299094689650502,97.152559529634871,96.582689656796887,100,90.771063826506378,92.104230456169475,101.70371881097915,102.94808321203919,104.94202913871177,99.290175449713928,{"$f":"IF(Q91<>0,Q91/Q17*100,0)","v":106.56918144600095}]
[null,"less intermediate FISIM",{"$f":"IF(C92<>0,C92/C18*100,0)","v":92.586599752195639},91.267497081214884,95.835925760694749,108.43583291729635,108.76240744297134,114.04079877603041,99.981849962674175,100,110.5867820201706,129.66026944754768,137.41549000016511,120.63748559993968,99.736185751014503,90.795564668682616,{"$f":"IF(Q92<>0,Q92/Q18*100,0)","v":89.941671370528894}]
[null,"GDP at basic prices",{"$f":"IF(C93<>0,C93/C19*100,0)","v":85.269363692616437},90.370221596587342,93.020258254991006,92.962452971079983,91.807067523033567,96.697382863783844,97.321129169564131,100,101.21934873395118,104.50013220230491,106.9556382897281,110.85991526747041,112.95773583531144,115.30307889115205,{"$f":"IF(Q93<>0,Q93/Q19*100,0)","v":120.02051601468753}]
[null,"Taxes on products less Subsidies",{"$f":"IF(C94<>0,C94/C20*100,0)","v":108.43794279320778},111.34877164554915,96.32396284099039,77.322601853180501,75.912224743989029,91.448182348105263,99.415836870999684,100,107.76394923889612,111.62140691211317,114.90827361345701,116.1342107899122,111.58064170971387,109.76538416841686,{"$f":"IF(Q94<>0,Q94/Q20*100,0)","v":105.20316035804731}]
[null,"GDP at purchasers prices",{"$f":"IF(C96<>0,C96/C22*100,0)","v":88.105984290483121},92.766606531171377,94.395861297829882,91.572216568096266,90.21612825623771,95.238474558830774,96.722742594540463,100,102.25647718628619,104.6146101314423,105.91227816956818,110.00740507378039,110.90143808214532,{"$f":"IF(P96<>0,P96/P22*100,0)","v":113.01636338462045},117.28010316993269]
["memo: GDP excluding offshore fishing vessels",null,{"$f":"IF(C97<>0,C97/C23*100,0)","v":88.105984290483121},92.766606531171377,94.395861297829882,91.572216568096266,90.21612825623771,95.238474558830774,96.722742594540463,100,102.25647718628619,104.6146101314423,105.91227816956818,110.00740507378039,110.56734518495641,111.7924347419694,117.03578665288472]
["1) \"Fisheries\" includes fish processing and other vessel support services."]
["Source: EPPSO estimates"]
["Table 2h    RMI Share of GDP by industry, current prices, FY2004-FY2011"]
[null,null,{"$f":"C2","v":"FY1997"},{"$f":"D2","v":"FY1998"},"FY1999","FY2000","FY2001","FY2002","FY2003","FY2004","FY2005","FY2006","FY2007","FY2008","FY2009","FY2010",{"$f":"Q2","v":"FY2011"}]
["A","Agriculture, Hunting and Forestry",{"$f":"IF(C77/C$96<>0,C77/C$96,\"~\")","v":4.5445526933144631E-2},{"$f":"IF(D77/D$96<>0,D77/D$96,\"~\")","v":3.2586082583179125E-2},3.5714236155320642E-2,3.3845831406070288E-2,3.2079291020254336E-2,2.5443526942731477E-2,2.8407579894476554E-2,2.9889803642478254E-2,2.8844555238693542E-2,2.7738901468672097E-2,3.1680007068468713E-2,4.2344366999454618E-2,4.2927034647406472E-2,3.4650310871290314E-2,{"$f":"IF(Q77/Q$96<>0,Q77/Q$96,\"~\")","v":3.3087825860412964E-2}]
["B","Fisheries (1)",{"$f":"IF(C78/C$96<>0,C78/C$96,\"~\")","v":4.4943316226627852E-2},4.4452430226803612E-2,4.5060190413106348E-2,6.2140410676146854E-2,6.2162364204831871E-2,6.2104619299525696E-2,6.5410955017523628E-2,6.2705137974508884E-2,5.4281605559263958E-2,5.5916338680542313E-2,5.4377198804922006E-2,5.8034645248844378E-2,7.8341620907124099E-2,0.10826227014792969,0.1099094935225132]
["C","Mining and Quarrying","~","~","~","~","~","~","~","~","~","~","~","~","~","~","~"]
["D","Manufacturing",1.2088175356481328E-2,1.839630906255018E-2,1.8255123226740392E-2,1.0317177536653146E-2,1.7712909569759839E-2,1.7296076896812385E-2,1.8320685916798859E-2,2.7865617114051857E-2,2.0175327648784085E-2,1.930168716582966E-2,2.715857745546691E-2,2.7482089797901132E-2,6.9205879822429369E-3,1.7016986254608377E-2,2.8902332272172159E-2]
["E","Electricity, Gas and Water Supply",2.7473174347836381E-2,3.5708461294303197E-2,4.080838164671409E-2,3.6665462444139242E-2,1.7025564112637701E-2,4.7616317944164828E-2,2.6155572071694871E-2,1.4792859440050338E-2,1.1526616882905082E-2,1.3147154874822346E-2,3.2754839501462539E-2,2.9054448518090623E-2,4.2237993901081003E-2,3.5439265332637096E-2,4.0244996335891264E-2]
["F","Construction",6.4300991506661145E-2,7.9646760617486628E-2,8.1650884045952096E-2,6.065796134700311E-2,7.0430011285984515E-2,6.6510269436454286E-2,6.1379145442646797E-2,5.3913296897769761E-2,5.3590500040831338E-2,7.8324130126442307E-2,6.7004775439247904E-2,7.0834373866895492E-2,6.6473936926462002E-2,5.921530851654646E-2,5.5655407845838993E-2]
["G","Wholesale and Retail Trade and Repairs",0.13859317296806645,0.1298144952134406,0.1241578555240183,0.14317789297817252,0.15323406061237743,0.15170406044078705,0.14131342133088703,0.14609182438849896,0.14588632460290774,0.13954612859651419,0.13587957057394826,0.13686721904101845,0.14113808787857118,0.1369754533313299,0.13865151886686675]
["H","Hotels and Restaurants",3.8521011639407847E-2,4.0600699414078026E-2,3.4728126520122762E-2,3.8052205884186348E-2,5.4055685384152098E-2,3.2680617091793464E-2,2.9190656824585846E-2,3.0487435806368576E-2,2.5372377081590135E-2,1.9793966551412492E-2,2.1850790732575894E-2,1.7164255959334095E-2,1.7702534791730187E-2,1.4796038433524217E-2,1.38525987075782E-2]
["I","Transport, Storage and Communications",8.4007515221688367E-2,8.8939267878009973E-2,8.7690253820368783E-2,9.3046765088360864E-2,8.779932808168471E-2,9.5212910801573347E-2,0.10672084654399808,9.2385450895776794E-2,8.9112389115874033E-2,8.1883914326130666E-2,9.2521072205065238E-2,7.2787368712610642E-2,7.6734250509359878E-2,8.3266935187917529E-2,7.7601395575098236E-2]
["J","Financial Intermediation",3.9865654440163663E-2,4.1802566431687394E-2,4.475583873537755E-2,4.7946426488560533E-2,4.5375177118191772E-2,4.6562162033136761E-2,4.3974571699515873E-2,4.6302697809973814E-2,5.0541695339638051E-2,5.534221176375994E-2,5.9217357735536727E-2,5.511593951208596E-2,4.8837629210017927E-2,4.2311103771661793E-2,3.9717426942012697E-2]
["K","Real Estate, Renting, Business Activities",9.6328720519319469E-2,8.6828438469138E-2,8.6039303019309413E-2,8.7525871131990535E-2,8.6209306143727085E-2,7.9561991389558689E-2,7.7648680758235514E-2,7.3986868608185347E-2,7.3346282265661741E-2,7.4351153422582431E-2,7.3460120491718836E-2,8.2277521043546908E-2,8.5543383217255367E-2,8.1713434898854312E-2,8.3739012120541231E-2]
["L","Public Administration",0.18263989762973001,0.17437190502670655,0.17345911716353021,0.17597086866053288,0.17247203178744533,0.16113757368949982,0.16044686988725809,0.16149486820827602,0.16463920012764868,0.1629757964108815,0.15674942225535318,0.15434653337908333,0.15125249285009995,0.13680633443132736,0.13237625920920673]
["M","Education",8.0900489152196817E-2,8.4237816664575665E-2,9.2992771458654977E-2,9.8003402945286908E-2,0.10008951618831144,0.11131037215354621,0.11822228767674862,0.12961894532819948,0.12903714648211945,0.12888853648013879,0.12439366729549492,0.12605347256070759,0.13246727287341933,0.12925589954656982,0.12762472350795703]
["N","Health and Social Work",5.9774445948041238E-2,5.5668962138499686E-2,5.2642930672663242E-2,5.183506945642341E-2,5.1392399367989387E-2,5.0915995836874346E-2,5.9619782323589533E-2,6.3942819096892964E-2,7.1532114011149589E-2,7.2909095684191183E-2,7.2494206231092415E-2,7.1814309838146476E-2,7.0334352270934611E-2,6.8543231402397028E-2,6.604652741100385E-2]
["O","Other Community, Social, Personal Services",3.2480882091406702E-3,3.7397705127391054E-3,4.3913190234702928E-3,4.9521384454795231E-3,5.5587802833026861E-3,5.1467887237994512E-3,4.722877953072498E-3,4.8738320859399772E-3,4.1742144555950598E-3,4.0687009192092519E-3,4.6872592027795623E-3,6.5173030501516479E-3,7.3341899600710735E-3,7.3551013257094847E-3,8.4253550342013907E-3]
[null,"less intermediate FISIM",-2.0951812063036684E-2,-2.0710601994195697E-2,-2.2651897734453155E-2,-2.5739941797277576E-2,-2.5708497046073579E-2,-2.5558001157743981E-2,-2.1516438893580136E-2,-2.1649859858036288E-2,-2.2582613646078879E-2,-2.4351064369897854E-2,-2.759417198590982E-2,-2.6332979649755481E-2,-2.3502023705835762E-2,-2.0464325612265168E-2,-1.8618074380897656E-2]
[null,"GDP at basic prices",0.89717836803546924,0.89608336353900198,0.89969443369089597,0.91839754269172869,0.92988792811457655,0.92764528152251402,0.92001749444745162,0.91670159743893476,0.89947773520658347,0.90983665210123132,0.92663469300722323,0.92436086787811589,0.94474334421994044,0.93514334784003816,0.93721679883039699]
[null,"Taxes on products",0.12454942272256339,0.12820023078345896,0.1129822164651155,9.9568651125733765E-2,9.277083922614561E-2,0.10337174196647092,0.11026071178427521,0.1068211401325727,0.12012336080659061,0.11817338792469831,0.12584895479027272,0.12082360808183551,0.10454948531950278,0.10655347052097229,9.5178822493871468E-2]
[null,"less subsidies",-2.1727790758032571E-2,-2.4283594322460932E-2,-1.267665015601137E-2,-1.7966193817462419E-2,-2.2658767340722162E-2,-3.1017023488984941E-2,-3.0278206231726848E-2,-2.352273757150727E-2,-1.9601096013174172E-2,-2.8010040025929602E-2,-5.2483647797496133E-2,-4.5184475959951467E-2,-4.9292829539443299E-2,-4.1696818361010489E-2,-3.2395621324268424E-2]
[null,"GDP at purchasers prices",1,1,1,{"$f":"IF(F96/F$96<>0,F96/F$96,\"~\")","v":1},1,1,1,1,1,1,1,1,1,1,{"$f":"IF(Q96/Q$96<>0,Q96/Q$96,\"~\")","v":1}]
["1) \"Fisheries\" includes fish processing and other vessel support services."]
["Source: EPPSO estimates"]

{"sheet":"NAInst","index":8,"n_rows":95,"n_cols":17,"rows_kept":95,"cut":false,"hidden":false,"merged":[]}
["Table 2i     Constant price GDP by institutional sector, FY2004-FY2011"]
[null,"(constant prices of FY2004, US$ millions)","FY1997","FY1998","FY1999","FY2000","FY2001","FY2002","FY2003","FY2004","FY2005","FY2006","FY2007","FY2008","FY2009","FY2010","FY2011"]
[1.1000000000000001,"Private Enterprise",{"$f":"[3]cerNAsum!C3","v":31.470522314346315},{"$f":"[3]cerNAsum!D3","v":31.736971063131204},{"$f":"[3]cerNAsum!E3","v":30.321127486920975},{"$f":"[3]cerNAsum!F3","v":32.78049182058237},{"$f":"[3]cerNAsum!G3","v":35.809917964756323},{"$f":"[3]cerNAsum!H3","v":37.065084636566866},{"$f":"[3]cerNAsum!I3","v":35.355727474160155},{"$f":"[3]cerNAsum!J3","v":34.256701730892566},{"$f":"[3]cerNAsum!K3","v":33.155541979229561},{"$f":"[3]cerNAsum!L3","v":35.651122284007812},{"$f":"[3]cerNAsum!M3","v":36.218879226098245},{"$f":"[3]cerNAsum!N3","v":34.614851625030575},{"$f":"[3]cerNAsum!O3","v":34.570941006077931},{"$f":"[3]cerNAsum!P3","v":38.277294997965491},{"$f":"[3]cerNAsum!Q3","v":39.342934587546239}]
[1.2,"Public Enterprise",{"$f":"[3]cerNAsum!C4","v":9.9334717379859701},{"$f":"[3]cerNAsum!D4","v":9.1347330366437571},{"$f":"[3]cerNAsum!E4","v":8.5099198067586812},{"$f":"[3]cerNAsum!F4","v":10.777143680334813},{"$f":"[3]cerNAsum!G4","v":11.037394043426813},{"$f":"[3]cerNAsum!H4","v":11.617423346700104},{"$f":"[3]cerNAsum!I4","v":11.960637150126614},{"$f":"[3]cerNAsum!J4","v":11.307229360000001},{"$f":"[3]cerNAsum!K4","v":11.493771178702129},{"$f":"[3]cerNAsum!L4","v":10.148355165855088},{"$f":"[3]cerNAsum!M4","v":11.469061487365023},{"$f":"[3]cerNAsum!N4","v":10.439278218661876},{"$f":"[3]cerNAsum!O4","v":10.707695032606455},{"$f":"[3]cerNAsum!P4","v":11.214459905206322},{"$f":"[3]cerNAsum!Q4","v":10.746389049575074}]
["2","Finance (Banks)",{"$f":"[3]cerNAsum!C5","v":4.5096730564359699},{"$f":"[3]cerNAsum!D5","v":4.7787635859432562},{"$f":"[3]cerNAsum!E5","v":5.0021061352032055},{"$f":"[3]cerNAsum!F5","v":5.1095715281581029},{"$f":"[3]cerNAsum!G5","v":5.6239393671617144},{"$f":"[3]cerNAsum!H5","v":5.5785270775165685},{"$f":"[3]cerNAsum!I5","v":5.4419845148495529},{"$f":"[3]cerNAsum!J5","v":5.8402960000000004},{"$f":"[3]cerNAsum!K5","v":5.888405980339189},{"$f":"[3]cerNAsum!L5","v":6.0187469004768523},{"$f":"[3]cerNAsum!M5","v":6.5399664699601843},{"$f":"[3]cerNAsum!N5","v":7.0345356614641057},{"$f":"[3]cerNAsum!O5","v":7.2424183197630247},{"$f":"[3]cerNAsum!P5","v":7.6276063816289481},{"$f":"[3]cerNAsum!Q5","v":7.4587552522991114}]
["3","Government",{"$f":"[3]cerNAsum!C6","v":44.04756578571908},{"$f":"[3]cerNAsum!D6","v":41.555319837794933},{"$f":"[3]cerNAsum!E6","v":40.690160994055255},{"$f":"[3]cerNAsum!F6","v":41.016099389366758},{"$f":"[3]cerNAsum!G6","v":43.596749456670409},{"$f":"[3]cerNAsum!H6","v":45.869948009508548},{"$f":"[3]cerNAsum!I6","v":47.331357548140531},{"$f":"[3]cerNAsum!J6","v":48.453762241663995},{"$f":"[3]cerNAsum!K6","v":50.890330880095597},{"$f":"[3]cerNAsum!L6","v":52.14880445943303},{"$f":"[3]cerNAsum!M6","v":52.683712221401997},{"$f":"[3]cerNAsum!N6","v":52.572011076235448},{"$f":"[3]cerNAsum!O6","v":52.291158028067755},{"$f":"[3]cerNAsum!P6","v":53.795245661810974},{"$f":"[3]cerNAsum!Q6","v":54.94590977854677}]
["4","NGOs",{"$f":"[3]cerNAsum!C7","v":1.8829045438316145},{"$f":"[3]cerNAsum!D7","v":1.9373537404414825},{"$f":"[3]cerNAsum!E7","v":1.8877581095130269},{"$f":"[3]cerNAsum!F7","v":1.9030998401151926},{"$f":"[3]cerNAsum!G7","v":1.9832673560254179},{"$f":"[3]cerNAsum!H7","v":2.0432953637633462},{"$f":"[3]cerNAsum!I7","v":1.972165521880578},{"$f":"[3]cerNAsum!J7","v":2.0440206092099942},{"$f":"[3]cerNAsum!K7","v":2.2497113755015761},{"$f":"[3]cerNAsum!L7","v":2.1422634731751349},{"$f":"[3]cerNAsum!M7","v":2.1618451002346259},{"$f":"[3]cerNAsum!N7","v":2.0440206092099942},{"$f":"[3]cerNAsum!O7","v":1.9966565027327627},{"$f":"[3]cerNAsum!P7","v":2.0189159591337229},{"$f":"[3]cerNAsum!Q7","v":2.0432953637633462}]
["5","Households",{"$f":"[3]cerNAsum!C8","v":18.941464763229604},{"$f":"[3]cerNAsum!D8","v":17.942558824702221},{"$f":"[3]cerNAsum!E8","v":17.826389159440108},{"$f":"[3]cerNAsum!F8","v":17.874739608768678},{"$f":"[3]cerNAsum!G8","v":18.206958615964876},{"$f":"[3]cerNAsum!H8","v":17.457122979843174},{"$f":"[3]cerNAsum!I8","v":17.780244819666319},{"$f":"[3]cerNAsum!J8","v":18.076569757319987},{"$f":"[3]cerNAsum!K8","v":18.374261729998796},{"$f":"[3]cerNAsum!L8","v":18.495037198395082},{"$f":"[3]cerNAsum!M8","v":19.007737713991045},{"$f":"[3]cerNAsum!N8","v":19.561009065813458},{"$f":"[3]cerNAsum!O8","v":19.324126207433601},{"$f":"[3]cerNAsum!P8","v":19.322086467813765},{"$f":"[3]cerNAsum!Q8","v":19.139084968393348}]
[null,"GDP at Factor Cost (Gross)",{"$f":"[3]cerNAsum!C9","v":110.78560220154856},{"$f":"[3]cerNAsum!D9","v":107.08570008865685},{"$f":"[3]cerNAsum!E9","v":104.23746169189126},{"$f":"[3]cerNAsum!F9","v":109.46114586732591},{"$f":"[3]cerNAsum!G9","v":116.25822680400556},{"$f":"[3]cerNAsum!H9","v":119.63140141389862},{"$f":"[3]cerNAsum!I9","v":119.84211702882375},{"$f":"[3]cerNAsum!J9","v":119.97857969908655},{"$f":"[3]cerNAsum!K9","v":122.05202312386683},{"$f":"[3]cerNAsum!L9","v":124.604329481343},{"$f":"[3]cerNAsum!M9","v":128.08120221905111},{"$f":"[3]cerNAsum!N9","v":126.26570625641546},{"$f":"[3]cerNAsum!O9","v":126.13299509668153},{"$f":"[3]cerNAsum!P9","v":132.25560937355922},{"$f":"[3]cerNAsum!Q9","v":133.67636900012388}]
[null,"Indirect taxes less Subsidies",{"$f":"[3]cerNAsum!C10","v":12.20270028199187},{"$f":"[3]cerNAsum!D10","v":12.51019172840855},{"$f":"[3]cerNAsum!E10","v":12.660549944559035},{"$f":"[3]cerNAsum!F10","v":14.280993252529987},{"$f":"[3]cerNAsum!G10","v":14.068711597748729},{"$f":"[3]cerNAsum!H10","v":14.095694957900285},{"$f":"[3]cerNAsum!I10","v":14.072625861565427},{"$f":"[3]cerNAsum!J10","v":14.009451604000001},{"$f":"[3]cerNAsum!K10","v":15.340223674758617},{"$f":"[3]cerNAsum!L10","v":15.183971446753675},{"$f":"[3]cerNAsum!M10","v":16.411606876488211},{"$f":"[3]cerNAsum!N10","v":15.887884382646307},{"$f":"[3]cerNAsum!O10","v":14.212301781931259},{"$f":"[3]cerNAsum!P10","v":15.844348217572351},{"$f":"[3]cerNAsum!Q10","v":15.447791431064996}]
[null,"Less intermediate FISIM",{"$f":"[3]cerNAsum!C11","v":-2.4041909070641041},{"$f":"[3]cerNAsum!D11","v":-2.4656826043172475},{"$f":"[3]cerNAsum!E11","v":-2.551250317397471},{"$f":"[3]cerNAsum!F11","v":-2.6325521938289067},{"$f":"[3]cerNAsum!G11","v":-2.7211497143570558},{"$f":"[3]cerNAsum!H11","v":-2.7946432149439655},{"$f":"[3]cerNAsum!I11","v":-2.7306066827707043},{"$f":"[3]cerNAsum!J11","v":-2.8393505586826855},{"$f":"[3]cerNAsum!K11","v":-2.8102742249895547},{"$f":"[3]cerNAsum!L11","v":-2.6935448602218988},{"$f":"[3]cerNAsum!M11","v":-3.0090850859373917},{"$f":"[3]cerNAsum!N11","v":-3.3334363718489},{"$f":"[3]cerNAsum!O11","v":-3.5742414000063669},{"$f":"[3]cerNAsum!P11","v":-3.6787898884343471},{"$f":"[3]cerNAsum!Q11","v":-3.5345055121449591}]
[null,"Real GDP at Market Prices (Gross)",{"$f":"[3]cerNAsum!C12","v":120.58411157647632},{"$f":"[3]cerNAsum!D12","v":117.13020921274814},{"$f":"[3]cerNAsum!E12","v":114.34676131905282},{"$f":"[3]cerNAsum!F12","v":121.10958692602699},{"$f":"[3]cerNAsum!G12","v":127.60578868739724},{"$f":"[3]cerNAsum!H12","v":130.93245315685493},{"$f":"[3]cerNAsum!I12","v":131.18413620761845},{"$f":"[3]cerNAsum!J12","v":131.14868074440386},{"$f":"[3]cerNAsum!K12","v":134.58197257363591},{"$f":"[3]cerNAsum!L12","v":137.09475606787478},{"$f":"[3]cerNAsum!M12","v":141.48372400960193},{"$f":"[3]cerNAsum!N12","v":138.82015426721287},{"$f":"[3]cerNAsum!O12","v":136.7710554786064},{"$f":"[3]cerNAsum!P12","v":144.42116770269723},{"$f":"[3]cerNAsum!Q12","v":145.58965491904391}]
[]
["Table 2j     Constant price GDP by institutional sector, annual percent growth, FY2004-FY2011"]
[null,null,{"$f":"C2","v":"FY1997"},{"$f":"D2","v":"FY1998"},"FY1999","FY2000","FY2001","FY2002","FY2003","FY2004","FY2005","FY2006","FY2007","FY2008","FY2009","FY2010","FY2011"]
[1.1000000000000001,"Private Enterprise",null,{"$f":"D3/C3-1","v":8.4666134906641322E-3},{"$f":"E3/D3-1","v":-4.4611805373418689E-2},8.1110583197219199E-2,9.2415518374615147E-2,3.5050811148069627E-2,-4.6117719119419753E-2,-3.1084800731955409E-2,-3.2144359965337377E-2,7.5268873793153945E-2,1.5925359588051968E-2,-4.4287057891947534E-2,-1.2685485244400274E-3,{"$f":"P3/O3-1","v":0.10721009854015673},2.7839992079831788E-2]
[1.2,"Public Enterprise",null,{"$f":"D4/C4-1","v":-8.0408816012211171E-2},-6.8399725244148168E-2,0.26642129715199836,2.4148361644920957E-2,5.2551290729601075E-2,2.9543022853169898E-2,-5.4629848052843544E-2,1.6497570957747731E-2,-0.11705609864063471,0.13013993892858133,-8.978792814369474E-2,2.571220043400535E-2,4.7327167150044369E-2,-4.1738154096386371E-2]
["2","Finance (Banks)",null,5.96696315098173E-2,4.6736471734427631E-2,2.148402893704926E-2,0.10066750923614731,-8.0748185000552031E-3,-2.4476454227018163E-2,7.3192322408043298E-2,8.2375928102254026E-3,2.2135178955537071E-2,8.6599350014541443E-2,7.5622588246531564E-2,2.9551724279076597E-2,5.3185006010330493E-2,-2.2136843576054721E-2]
["3","Government",null,-5.6580787234607466E-2,-2.0819448559575515E-2,8.010250816140152E-3,6.2917978689428278E-2,5.2141468828941218E-2,3.1859847286703769E-2,2.3713765073859694E-2,5.0286469526951816E-2,2.4729129435266728E-2,1.0257335091642839E-2,-2.1202216103741733E-3,-5.3422542226969627E-3,2.8763708635710206E-2,2.138969908176569E-2]
["4","NGOs",null,2.8917661698912633E-2,-2.5599677484378081E-2,8.1269578580294155E-3,4.2124703192331081E-2,3.0267229254570926E-2,-3.4811336209250254E-2,3.6434612882238149E-2,0.10063047572259087,-4.7760749888409837E-2,9.1406249999999023E-3,-5.4501819307888555E-2,-2.3172029804306882E-2,1.1148365465213583E-2,1.2075492552985789E-2]
["5","Households",null,-5.2736467375349094E-2,-6.4745316650253182E-3,2.7122962982644161E-3,1.8585949472137875E-2,-4.118401386732462E-2,1.8509455435253397E-2,1.666596498862094E-2,1.6468388453968696E-2,6.5730786994886437E-3,2.7720977800490765E-2,2.9107690780853179E-2,-1.21099508508411E-2,-1.0555404150958125E-4,-9.4711044651030196E-3]
[null,"GDP at Factor Cost (Gross)",null,-3.3396958082699157E-2,-2.6597747359428214E-2,5.0113309463300393E-2,6.2095832113050919E-2,2.9014502479723259E-2,1.7613737901147619E-3,1.1386870796847859E-3,1.7281780047576856E-2,2.0911626797746052E-2,2.7903306026205943E-2,-1.4174569969531481E-2,-1.0510467463304973E-3,4.8540941029622697E-2,1.0742528300268006E-2]
[null,"Indirect taxes less Subsidies",null,2.5198639588850824E-2,1.2018857857233778E-2,0.12799154184193617,-1.4864628182892692E-2,1.9179695286293263E-3,-1.6366058150206753E-3,-4.4891591794510299E-3,9.4991018090861745E-2,-1.0185785508593614E-2,8.0850746725883882E-2,-3.1911713324805802E-2,-0.10546291503387439,0.11483336483299178,-2.5028280183059248E-2]
[null,"Less intermediate FISIM",null,2.5576877889549321E-2,3.4703458154103028E-2,3.1867463524461792E-2,3.3654611192832196E-2,2.7008253239118263E-2,-2.2914027748098476E-2,3.9824071550883522E-2,-1.0240487425624778E-2,-4.1536645687340279E-2,0.1171468240144693,0.10779066614876598,7.2239275418928717E-2,2.9250539269058295E-2,-3.9220608043693872E-2]
[null,"Real GDP at Market Prices (Gross)",null,-2.8643096661517098E-2,-2.3763706326517697E-2,5.9143132074413574E-2,5.3639038215348656E-2,2.6069855479732285E-2,1.9222358146915308E-3,-2.7027249055844305E-4,2.6178622687964337E-2,1.867102588992009E-2,3.2014119778251748E-2,-1.8825979885914612E-2,-1.476081624763359E-2,5.5933707591278026E-2,8.0908306928531015E-3]
[]
["Table 2k    Current price GDP by institutional sector, FY2004-FY2011"]
[null,"(US$ millions)",{"$f":"C2","v":"FY1997"},{"$f":"D2","v":"FY1998"},"FY1999","FY2000","FY2001","FY2002","FY2003","FY2004","FY2005","FY2006","FY2007","FY2008","FY2009","FY2010","FY2011"]
[1.1000000000000001,"Private Enterprise",{"$f":"[3]cerNAsum!C29","v":28.889475057184466},{"$f":"[3]cerNAsum!D29","v":28.877303446475054},{"$f":"[3]cerNAsum!E29","v":28.592766189509241},{"$f":"[3]cerNAsum!F29","v":31.493314124085234},{"$f":"[3]cerNAsum!G29","v":34.424474559878171},{"$f":"[3]cerNAsum!H29","v":35.84540578574736},{"$f":"[3]cerNAsum!I29","v":34.195780091504744},{"$f":"[3]cerNAsum!J29","v":34.256701730892566},{"$f":"[3]cerNAsum!K29","v":34.134943976124738},{"$f":"[3]cerNAsum!L29","v":38.13915606308602},{"$f":"[3]cerNAsum!M29","v":38.982515723269437},{"$f":"[3]cerNAsum!N29","v":41.071831247954862},{"$f":"[3]cerNAsum!O29","v":41.777239942496735},{"$f":"[3]cerNAsum!P29","v":48.116083796741151},{"$f":"[3]cerNAsum!Q29","v":50.432648050081511}]
[1.2,"Public Enterprise",{"$f":"[3]cerNAsum!C30","v":8.7426837850143553},{"$f":"[3]cerNAsum!D30","v":11.893750179684078},{"$f":"[3]cerNAsum!E30","v":12.214354595350146},{"$f":"[3]cerNAsum!F30","v":11.258659084940716},{"$f":"[3]cerNAsum!G30","v":10.728981648378737},{"$f":"[3]cerNAsum!H30","v":13.196696542137758},{"$f":"[3]cerNAsum!I30","v":11.987976580851248},{"$f":"[3]cerNAsum!J30","v":11.307229360000001},{"$f":"[3]cerNAsum!K30","v":10.179198666666668},{"$f":"[3]cerNAsum!L30","v":8.2476700000000012},{"$f":"[3]cerNAsum!M30","v":10.274848999999996},{"$f":"[3]cerNAsum!N30","v":7.1379589999999924},{"$f":"[3]cerNAsum!O30","v":7.4114257979262588},{"$f":"[3]cerNAsum!P30","v":10.999868000000005},{"$f":"[3]cerNAsum!Q30","v":14.826627869999994}]
["2","Finance (Banks)",{"$f":"[3]cerNAsum!C31","v":3.9790000000000001},{"$f":"[3]cerNAsum!D31","v":4.2830000000000004},{"$f":"[3]cerNAsum!E31","v":4.56935},{"$f":"[3]cerNAsum!F31","v":5.0816000000000008},{"$f":"[3]cerNAsum!G31","v":4.9328500000000002},{"$f":"[3]cerNAsum!H31","v":5.5743},{"$f":"[3]cerNAsum!I31","v":5.3570000000000002},{"$f":"[3]cerNAsum!J31","v":5.8402960000000004},{"$f":"[3]cerNAsum!K31","v":6.7038410000000006},{"$f":"[3]cerNAsum!L31","v":7.6642620000000008},{"$f":"[3]cerNAsum!M31","v":8.5797080000000001},{"$f":"[3]cerNAsum!N31","v":8.0885499999999997},{"$f":"[3]cerNAsum!O31","v":7.067259},{"$f":"[3]cerNAsum!P31","v":6.5463170000000002},{"$f":"[3]cerNAsum!Q31","v":6.3885689999999995}]
["3","Government",{"$f":"[3]cerNAsum!C32","v":34.003596388808468},{"$f":"[3]cerNAsum!D32","v":33.806859539269553},{"$f":"[3]cerNAsum!E32","v":34.040516890443314},{"$f":"[3]cerNAsum!F32","v":35.899383758033458},{"$f":"[3]cerNAsum!G32","v":38.003208566069731},{"$f":"[3]cerNAsum!H32","v":41.531770288265996},{"$f":"[3]cerNAsum!I32","v":44.707502710103896},{"$f":"[3]cerNAsum!J32","v":48.453762241663995},{"$f":"[3]cerNAsum!K32","v":52.072246211410942},{"$f":"[3]cerNAsum!L32","v":54.157170309751251},{"$f":"[3]cerNAsum!M32","v":54.216833529630591},{"$f":"[3]cerNAsum!N32","v":54.759867952395368},{"$f":"[3]cerNAsum!O32","v":55.056654287959987},{"$f":"[3]cerNAsum!P32","v":55.682648472740794},{"$f":"[3]cerNAsum!Q32","v":56.898514802669716}]
["4","NGOs",{"$f":"[3]cerNAsum!C33","v":1.7934925877657295},{"$f":"[3]cerNAsum!D33","v":1.7757015841375783},{"$f":"[3]cerNAsum!E33","v":1.7811954756472541},{"$f":"[3]cerNAsum!F33","v":1.7848290275470171},{"$f":"[3]cerNAsum!G33","v":1.9564276709799702},{"$f":"[3]cerNAsum!H33","v":2.0273744384789838},{"$f":"[3]cerNAsum!I33","v":2.0472199123384347},{"$f":"[3]cerNAsum!J33","v":2.0440206092099942},{"$f":"[3]cerNAsum!K33","v":2.3417424065851491},{"$f":"[3]cerNAsum!L33","v":2.2083686582515454},{"$f":"[3]cerNAsum!M33","v":2.2586247947749856},{"$f":"[3]cerNAsum!N33","v":2.2036491694721323},{"$f":"[3]cerNAsum!O33","v":2.2557898257493827},{"$f":"[3]cerNAsum!P33","v":2.4643968158162188},{"$f":"[3]cerNAsum!Q33","v":2.5530651290943966}]
["5","Households",{"$f":"[3]cerNAsum!C34","v":17.827172045005035},{"$f":"[3]cerNAsum!D34","v":16.341527538802918},{"$f":"[3]cerNAsum!E34","v":16.99029799843219},{"$f":"[3]cerNAsum!F34","v":17.197141575049404},{"$f":"[3]cerNAsum!G34","v":17.354775512094928},{"$f":"[3]cerNAsum!H34","v":16.819300651343067},{"$f":"[3]cerNAsum!I34","v":17.329107400806425},{"$f":"[3]cerNAsum!J34","v":18.076569757319987},{"$f":"[3]cerNAsum!K34","v":18.763372798184673},{"$f":"[3]cerNAsum!L34","v":19.548412509424534},{"$f":"[3]cerNAsum!M34","v":20.812759171401442},{"$f":"[3]cerNAsum!N34","v":25.020696743029671},{"$f":"[3]cerNAsum!O34","v":25.819333063670907},{"$f":"[3]cerNAsum!P34","v":25.358805972072616},{"$f":"[3]cerNAsum!Q34","v":26.575701183264705}]
[null,"GDP at Factor Cost (Gross)",{"$f":"[3]cerNAsum!C35","v":95.235419863778048},{"$f":"[3]cerNAsum!D35","v":96.978142288369185},{"$f":"[3]cerNAsum!E35","v":98.188481149382142},{"$f":"[3]cerNAsum!F35","v":102.71492756965583},{"$f":"[3]cerNAsum!G35","v":107.40071795740154},{"$f":"[3]cerNAsum!H35","v":114.99484770597317},{"$f":"[3]cerNAsum!I35","v":115.62458669560473},{"$f":"[3]cerNAsum!J35","v":119.97857969908655},{"$f":"[3]cerNAsum!K35","v":124.19534505897218},{"$f":"[3]cerNAsum!L35","v":129.96503954051335},{"$f":"[3]cerNAsum!M35","v":135.12529021907645},{"$f":"[3]cerNAsum!N35","v":138.28255411285201},{"$f":"[3]cerNAsum!O35","v":139.38770191780327},{"$f":"[3]cerNAsum!P35","v":149.1681200573708},{"$f":"[3]cerNAsum!Q35","v":157.67512603511031}]
[null,"Indirect taxes less Subsidies",{"$f":"[3]cerNAsum!C36","v":13.232357151012947},{"$f":"[3]cerNAsum!D36","v":13.929944820086014},{"$f":"[3]cerNAsum!E36","v":12.195143424062074},{"$f":"[3]cerNAsum!F36","v":11.042435553333332},{"$f":"[3]cerNAsum!G36","v":10.679871966666665},{"$f":"[3]cerNAsum!H36","v":12.890256828333332},{"$f":"[3]cerNAsum!I36","v":13.99041877},{"$f":"[3]cerNAsum!J36","v":14.009451604000001},{"$f":"[3]cerNAsum!K36","v":16.531230854},{"$f":"[3]cerNAsum!L36","v":16.948562553999999},{"$f":"[3]cerNAsum!M36","v":18.858294133999998},{"$f":"[3]cerNAsum!N36","v":18.451269139000001},{"$f":"[3]cerNAsum!O36","v":15.858177529999999},{"$f":"[3]cerNAsum!P36","v":17.391609689999999},{"$f":"[3]cerNAsum!Q36","v":16.251564791}]
[null,"Less intermediate FISIM",{"$f":"[3]cerNAsum!C37","v":-2.225958612402124},{"$f":"[3]cerNAsum!D37","v":-2.2503667989272671},{"$f":"[3]cerNAsum!E37","v":-2.4450143601505294},{"$f":"[3]cerNAsum!F37","v":-2.8546298983609328},{"$f":"[3]cerNAsum!G37","v":-2.9595879394622719},{"$f":"[3]cerNAsum!H37","v":-3.1870334452622351},{"$f":"[3]cerNAsum!I37","v":-2.7301110766385599},{"$f":"[3]cerNAsum!J37","v":-2.8393505586826855},{"$f":"[3]cerNAsum!K37","v":-3.1077918313582376},{"$f":"[3]cerNAsum!L37","v":-3.4924575234542852},{"$f":"[3]cerNAsum!M37","v":-4.1349490153627562},{"$f":"[3]cerNAsum!N37","v":-4.0213738230723681},{"$f":"[3]cerNAsum!O37","v":-3.5648120419000113},{"$f":"[3]cerNAsum!P37","v":-3.3401780521783646},{"$f":"[3]cerNAsum!Q37","v":-3.1789933323066486}]
[null,"Nominal GDP at Market Prices (Gross)",{"$f":"[3]cerNAsum!C38","v":106.24181840238887},{"$f":"[3]cerNAsum!D38","v":108.65772030952792},{"$f":"[3]cerNAsum!E38","v":107.9386102132937},{"$f":"[3]cerNAsum!F38","v":110.90273322462824},{"$f":"[3]cerNAsum!G38","v":115.12100198460594},{"$f":"[3]cerNAsum!H38","v":124.69807108904428},{"$f":"[3]cerNAsum!I38","v":126.88489438896616},{"$f":"[3]cerNAsum!J38","v":131.14868074440386},{"$f":"[3]cerNAsum!K38","v":137.61878408161394},{"$f":"[3]cerNAsum!L38","v":143.42114457105907},{"$f":"[3]cerNAsum!M38","v":149.84863533771369},{"$f":"[3]cerNAsum!N38","v":152.71244942877965},{"$f":"[3]cerNAsum!O38","v":151.68106740590326},{"$f":"[3]cerNAsum!P38","v":163.21955169519242},{"$f":"[3]cerNAsum!Q38","v":170.74769749380366}]
["Source: EPPSO estimates"]
["Table 2l     Implicit GDP price deflators by institutional sector, FY2004-FY2011"]
[null,"(US$ millions)",{"$f":"C2","v":"FY1997"},{"$f":"D2","v":"FY1998"},"FY1999","FY2000","FY2001","FY2002","FY2003","FY2004","FY2005","FY2006","FY2007","FY2008","FY2009","FY2010","FY2011"]
[1.1000000000000001,"Private Enterprise",{"$f":"C29/C3*100","v":91.798524246338161},{"$f":"D29/D3*100","v":90.989475300060306},94.299811911159111,96.073342329510339,96.131118182840609,96.709359056430642,96.719209402484623,100,102.95396165596908,106.97883718570699,107.63037552851662,118.65378391006922,120.8449603241979,{"$f":"P29/P3*100","v":125.70398143154738},128.18730625662494]
[1.2,"Public Enterprise",{"$f":"C30/C4*100","v":88.012368843634022},130.20358812865786,143.53078375250209,104.46793156784695,97.205749891372704,113.59400573007647,100.22857838074574,100,88.562739838849808,81.271002691647141,89.587530865706483,68.375982040978187,69.215884234257814,{"$f":"P30/P4*100","v":98.086471332367125},137.96846365418213]
["2","Finance (Banks)",88.232560325440417,89.625693403173457,91.34852153260789,99.452566071265366,87.711649752182652,99.924225920967473,98.438354342654677,100,113.84814536197861,127.33982881707118,131.18886831314646,114.9834244825837,97.581480217939742,{"$f":"P31/P5*100","v":85.824001298320425},85.651945718835137]
["3","Government",77.197447310091704,81.353866776214574,83.657857474234518,87.525104270008214,87.169821235961777,90.542440291531889,94.456413308306395,100,102.32247523424458,103.85122127177536,102.910047989378,104.16163816329428,105.28864986774214,{"$f":"P32/P6*100","v":103.50849371112673},103.55368585576743]
["4","NGOs",95.251381364031545,91.656033024352752,94.355069469506233,93.785359544719597,98.646693550221286,99.220821151620527,103.8056841388388,100,104.09079280505725,103.08576353488552,104.47671734343298,107.80953770930097,112.97836271095964,{"$f":"P33/P7*100","v":122.06534921214072},124.94841295935576]
["5","Households",94.117177672617458,91.076906579817916,95.309812023456473,96.209186547328102,95.319464816475687,96.346349113559157,97.462704122268889,100,102.1176963401506,105.69544845857817,109.49624560571336,127.91107380425504,133.61190455141372,{"$f":"P34/P8*100","v":131.24258611674605},138.85565180964673]
[null,"GDP at Factor Cost (Gross)",85.963715474976084,90.561244132578338,94.196922637670426,93.836883175106763,92.381176721767417,96.124300431887463,96.4807611566102,100,101.75607243554674,104.30218603276782,105.49970477945561,109.51711134615856,110.5085166739773,{"$f":"P35/P9*100","v":112.78774546041505},117.95287919210627]
[null,"Indirect taxes less Subsidies",108.43794279320778,111.34877164554915,96.32396284099039,77.322601853180501,75.912224743989029,91.448182348105263,99.415836870999684,100,107.76394923889612,111.62140691211317,114.90827361345701,116.1342107899122,111.58064170971387,{"$f":"P36/P10*100","v":109.76538416841686},105.20316035804731]
[null,"Less intermediate FISIM",92.586599752195639,91.267497081214884,95.835925760694749,108.43583291729635,108.76240744297134,114.04079877603041,99.981849962674175,100,110.5867820201706,129.66026944754768,137.41549000016511,120.63748559993968,99.736185751014503,{"$f":"P37/P11*100","v":90.795564668682616},89.941671370528894]
[null,"GDP at Market Prices (Gross)",88.105984290483136,92.766606531171377,94.395861297829896,91.572216568096266,90.216128256237695,95.23847455883076,96.722742594540463,100,102.25647718628619,104.61461013144233,105.91227816956817,110.00740507378035,110.9014380821453,{"$f":"P38/P12*100","v":113.01636338462046},117.28010316993267]
[]
["Table 2m   Share of GDP by institutional sector, current prices, FY2004-FY2011"]
[null,null,{"$f":"C2","v":"FY1997"},{"$f":"D2","v":"FY1998"},"FY1999","FY2000","FY2001","FY2002","FY2003","FY2004","FY2005","FY2006","FY2007","FY2008","FY2009","FY2010","FY2011"]
[1.1000000000000001,"Private Enterprise",{"$f":"C29/C$38","v":0.2719218805891116},{"$f":"D29/D$38","v":0.26576393618616051},0.26489840968869321,0.28397238921332096,0.29902862176687306,0.2874575803193532,0.26950237265184179,0.26120508064930958,0.24803986028448868,0.26592422042894581,0.26014595084843173,0.26894880804796134,0.27542817740528908,{"$f":"P29/P$38","v":0.29479362795087494},0.29536356150226672]
[1.2,"Public Enterprise",{"$f":"C30/C$38","v":8.2290419313999372E-2},0.10946070049880428,0.11316019885019632,0.1015183193198389,9.3197431080502782E-2,0.10582919548702781,9.4479146935348007E-2,8.6216874587070391E-2,7.396663714620498E-2,5.7506653043851788E-2,6.8568185334778528E-2,4.6741172882102944E-2,4.8861904288246154E-2,{"$f":"P30/P$38","v":6.7393078131607206E-2},8.6833544976722424E-2]
["2","Finance (Banks)",3.7452295714006073E-2,3.941735559884036E-2,4.2332859307440296E-2,4.582033149451295E-2,4.2849262210726977E-2,4.4702375516454534E-2,4.2219367607132928E-2,4.4531869987942722E-2,4.8713124772446256E-2,5.3438856752413416E-2,5.7255830062542264E-2,5.2965884773999702E-2,4.6592888096493909E-2,{"$f":"P31/P$38","v":4.0107431566930467E-2},3.7415257094356058E-2]
["3","Government",0.32005849391640201,0.31113168436596689,0.3153692346341781,0.32370152397705976,0.3301153387385522,0.33305864257201723,0.35234692770482878,0.36945672626395465,0.37838036834077698,0.37760938578285214,0.36181065918579891,0.35858155741214581,0.36297644280565788,{"$f":"P32/P$38","v":0.34115182828541557},0.33323152017750945]
["4","NGOs",1.6881230147745688E-2,1.6342157548301438E-2,1.6501930793137842E-2,1.6093643282279892E-2,1.6994533032657109E-2,1.6258266232773388E-2,1.6134465195381521E-2,1.5585521696505612E-2,1.7016153879083788E-2,1.5397789948311232E-2,1.5072708468013243E-2,1.4430055818729082E-2,1.4871927421982196E-2,{"$f":"P33/P$38","v":1.5098661834449866E-2},1.4952266803990408E-2]
["5","Households",0.16779806965920857,0.15039453701266334,0.1574070479956918,0.15506508338453126,0.15075247099061578,0.13488019906364676,0.13657344701477211,0.13783264654068064,0.1363431084164875,0.13630077048882513,0.13889188329607241,0.1638418926329811,0.17022119836866367,{"$f":"P34/P$38","v":0.15536622732201483},0.15564310133218121]
[null,"GDP at Factor Cost (Gross)",0.89640238934047323,0.89251037121073684,0.90966968126933756,0.92617129067154369,0.93293765781992788,0.92218625919127295,0.91125572710930502,0.91482871972546365,0.90245925283948825,0.90617767644519942,0.90174521719563705,0.90550937156791989,0.91895253838633295,{"$f":"P35/P$38","v":0.913910855091293},0.92343925188702625]
[null,"Indirect taxes less Subsidies",0.12454942272256339,0.12820023078345896,0.11298221646511548,9.9568651125733765E-2,9.2770839226145596E-2,0.10337174196647092,0.11026071178427524,0.10682114013257267,0.12012336080659061,0.11817338792469828,0.12584895479027275,0.12082360808183554,0.10454948531950281,{"$f":"P36/P$38","v":0.10655347052097229},9.5178822493871468E-2]
[null,"Less intermediate FISIM",-2.0951812063036684E-2,-2.0710601994195697E-2,-2.2651897734453152E-2,-2.5739941797277576E-2,-2.5708497046073576E-2,-2.5558001157743981E-2,-2.1516438893580139E-2,-2.1649859858036285E-2,-2.2582613646078879E-2,-2.4351064369897851E-2,-2.7594171985909827E-2,-2.6332979649755485E-2,-2.3502023705835765E-2,{"$f":"P37/P$38","v":-2.0464325612265168E-2},-1.8618074380897656E-2]
[null,"Real GDP at Market Prices (Gross)",{"$f":"C38/C$38","v":1},{"$f":"D38/D$38","v":1},1,1,1,1,1,1,1,1,1,1,1,{"$f":"P38/P$38","v":1},1]
[]
["Table 2n    GDP by income component, current prices, FY2004-FY2011"]
[null,"(US$ millions)",{"$f":"C2","v":"FY1997"},{"$f":"D2","v":"FY1998"},"FY1999","FY2000","FY2001","FY2002","FY2003","FY2004","FY2005","FY2006","FY2007","FY2008","FY2009","FY2010","FY2011"]
[null,"Compensation of employees",{"$f":"[3]cerNAsum!C68","v":62.138473106625874},{"$f":"[3]cerNAsum!D68","v":62.524344525974833},{"$f":"[3]cerNAsum!E68","v":62.997630340946159},{"$f":"[3]cerNAsum!F68","v":66.369157986006428},{"$f":"[3]cerNAsum!G68","v":71.000363139300362},{"$f":"[3]cerNAsum!H68","v":75.493632200700844},{"$f":"[3]cerNAsum!I68","v":77.987004535733732},{"$f":"[3]cerNAsum!J68","v":81.472433012016552},{"$f":"[3]cerNAsum!K68","v":85.605628199085842},{"$f":"[3]cerNAsum!L68","v":89.529154053238813},{"$f":"[3]cerNAsum!M68","v":92.429906966459995},{"$f":"[3]cerNAsum!N68","v":94.977642392131173},{"$f":"[3]cerNAsum!O68","v":96.633650156693349},{"$f":"[3]cerNAsum!P68","v":99.429358493913156},{"$f":"[3]cerNAsum!Q68","v":101.44027994903301}]
[null,"Operating surplus (Gross before depreciation)",{"$f":"[3]cerNAsum!C69","v":17.578174712147138},{"$f":"[3]cerNAsum!D69","v":20.75087022359142},{"$f":"[3]cerNAsum!E69","v":19.568852810003797},{"$f":"[3]cerNAsum!F69","v":21.141128008600003},{"$f":"[3]cerNAsum!G69","v":21.654079306006253},{"$f":"[3]cerNAsum!H69","v":26.549677853929261},{"$f":"[3]cerNAsum!I69","v":24.150321759064578},{"$f":"[3]cerNAsum!J69","v":23.514552929750003},{"$f":"[3]cerNAsum!K69","v":22.523823061701666},{"$f":"[3]cerNAsum!L69","v":24.904704977849999},{"$f":"[3]cerNAsum!M69","v":29.747227081215001},{"$f":"[3]cerNAsum!N69","v":25.184446977691181},{"$f":"[3]cerNAsum!O69","v":24.411507697439006},{"$f":"[3]cerNAsum!P69","v":31.185691591385016},{"$f":"[3]cerNAsum!Q69","v":35.190622652812607}]
[null,"Household mixed income",{"$f":"[3]cerNAsum!C70","v":4.0865104186144512},{"$f":"[3]cerNAsum!D70","v":2.9685351939646534},{"$f":"[3]cerNAsum!E70","v":3.246241825336726},{"$f":"[3]cerNAsum!F70","v":3.5152537652045464},{"$f":"[3]cerNAsum!G70","v":3.3650461623084129},{"$f":"[3]cerNAsum!H70","v":2.9526790783532251},{"$f":"[3]cerNAsum!I70","v":3.5863245200028011},{"$f":"[3]cerNAsum!J70","v":3.8764850825463935},{"$f":"[3]cerNAsum!K70","v":4.0317849414845721},{"$f":"[3]cerNAsum!L70","v":4.1536381702527505},{"$f":"[3]cerNAsum!M70","v":4.9676040624457931},{"$f":"[3]cerNAsum!N70","v":6.8025859198612197},{"$f":"[3]cerNAsum!O70","v":6.8074425968921393},{"$f":"[3]cerNAsum!P70","v":6.0462115989646179},{"$f":"[3]cerNAsum!Q70","v":6.1367723217665215}]
[null,"Indirect taxes less Subsidies",{"$f":"[3]cerNAsum!C71","v":10.923957151012946},{"$f":"[3]cerNAsum!D71","v":11.291344820086014},{"$f":"[3]cerNAsum!E71","v":10.826843424062075},{"$f":"[3]cerNAsum!F71","v":9.0499355533333325},{"$f":"[3]cerNAsum!G71","v":8.0713719666666659},{"$f":"[3]cerNAsum!H71","v":9.0224938283333316},{"$f":"[3]cerNAsum!I71","v":10.14857177},{"$f":"[3]cerNAsum!J71","v":10.924475604},{"$f":"[3]cerNAsum!K71","v":13.833751854000003},{"$f":"[3]cerNAsum!L71","v":12.931330554000001},{"$f":"[3]cerNAsum!M71","v":10.993691133999997},{"$f":"[3]cerNAsum!N71","v":11.551037139},{"$f":"[3]cerNAsum!O71","v":8.3813885300000006},{"$f":"[3]cerNAsum!P71","v":10.585873689999996},{"$f":"[3]cerNAsum!Q71","v":10.720087041000001}]
[null,"Less intermediate FISIM",{"$f":"[3]cerNAsum!C72","v":-2.225958612402124},{"$f":"[3]cerNAsum!D72","v":-2.2503667989272671},{"$f":"[3]cerNAsum!E72","v":-2.4450143601505294},{"$f":"[3]cerNAsum!F72","v":-2.8546298983609328},{"$f":"[3]cerNAsum!G72","v":-2.9595879394622719},{"$f":"[3]cerNAsum!H72","v":-3.1870334452622351},{"$f":"[3]cerNAsum!I72","v":-2.7301110766385599},{"$f":"[3]cerNAsum!J72","v":-2.8393505586826855},{"$f":"[3]cerNAsum!K72","v":-3.1077918313582376},{"$f":"[3]cerNAsum!L72","v":-3.4924575234542852},{"$f":"[3]cerNAsum!M72","v":-4.1349490153627562},{"$f":"[3]cerNAsum!N72","v":-4.0213738230723681},{"$f":"[3]cerNAsum!O72","v":-3.5648120419000113},{"$f":"[3]cerNAsum!P72","v":-3.3401780521783646},{"$f":"[3]cerNAsum!Q72","v":-3.1789933323066486}]
[null,"Total Monetary",{"$f":"[3]cerNAsum!C73","v":92.501156775998282},{"$f":"[3]cerNAsum!D73","v":95.284727964689665},{"$f":"[3]cerNAsum!E73","v":94.194554040198227},{"$f":"[3]cerNAsum!F73","v":97.220845414783383},{"$f":"[3]cerNAsum!G73","v":101.13127263481942},{"$f":"[3]cerNAsum!H73","v":110.83144951605443},{"$f":"[3]cerNAsum!I73","v":113.14211150816256},{"$f":"[3]cerNAsum!J73","v":116.94859606963027},{"$f":"[3]cerNAsum!K73","v":122.88719622491384},{"$f":"[3]cerNAsum!L73","v":128.02637023188728},{"$f":"[3]cerNAsum!M73","v":134.00348022875801},{"$f":"[3]cerNAsum!N73","v":134.4943386056112},{"$f":"[3]cerNAsum!O73","v":132.6691769391245},{"$f":"[3]cerNAsum!P73","v":143.90695732208442},{"$f":"[3]cerNAsum!Q73","v":150.30876863230549}]
[null,"Percentage Monetary",{"$f":"[3]cerNAsum!C74","v":0.87066616674097108},{"$f":"[3]cerNAsum!D74","v":0.87692552073848706},{"$f":"[3]cerNAsum!E74","v":0.87266784197113234},{"$f":"[3]cerNAsum!F74","v":0.87663164457693898},{"$f":"[3]cerNAsum!G74","v":0.87847804389630635},{"$f":"[3]cerNAsum!H74","v":0.8887984276590134},{"$f":"[3]cerNAsum!I74","v":0.89169094597915599},{"$f":"[3]cerNAsum!J74","v":0.89172529533523714},{"$f":"[3]cerNAsum!K74","v":0.8929536548734246},{"$f":"[3]cerNAsum!L74","v":0.89266035782091857},{"$f":"[3]cerNAsum!M74","v":0.89425892953081987},{"$f":"[3]cerNAsum!N74","v":0.8807031719331776},{"$f":"[3]cerNAsum!O74","v":0.87465877718342822},{"$f":"[3]cerNAsum!P74","v":0.88167719998904492},{"$f":"[3]cerNAsum!Q74","v":0.88029748475969982}]
[null,"Household subsistence",{"$f":"[3]cerNAsum!C75","v":6.8756616263905848},{"$f":"[3]cerNAsum!D75","v":6.923992344838263},{"$f":"[3]cerNAsum!E75","v":7.136056173095465},{"$f":"[3]cerNAsum!F75","v":6.9290876095157312},{"$f":"[3]cerNAsum!G75","v":7.1707311813561274},{"$f":"[3]cerNAsum!H75","v":7.1526212444944477},{"$f":"[3]cerNAsum!I75","v":7.0212641763054897},{"$f":"[3]cerNAsum!J75","v":7.2429869298856229},{"$f":"[3]cerNAsum!K75","v":7.3919290968307267},{"$f":"[3]cerNAsum!L75","v":7.586456304302259},{"$f":"[3]cerNAsum!M75","v":7.741234517717821},{"$f":"[3]cerNAsum!N75","v":8.7559061685275612},{"$f":"[3]cerNAsum!O75","v":9.4930159202627244},{"$f":"[3]cerNAsum!P75","v":9.4575260551653582},{"$f":"[3]cerNAsum!Q75","v":9.9517654840198304}]
[null,"Owner occupied housing",{"$f":"[3]cerNAsum!C76","v":6.8650000000000002},{"$f":"[3]cerNAsum!D76","v":6.4489999999999998},{"$f":"[3]cerNAsum!E76","v":6.6079999999999997},{"$f":"[3]cerNAsum!F76","v":6.7528002003291281},{"$f":"[3]cerNAsum!G76","v":6.8189981684303893},{"$f":"[3]cerNAsum!H76","v":6.714000328495394},{"$f":"[3]cerNAsum!I76","v":6.7215187044981359},{"$f":"[3]cerNAsum!J76","v":6.9570977448879727},{"$f":"[3]cerNAsum!K76","v":7.3396587598693719},{"$f":"[3]cerNAsum!L76","v":7.808318034869524},{"$f":"[3]cerNAsum!M76","v":8.1039205912378272},{"$f":"[3]cerNAsum!N76","v":9.4622046546408907},{"$f":"[3]cerNAsum!O76","v":9.5188745465160451},{"$f":"[3]cerNAsum!P76","v":9.8550683179426439},{"$f":"[3]cerNAsum!Q76","v":10.487163377478353}]
[null,"Total Non-Monetary",{"$f":"[3]cerNAsum!C77","v":13.740661626390585},{"$f":"[3]cerNAsum!D77","v":13.372992344838263},{"$f":"[3]cerNAsum!E77","v":13.744056173095466},{"$f":"[3]cerNAsum!F77","v":13.681887809844859},{"$f":"[3]cerNAsum!G77","v":13.989729349786517},{"$f":"[3]cerNAsum!H77","v":13.866621572989843},{"$f":"[3]cerNAsum!I77","v":13.742782880803626},{"$f":"[3]cerNAsum!J77","v":14.200084674773596},{"$f":"[3]cerNAsum!K77","v":14.731587856700099},{"$f":"[3]cerNAsum!L77","v":15.394774339171782},{"$f":"[3]cerNAsum!M77","v":15.845155108955648},{"$f":"[3]cerNAsum!N77","v":18.218110823168452},{"$f":"[3]cerNAsum!O77","v":19.01189046677877},{"$f":"[3]cerNAsum!P77","v":19.312594373108002},{"$f":"[3]cerNAsum!Q77","v":20.438928861498184}]
[null,"Percentage Non-Monetary",{"$f":"[3]cerNAsum!C78","v":0.12933383325902884},{"$f":"[3]cerNAsum!D78","v":0.12307447926151288},{"$f":"[3]cerNAsum!E78","v":0.12733215802886771},{"$f":"[3]cerNAsum!F78","v":0.12336835542306107},{"$f":"[3]cerNAsum!G78","v":0.12152195610369369},{"$f":"[3]cerNAsum!H78","v":0.11120157234098657},{"$f":"[3]cerNAsum!I78","v":0.10830905402084401},{"$f":"[3]cerNAsum!J78","v":0.10827470466476283},{"$f":"[3]cerNAsum!K78","v":0.10704634512657535},{"$f":"[3]cerNAsum!L78","v":0.10733964217908139},{"$f":"[3]cerNAsum!M78","v":0.10574107046918008},{"$f":"[3]cerNAsum!N78","v":0.1192968280668225},{"$f":"[3]cerNAsum!O78","v":0.12534122281657181},{"$f":"[3]cerNAsum!P78","v":0.1183228000109551},{"$f":"[3]cerNAsum!Q78","v":0.11970251524030008}]
[null,"Nominal GDP at Market Prices (Gross)",{"$f":"[3]cerNAsum!C79","v":106.24181840238887},{"$f":"[3]cerNAsum!D79","v":108.65772030952793},{"$f":"[3]cerNAsum!E79","v":107.93861021329369},{"$f":"[3]cerNAsum!F79","v":110.90273322462824},{"$f":"[3]cerNAsum!G79","v":115.12100198460594},{"$f":"[3]cerNAsum!H79","v":124.69807108904428},{"$f":"[3]cerNAsum!I79","v":126.88489438896619},{"$f":"[3]cerNAsum!J79","v":131.14868074440386},{"$f":"[3]cerNAsum!K79","v":137.61878408161394},{"$f":"[3]cerNAsum!L79","v":143.42114457105907},{"$f":"[3]cerNAsum!M79","v":149.84863533771366},{"$f":"[3]cerNAsum!N79","v":152.71244942877965},{"$f":"[3]cerNAsum!O79","v":151.68106740590326},{"$f":"[3]cerNAsum!P79","v":163.21955169519242},{"$f":"[3]cerNAsum!Q79","v":170.74769749380368}]
["Source: EPPSO estimates"]
["Table 2o    GDP by income component, constant prices, FY2004-FY2011"]
[null,"(constant prices of FY2004, US$ millions)",{"$f":"C2","v":"FY1997"},{"$f":"D2","v":"FY1998"},"FY1999","FY2000","FY2001","FY2002","FY2003","FY2004","FY2005","FY2006","FY2007","FY2008","FY2009","FY2010","FY2011"]
[null,"Compensation of employees",{"$f":"[3]cerNAsum!C83","v":71.917217124780009},{"$f":"[3]cerNAsum!D83","v":71.488803434385318},{"$f":"[3]cerNAsum!E83","v":68.87985129429866},{"$f":"[3]cerNAsum!F83","v":69.654976314271778},{"$f":"[3]cerNAsum!G83","v":75.017370039301341},{"$f":"[3]cerNAsum!H83","v":78.649175181412573},{"$f":"[3]cerNAsum!I83","v":79.06939486491676},{"$f":"[3]cerNAsum!J83","v":81.472433012016552},{"$f":"[3]cerNAsum!K83","v":84.738426464543366},{"$f":"[3]cerNAsum!L83","v":87.646393438463178},{"$f":"[3]cerNAsum!M83","v":91.307119298216406},{"$f":"[3]cerNAsum!N83","v":91.523357270004539},{"$f":"[3]cerNAsum!O83","v":91.411616663033271},{"$f":"[3]cerNAsum!P83","v":93.013113944903239},{"$f":"[3]cerNAsum!Q83","v":94.317390963496919}]
[null,"Operating surplus (Gross before depreciation)",{"$f":"[3]cerNAsum!C84","v":23.32992621604782},{"$f":"[3]cerNAsum!D84","v":20.775978791178197},{"$f":"[3]cerNAsum!E84","v":20.243523274602822},{"$f":"[3]cerNAsum!F84","v":24.666207735373892},{"$f":"[3]cerNAsum!G84","v":26.099641415030742},{"$f":"[3]cerNAsum!H84","v":26.314723591421135},{"$f":"[3]cerNAsum!I84","v":25.830584943510331},{"$f":"[3]cerNAsum!J84","v":23.51455292975},{"$f":"[3]cerNAsum!K84","v":21.991429822087717},{"$f":"[3]cerNAsum!L84","v":21.42259167351645},{"$f":"[3]cerNAsum!M84","v":22.519028733209709},{"$f":"[3]cerNAsum!N84","v":19.58221109896715},{"$f":"[3]cerNAsum!O84","v":19.699822206236924},{"$f":"[3]cerNAsum!P84","v":23.719653907857122},{"$f":"[3]cerNAsum!Q84","v":23.411576015949304}]
[null,"Household mixed income",{"$f":"[3]cerNAsum!C85","v":3.8599609980999583},{"$f":"[3]cerNAsum!D85","v":3.6264797529849835},{"$f":"[3]cerNAsum!E85","v":3.3690541251015667},{"$f":"[3]cerNAsum!F85","v":3.6384801045798567},{"$f":"[3]cerNAsum!G85","v":3.8979781103267652},{"$f":"[3]cerNAsum!H85","v":3.2812510715160963},{"$f":"[3]cerNAsum!I85","v":3.712748608429965},{"$f":"[3]cerNAsum!J85","v":3.876485082546393},{"$f":"[3]cerNAsum!K85","v":3.9859422513612119},{"$f":"[3]cerNAsum!L85","v":4.0089958024478998},{"$f":"[3]cerNAsum!M85","v":4.4182779107005503},{"$f":"[3]cerNAsum!N85","v":4.7900823419705967},{"$f":"[3]cerNAsum!O85","v":4.5587464793466301},{"$f":"[3]cerNAsum!P85","v":4.3816602429941707},{"$f":"[3]cerNAsum!Q85","v":4.1098265215149921}]
[null,"Indirect taxes less Subsidies",{"$f":"[3]cerNAsum!C86","v":8.7996943794829843},{"$f":"[3]cerNAsum!D86","v":9.3885507667996606},{"$f":"[3]cerNAsum!E86","v":9.9482479081087103},{"$f":"[3]cerNAsum!F86","v":11.546215461441552},{"$f":"[3]cerNAsum!G86","v":11.002968331457325},{"$f":"[3]cerNAsum!H86","v":11.306074619122006},{"$f":"[3]cerNAsum!I86","v":11.234518262295772},{"$f":"[3]cerNAsum!J86","v":10.924475604},{"$f":"[3]cerNAsum!K86","v":12.288128781995587},{"$f":"[3]cerNAsum!L86","v":12.22427861772195},{"$f":"[3]cerNAsum!M86","v":11.658923350122175},{"$f":"[3]cerNAsum!N86","v":11.487013204276623},{"$f":"[3]cerNAsum!O86","v":9.9097318019090022},{"$f":"[3]cerNAsum!P86","v":12.045103270557441},{"$f":"[3]cerNAsum!Q86","v":12.256108483349314}]
[null,"Less intermediate FISIM",{"$f":"[3]cerNAsum!C87","v":-2.4041909070641041},{"$f":"[3]cerNAsum!D87","v":-2.4656826043172475},{"$f":"[3]cerNAsum!E87","v":-2.551250317397471},{"$f":"[3]cerNAsum!F87","v":-2.6325521938289067},{"$f":"[3]cerNAsum!G87","v":-2.7211497143570558},{"$f":"[3]cerNAsum!H87","v":-2.7946432149439655},{"$f":"[3]cerNAsum!I87","v":-2.7306066827707043},{"$f":"[3]cerNAsum!J87","v":-2.8393505586826855},{"$f":"[3]cerNAsum!K87","v":-2.8102742249895547},{"$f":"[3]cerNAsum!L87","v":-2.6935448602218988},{"$f":"[3]cerNAsum!M87","v":-3.0090850859373917},{"$f":"[3]cerNAsum!N87","v":-3.3334363718489},{"$f":"[3]cerNAsum!O87","v":-3.5742414000063669},{"$f":"[3]cerNAsum!P87","v":-3.6787898884343471},{"$f":"[3]cerNAsum!Q87","v":-3.5345055121449591}]
[null,"Total Monetary",{"$f":"[3]cerNAsum!C88","v":105.50260781134668},{"$f":"[3]cerNAsum!D88","v":102.8141301410309},{"$f":"[3]cerNAsum!E88","v":99.88942628471429},{"$f":"[3]cerNAsum!F88","v":106.87332742183817},{"$f":"[3]cerNAsum!G88","v":113.29680818175912},{"$f":"[3]cerNAsum!H88","v":116.75658124852785},{"$f":"[3]cerNAsum!I88","v":117.11663999638212},{"$f":"[3]cerNAsum!J88","v":116.94859606963026},{"$f":"[3]cerNAsum!K88","v":120.19365309499831},{"$f":"[3]cerNAsum!L88","v":122.60871467192757},{"$f":"[3]cerNAsum!M88","v":126.89426420631145},{"$f":"[3]cerNAsum!N88","v":124.04922754337001},{"$f":"[3]cerNAsum!O88","v":122.00567575051944},{"$f":"[3]cerNAsum!P88","v":129.48074147787761},{"$f":"[3]cerNAsum!Q88","v":130.56039647216556}]
[null,"Percentage Monetary",{"$f":"[3]cerNAsum!C89","v":0.87492959422299421},{"$f":"[3]cerNAsum!D89","v":0.87777637239839301},{"$f":"[3]cerNAsum!E89","v":0.87356585470751225},{"$f":"[3]cerNAsum!F89","v":0.88245142382589215},{"$f":"[3]cerNAsum!G89","v":0.88786574141482266},{"$f":"[3]cerNAsum!H89","v":0.89173141137633294},{"$f":"[3]cerNAsum!I89","v":0.89276526401810929},{"$f":"[3]cerNAsum!J89","v":0.89172529533523714},{"$f":"[3]cerNAsum!K89","v":0.89308880525759071},{"$f":"[3]cerNAsum!L89","v":0.89433555439002177},{"$f":"[3]cerNAsum!M89","v":0.89688241594276685},{"$f":"[3]cerNAsum!N89","v":0.89359666972123863},{"$f":"[3]cerNAsum!O89","v":0.89204309584057739},{"$f":"[3]cerNAsum!P89","v":0.89654960929566996},{"$f":"[3]cerNAsum!Q89","v":0.89676973645390201}]
[null,"Household subsistence",{"$f":"[3]cerNAsum!C90","v":7.6362615747832079},{"$f":"[3]cerNAsum!D90","v":7.5197867776724241},{"$f":"[3]cerNAsum!E90","v":7.6214295700521104},{"$f":"[3]cerNAsum!F90","v":7.313119918806394},{"$f":"[3]cerNAsum!G90","v":7.4449891896185481},{"$f":"[3]cerNAsum!H90","v":7.3900886593896891},{"$f":"[3]cerNAsum!I90","v":7.2090195266313852},{"$f":"[3]cerNAsum!J90","v":7.2429869298856229},{"$f":"[3]cerNAsum!K90","v":7.2959332370551415},{"$f":"[3]cerNAsum!L90","v":7.3173453654115805},{"$f":"[3]cerNAsum!M90","v":7.3405093925909677},{"$f":"[3]cerNAsum!N90","v":7.3901270919968836},{"$f":"[3]cerNAsum!O90","v":7.3756705518691268},{"$f":"[3]cerNAsum!P90","v":7.4225447777183042},{"$f":"[3]cerNAsum!Q90","v":7.4398807338850741}]
[null,"Owner occupied housing",{"$f":"[3]cerNAsum!C91","v":7.4452421903464359},{"$f":"[3]cerNAsum!D91","v":6.7962922940448127},{"$f":"[3]cerNAsum!E91","v":6.835905464286431},{"$f":"[3]cerNAsum!F91","v":6.9231395853824296},{"$f":"[3]cerNAsum!G91","v":6.863991316019562},{"$f":"[3]cerNAsum!H91","v":6.7857832489373875},{"$f":"[3]cerNAsum!I91","v":6.8584766846049661},{"$f":"[3]cerNAsum!J91","v":6.9570977448879727},{"$f":"[3]cerNAsum!K91","v":7.0923862415824432},{"$f":"[3]cerNAsum!L91","v":7.168696030535604},{"$f":"[3]cerNAsum!M91","v":7.2489504106995311},{"$f":"[3]cerNAsum!N91","v":7.3807996318459779},{"$f":"[3]cerNAsum!O91","v":7.3897091762178455},{"$f":"[3]cerNAsum!P91","v":7.5178814471012911},{"$f":"[3]cerNAsum!Q91","v":7.5893777129932838}]
[null,"Total Non-Monetary",{"$f":"[3]cerNAsum!C92","v":15.081503765129643},{"$f":"[3]cerNAsum!D92","v":14.316079071717237},{"$f":"[3]cerNAsum!E92","v":14.457335034338541},{"$f":"[3]cerNAsum!F92","v":14.236259504188823},{"$f":"[3]cerNAsum!G92","v":14.308980505638111},{"$f":"[3]cerNAsum!H92","v":14.175871908327077},{"$f":"[3]cerNAsum!I92","v":14.067496211236351},{"$f":"[3]cerNAsum!J92","v":14.200084674773596},{"$f":"[3]cerNAsum!K92","v":14.388319478637584},{"$f":"[3]cerNAsum!L92","v":14.486041395947185},{"$f":"[3]cerNAsum!M92","v":14.589459803290499},{"$f":"[3]cerNAsum!N92","v":14.770926723842862},{"$f":"[3]cerNAsum!O92","v":14.765379728086973},{"$f":"[3]cerNAsum!P92","v":14.940426224819596},{"$f":"[3]cerNAsum!Q92","v":15.029258446878359}]
[null,"Percentage Non-Monetary",{"$f":"[3]cerNAsum!C93","v":0.12507040577700587},{"$f":"[3]cerNAsum!D93","v":0.12222362760160692},{"$f":"[3]cerNAsum!E93","v":0.12643414529248773},{"$f":"[3]cerNAsum!F93","v":0.11754857617410787},{"$f":"[3]cerNAsum!G93","v":0.11213425858517745},{"$f":"[3]cerNAsum!H93","v":0.10826858862366701},{"$f":"[3]cerNAsum!I93","v":0.10723473598189066},{"$f":"[3]cerNAsum!J93","v":0.10827470466476283},{"$f":"[3]cerNAsum!K93","v":0.10691119474240939},{"$f":"[3]cerNAsum!L93","v":0.10566444560997823},{"$f":"[3]cerNAsum!M93","v":0.10311758405723311},{"$f":"[3]cerNAsum!N93","v":0.10640333027876142},{"$f":"[3]cerNAsum!O93","v":0.10795690415942251},{"$f":"[3]cerNAsum!P93","v":0.10345039070433004},{"$f":"[3]cerNAsum!Q93","v":0.10323026354609793}]
[null,"Real GDP at Market Prices (Gross)",{"$f":"[3]cerNAsum!C94","v":120.58411157647632},{"$f":"[3]cerNAsum!D94","v":117.13020921274814},{"$f":"[3]cerNAsum!E94","v":114.34676131905283},{"$f":"[3]cerNAsum!F94","v":121.10958692602699},{"$f":"[3]cerNAsum!G94","v":127.60578868739722},{"$f":"[3]cerNAsum!H94","v":130.93245315685493},{"$f":"[3]cerNAsum!I94","v":131.18413620761848},{"$f":"[3]cerNAsum!J94","v":131.14868074440386},{"$f":"[3]cerNAsum!K94","v":134.58197257363588},{"$f":"[3]cerNAsum!L94","v":137.09475606787475},{"$f":"[3]cerNAsum!M94","v":141.48372400960196},{"$f":"[3]cerNAsum!N94","v":138.82015426721287},{"$f":"[3]cerNAsum!O94","v":136.77105547860643},{"$f":"[3]cerNAsum!P94","v":144.4211677026972},{"$f":"[3]cerNAsum!Q94","v":145.58965491904394}]
["Source: EPPSO estimates"]

{"sheet":"NAdet","index":9,"n_rows":76,"n_cols":17,"rows_kept":76,"cut":false,"hidden":false,"merged":[[74,0,74,16],[34,0,34,16],[35,0,35,16],[36,0,36,16],[72,0,72,16],[73,0,73,16]]}
["Table 2p    Current price GDP by institutional sector and income components, FY2004-FY2011"]
[null,"(US$ millions)","FY1997","FY1998","FY1999","FY2000","FY2001","FY2002","FY2003","FY2004","FY2005","FY2006","FY2007","FY2008","FY2009","FY2010","FY2011"]
[1.1000000000000001,"Private Enterprise (1)",{"$f":"[3]cerNAdet!C3","v":28.88947505718447},{"$f":"[3]cerNAdet!D3","v":28.877303446475047},{"$f":"[3]cerNAdet!E3","v":28.592766189509245},{"$f":"[3]cerNAdet!F3","v":31.493314124085234},{"$f":"[3]cerNAdet!G3","v":34.424474559878171},{"$f":"[3]cerNAdet!H3","v":35.84540578574736},{"$f":"[3]cerNAdet!I3","v":34.195780091504744},{"$f":"[3]cerNAdet!J3","v":34.256701730892566},{"$f":"[3]cerNAdet!K3","v":34.134943976124745},{"$f":"[3]cerNAdet!L3","v":38.139156063086006},{"$f":"[3]cerNAdet!M3","v":38.982515723269437},{"$f":"[3]cerNAdet!N3","v":41.071831247954862},{"$f":"[3]cerNAdet!O3","v":41.77723994249672},{"$f":"[3]cerNAdet!P3","v":48.116083796741151},{"$f":"[3]cerNAdet!Q3","v":50.432648050081511}]
[null,"Compensation of employees",{"$f":"[3]cerNAdet!C4","v":16.66990034503733},{"$f":"[3]cerNAdet!D4","v":17.237683222883629},{"$f":"[3]cerNAdet!E4","v":17.771963379505447},{"$f":"[3]cerNAdet!F4","v":18.725286115485233},{"$f":"[3]cerNAdet!G4","v":20.720565253871918},{"$f":"[3]cerNAdet!H4","v":21.257440931818103},{"$f":"[3]cerNAdet!I4","v":19.568455332440166},{"$f":"[3]cerNAdet!J4","v":19.101520801142563},{"$f":"[3]cerNAdet!K4","v":18.992341581089747},{"$f":"[3]cerNAdet!L4","v":20.522230085236007},{"$f":"[3]cerNAdet!M4","v":22.263489642054434},{"$f":"[3]cerNAdet!N4","v":23.592745270263674},{"$f":"[3]cerNAdet!O4","v":24.475860245057717},{"$f":"[3]cerNAdet!P4","v":25.754837205356139},{"$f":"[3]cerNAdet!Q4","v":26.545692607268901}]
[null,"Operating surplus (gross)",{"$f":"[3]cerNAdet!C5","v":12.219574712147137},{"$f":"[3]cerNAdet!D5","v":11.63962022359142},{"$f":"[3]cerNAdet!E5","v":10.820802810003798},{"$f":"[3]cerNAdet!F5","v":12.768028008600002},{"$f":"[3]cerNAdet!G5","v":13.703909306006253},{"$f":"[3]cerNAdet!H5","v":14.587964853929261},{"$f":"[3]cerNAdet!I5","v":14.62732475906458},{"$f":"[3]cerNAdet!J5","v":15.155180929750003},{"$f":"[3]cerNAdet!K5","v":15.142602395034997},{"$f":"[3]cerNAdet!L5","v":17.616925977850002},{"$f":"[3]cerNAdet!M5","v":16.719026081215002},{"$f":"[3]cerNAdet!N5","v":17.479085977691184},{"$f":"[3]cerNAdet!O5","v":17.301379697439007},{"$f":"[3]cerNAdet!P5","v":22.361246591385015},{"$f":"[3]cerNAdet!Q5","v":23.88695544281261}]
[1.2,"Public Enterprise",{"$f":"[3]cerNAdet!C6","v":8.7426837850143535},{"$f":"[3]cerNAdet!D6","v":11.893750179684078},{"$f":"[3]cerNAdet!E6","v":12.214354595350146},{"$f":"[3]cerNAdet!F6","v":11.258659084940714},{"$f":"[3]cerNAdet!G6","v":10.728981648378737},{"$f":"[3]cerNAdet!H6","v":13.196696542137754},{"$f":"[3]cerNAdet!I6","v":11.987976580851251},{"$f":"[3]cerNAdet!J6","v":11.307229360000001},{"$f":"[3]cerNAdet!K6","v":10.179198666666668},{"$f":"[3]cerNAdet!L6","v":8.2476700000000029},{"$f":"[3]cerNAdet!M6","v":10.274849},{"$f":"[3]cerNAdet!N6","v":7.1379589999999959},{"$f":"[3]cerNAdet!O6","v":7.4114257979262579},{"$f":"[3]cerNAdet!P6","v":10.999868000000003},{"$f":"[3]cerNAdet!Q6","v":14.826627869999996}]
[null,"Compensation of employees",{"$f":"[3]cerNAdet!C7","v":8.1514837850143529},{"$f":"[3]cerNAdet!D7","v":8.0898501796840794},{"$f":"[3]cerNAdet!E7","v":7.6463545953501457},{"$f":"[3]cerNAdet!F7","v":8.1267590849407139},{"$f":"[3]cerNAdet!G7","v":8.2117616483787366},{"$f":"[3]cerNAdet!H7","v":8.307296542137756},{"$f":"[3]cerNAdet!I7","v":9.3785765808512505},{"$f":"[3]cerNAdet!J7","v":9.3556293599999982},{"$f":"[3]cerNAdet!K7","v":9.2949990000000007},{"$f":"[3]cerNAdet!L7","v":9.4290970000000023},{"$f":"[3]cerNAdet!M7","v":10.279725000000001},{"$f":"[3]cerNAdet!N7","v":10.965580000000001},{"$f":"[3]cerNAdet!O7","v":11.264550797926258},{"$f":"[3]cerNAdet!P7","v":11.756093},{"$f":"[3]cerNAdet!Q7","v":11.669428409999998}]
[null,"Operating surplus (gross)",{"$f":"[3]cerNAdet!C8","v":2.8996000000000013},{"$f":"[3]cerNAdet!D8","v":6.442499999999999},{"$f":"[3]cerNAdet!E8","v":5.9363000000000001},{"$f":"[3]cerNAdet!F8","v":5.1244000000000005},{"$f":"[3]cerNAdet!G8","v":5.1257199999999994},{"$f":"[3]cerNAdet!H8","v":8.7571630000000003},{"$f":"[3]cerNAdet!I8","v":6.4512469999999995},{"$f":"[3]cerNAdet!J8","v":5.0365760000000019},{"$f":"[3]cerNAdet!K8","v":3.5816786666666687},{"$f":"[3]cerNAdet!L8","v":2.835805000000001},{"$f":"[3]cerNAdet!M8","v":7.8597269999999995},{"$f":"[3]cerNAdet!N8","v":3.0726109999999944},{"$f":"[3]cerNAdet!O8","v":3.6236639999999998},{"$f":"[3]cerNAdet!P8","v":6.0495110000000016},{"$f":"[3]cerNAdet!Q8","v":8.6886772099999963}]
[null,"Less Subsidies",{"$f":"[3]cerNAdet!C9","v":-2.3083999999999998},{"$f":"[3]cerNAdet!D9","v":-2.6385999999999998},{"$f":"[3]cerNAdet!E9","v":-1.3682999999999998},{"$f":"[3]cerNAdet!F9","v":-1.9924999999999999},{"$f":"[3]cerNAdet!G9","v":-2.6084999999999998},{"$f":"[3]cerNAdet!H9","v":-3.8677630000000001},{"$f":"[3]cerNAdet!I9","v":-3.8418469999999991},{"$f":"[3]cerNAdet!J9","v":-3.0849760000000002},{"$f":"[3]cerNAdet!K9","v":-2.6974790000000004},{"$f":"[3]cerNAdet!L9","v":-4.0172319999999999},{"$f":"[3]cerNAdet!M9","v":-7.8646029999999998},{"$f":"[3]cerNAdet!N9","v":-6.9002319999999999},{"$f":"[3]cerNAdet!O9","v":-7.4767890000000001},{"$f":"[3]cerNAdet!P9","v":-6.8057359999999996},{"$f":"[3]cerNAdet!Q9","v":-5.5314777499999996}]
["2","Finance (Banks)",{"$f":"[3]cerNAdet!C10","v":3.9790000000000001},{"$f":"[3]cerNAdet!D10","v":4.2830000000000004},{"$f":"[3]cerNAdet!E10","v":4.56935},{"$f":"[3]cerNAdet!F10","v":5.0815999999999999},{"$f":"[3]cerNAdet!G10","v":4.9328500000000002},{"$f":"[3]cerNAdet!H10","v":5.5743},{"$f":"[3]cerNAdet!I10","v":5.3570000000000002},{"$f":"[3]cerNAdet!J10","v":5.8402960000000004},{"$f":"[3]cerNAdet!K10","v":6.7038409999999997},{"$f":"[3]cerNAdet!L10","v":7.6642619999999999},{"$f":"[3]cerNAdet!M10","v":8.5797080000000001},{"$f":"[3]cerNAdet!N10","v":8.0885499999999997},{"$f":"[3]cerNAdet!O10","v":7.067259},{"$f":"[3]cerNAdet!P10","v":6.5463170000000002},{"$f":"[3]cerNAdet!Q10","v":6.3885689999999995}]
[null,"Compensation of employees",{"$f":"[3]cerNAdet!C11","v":1.52},{"$f":"[3]cerNAdet!D11","v":1.61425},{"$f":"[3]cerNAdet!E11","v":1.7575999999999998},{"$f":"[3]cerNAdet!F11","v":1.8329000000000002},{"$f":"[3]cerNAdet!G11","v":2.1084000000000001},{"$f":"[3]cerNAdet!H11","v":2.3697499999999998},{"$f":"[3]cerNAdet!I11","v":2.28525},{"$f":"[3]cerNAdet!J11","v":2.5175000000000001},{"$f":"[3]cerNAdet!K11","v":2.904299},{"$f":"[3]cerNAdet!L11","v":3.212288},{"$f":"[3]cerNAdet!M11","v":3.4112339999999999},{"$f":"[3]cerNAdet!N11","v":3.4558},{"$f":"[3]cerNAdet!O11","v":3.5807950000000002},{"$f":"[3]cerNAdet!P11","v":3.7713829999999997},{"$f":"[3]cerNAdet!Q11","v":3.7735789999999998}]
[null,"Operating surplus (gross)",{"$f":"[3]cerNAdet!C12","v":2.4590000000000001},{"$f":"[3]cerNAdet!D12","v":2.6687500000000002},{"$f":"[3]cerNAdet!E12","v":2.81175},{"$f":"[3]cerNAdet!F12","v":3.2486999999999999},{"$f":"[3]cerNAdet!G12","v":2.8244499999999997},{"$f":"[3]cerNAdet!H12","v":3.2045500000000002},{"$f":"[3]cerNAdet!I12","v":3.0717500000000002},{"$f":"[3]cerNAdet!J12","v":3.3227959999999999},{"$f":"[3]cerNAdet!K12","v":3.7995419999999998},{"$f":"[3]cerNAdet!L12","v":4.4519739999999999},{"$f":"[3]cerNAdet!M12","v":5.1684739999999998},{"$f":"[3]cerNAdet!N12","v":4.6327499999999997},{"$f":"[3]cerNAdet!O12","v":3.4864639999999998},{"$f":"[3]cerNAdet!P12","v":2.774934},{"$f":"[3]cerNAdet!Q12","v":2.6149899999999997}]
["3","Government (compensation of employees)",{"$f":"[3]cerNAdet!C13","v":34.003596388808461},{"$f":"[3]cerNAdet!D13","v":33.806859539269553},{"$f":"[3]cerNAdet!E13","v":34.040516890443314},{"$f":"[3]cerNAdet!F13","v":35.899383758033458},{"$f":"[3]cerNAdet!G13","v":38.003208566069731},{"$f":"[3]cerNAdet!H13","v":41.531770288265996},{"$f":"[3]cerNAdet!I13","v":44.707502710103896},{"$f":"[3]cerNAdet!J13","v":48.453762241663995},{"$f":"[3]cerNAdet!K13","v":52.072246211410942},{"$f":"[3]cerNAdet!L13","v":54.157170309751251},{"$f":"[3]cerNAdet!M13","v":54.216833529630598},{"$f":"[3]cerNAdet!N13","v":54.759867952395368},{"$f":"[3]cerNAdet!O13","v":55.056654287959987},{"$f":"[3]cerNAdet!P13","v":55.682648472740794},{"$f":"[3]cerNAdet!Q13","v":56.898514802669716}]
["3.1","RMI Government (REPMAR)",{"$f":"[3]cerNAdet!C14","v":22.041036999999999},{"$f":"[3]cerNAdet!D14","v":20.736138999999998},{"$f":"[3]cerNAdet!E14","v":19.203961},{"$f":"[3]cerNAdet!F14","v":19.445888},{"$f":"[3]cerNAdet!G14","v":20.779301},{"$f":"[3]cerNAdet!H14","v":23.523049000000004},{"$f":"[3]cerNAdet!I14","v":26.842262999999999},{"$f":"[3]cerNAdet!J14","v":30.384717999999999},{"$f":"[3]cerNAdet!K14","v":33.395500999999989},{"$f":"[3]cerNAdet!L14","v":37.108665000000002},{"$f":"[3]cerNAdet!M14","v":36.923985999999999},{"$f":"[3]cerNAdet!N14","v":37.299086000000003},{"$f":"[3]cerNAdet!O14","v":37.541186000000003},{"$f":"[3]cerNAdet!P14","v":38.205508000000002},{"$f":"[3]cerNAdet!Q14","v":38.747193898892426}]
["3.2","Government Agencies",{"$f":"[3]cerNAdet!C15","v":4.7795410941239664},{"$f":"[3]cerNAdet!D15","v":5.6563423441073155},{"$f":"[3]cerNAdet!E15","v":6.9436702246722701},{"$f":"[3]cerNAdet!F15","v":7.90041467938312},{"$f":"[3]cerNAdet!G15","v":8.6152432067884437},{"$f":"[3]cerNAdet!H15","v":9.4587341159024358},{"$f":"[3]cerNAdet!I15","v":9.6697382382636281},{"$f":"[3]cerNAdet!J15","v":9.3393294629725574},{"$f":"[3]cerNAdet!K15","v":9.5076906349268224},{"$f":"[3]cerNAdet!L15","v":7.6526918868240328},{"$f":"[3]cerNAdet!M15","v":7.7632950847263213},{"$f":"[3]cerNAdet!N15","v":8.0825003379861187},{"$f":"[3]cerNAdet!O15","v":8.8249508624608364},{"$f":"[3]cerNAdet!P15","v":9.5671521072935199},{"$f":"[3]cerNAdet!Q15","v":10.089286669385338}]
["3.3","Local Government",{"$f":"[3]cerNAdet!C16","v":7.1830182946844978},{"$f":"[3]cerNAdet!D16","v":7.4143781951622385},{"$f":"[3]cerNAdet!E16","v":7.8928856657710433},{"$f":"[3]cerNAdet!F16","v":8.5530810786503384},{"$f":"[3]cerNAdet!G16","v":8.6086643592812866},{"$f":"[3]cerNAdet!H16","v":8.5499871723635561},{"$f":"[3]cerNAdet!I16","v":8.1955014718402683},{"$f":"[3]cerNAdet!J16","v":8.7297147786914344},{"$f":"[3]cerNAdet!K16","v":9.1690545764841307},{"$f":"[3]cerNAdet!L16","v":9.3958134229272154},{"$f":"[3]cerNAdet!M16","v":9.5295524449042759},{"$f":"[3]cerNAdet!N16","v":9.37828161440925},{"$f":"[3]cerNAdet!O16","v":8.6905174254991469},{"$f":"[3]cerNAdet!P16","v":7.9099883654472745},{"$f":"[3]cerNAdet!Q16","v":8.0620342343919535}]
["4","NGOs (compensation of employees)",{"$f":"[3]cerNAdet!C17","v":1.7934925877657295},{"$f":"[3]cerNAdet!D17","v":1.7757015841375783},{"$f":"[3]cerNAdet!E17","v":1.7811954756472541},{"$f":"[3]cerNAdet!F17","v":1.7848290275470171},{"$f":"[3]cerNAdet!G17","v":1.9564276709799702},{"$f":"[3]cerNAdet!H17","v":2.0273744384789838},{"$f":"[3]cerNAdet!I17","v":2.0472199123384347},{"$f":"[3]cerNAdet!J17","v":2.0440206092099942},{"$f":"[3]cerNAdet!K17","v":2.3417424065851491},{"$f":"[3]cerNAdet!L17","v":2.2083686582515454},{"$f":"[3]cerNAdet!M17","v":2.2586247947749856},{"$f":"[3]cerNAdet!N17","v":2.2036491694721323},{"$f":"[3]cerNAdet!O17","v":2.2557898257493827},{"$f":"[3]cerNAdet!P17","v":2.4643968158162188},{"$f":"[3]cerNAdet!Q17","v":2.5530651290943966}]
["5","Households",{"$f":"[3]cerNAdet!C18","v":17.827172045005035},{"$f":"[3]cerNAdet!D18","v":16.341527538802914},{"$f":"[3]cerNAdet!E18","v":16.99029799843219},{"$f":"[3]cerNAdet!F18","v":17.197141575049407},{"$f":"[3]cerNAdet!G18","v":17.354775512094928},{"$f":"[3]cerNAdet!H18","v":16.819300651343067},{"$f":"[3]cerNAdet!I18","v":17.329107400806429},{"$f":"[3]cerNAdet!J18","v":18.076569757319987},{"$f":"[3]cerNAdet!K18","v":18.763372798184673},{"$f":"[3]cerNAdet!L18","v":19.54841250942453},{"$f":"[3]cerNAdet!M18","v":20.812759171401442},{"$f":"[3]cerNAdet!N18","v":25.020696743029671},{"$f":"[3]cerNAdet!O18","v":25.819333063670911},{"$f":"[3]cerNAdet!P18","v":25.358805972072624},{"$f":"[3]cerNAdet!Q18","v":26.575701183264705}]
[null," Mixed Income",{"$f":"[3]cerNAdet!C19","v":4.0865104186144512},{"$f":"[3]cerNAdet!D19","v":2.9685351939646534},{"$f":"[3]cerNAdet!E19","v":3.246241825336726},{"$f":"[3]cerNAdet!F19","v":3.5152537652045455},{"$f":"[3]cerNAdet!G19","v":3.3650461623084129},{"$f":"[3]cerNAdet!H19","v":2.9526790783532251},{"$f":"[3]cerNAdet!I19","v":3.5863245200028002},{"$f":"[3]cerNAdet!J19","v":3.8764850825463935},{"$f":"[3]cerNAdet!K19","v":4.0317849414845721},{"$f":"[3]cerNAdet!L19","v":4.1536381702527496},{"$f":"[3]cerNAdet!M19","v":4.9676040624457931},{"$f":"[3]cerNAdet!N19","v":6.8025859198612189},{"$f":"[3]cerNAdet!O19","v":6.8074425968921402},{"$f":"[3]cerNAdet!P19","v":6.0462115989646188},{"$f":"[3]cerNAdet!Q19","v":6.1367723217665224}]
[null,"Copra production",{"$f":"[3]cerNAdet!C20","v":2.0619999999999998},{"$f":"[3]cerNAdet!D20","v":0.82099999999999995},{"$f":"[3]cerNAdet!E20","v":1.0069999999999999},{"$f":"[3]cerNAdet!F20","v":1.1830000000000001},{"$f":"[3]cerNAdet!G20","v":0.94899999999999995},{"$f":"[3]cerNAdet!H20","v":0.47799999999999998},{"$f":"[3]cerNAdet!I20","v":1.0269999999999999},{"$f":"[3]cerNAdet!J20","v":1.1859999999999999},{"$f":"[3]cerNAdet!K20","v":1.1779999999999999},{"$f":"[3]cerNAdet!L20","v":1.115},{"$f":"[3]cerNAdet!M20","v":1.81},{"$f":"[3]cerNAdet!N20","v":3.152898},{"$f":"[3]cerNAdet!O20","v":2.8889999999999998},{"$f":"[3]cerNAdet!P20","v":2.048},{"$f":"[3]cerNAdet!Q20","v":1.857}]
[null,"Fishing ",{"$f":"[3]cerNAdet!C21","v":0.90913249612905067},{"$f":"[3]cerNAdet!D21","v":0.97504782756057029},{"$f":"[3]cerNAdet!E21","v":1.0431988769425307},{"$f":"[3]cerNAdet!F21","v":1.1161133496157181},{"$f":"[3]cerNAdet!G21","v":1.1941241854491027},{"$f":"[3]cerNAdet!H21","v":1.2775875951716167},{"$f":"[3]cerNAdet!I21","v":1.3668846868908553},{"$f":"[3]cerNAdet!J21","v":1.4624232062974403},{"$f":"[3]cerNAdet!K21","v":1.5646393985011093},{"$f":"[3]cerNAdet!L21","v":1.6739999999999999},{"$f":"[3]cerNAdet!M21","v":1.7483505178258667},{"$f":"[3]cerNAdet!N21","v":2.0124181835105488},{"$f":"[3]cerNAdet!O21","v":2.2795615279723425},{"$f":"[3]cerNAdet!P21","v":2.3098890804343393},{"$f":"[3]cerNAdet!Q21","v":2.4921007006730798}]
[null,"Handicrafts",{"$f":"[3]cerNAdet!C22","v":0.91537792248540051},{"$f":"[3]cerNAdet!D22","v":0.96356886433325317},{"$f":"[3]cerNAdet!E22","v":0.97976000000000008},{"$f":"[3]cerNAdet!F22","v":0.99622320015936705},{"$f":"[3]cerNAdet!G22","v":1.0009592696106968},{"$f":"[3]cerNAdet!H22","v":0.98061892604834555},{"$f":"[3]cerNAdet!I22","v":0.97680844359169794},{"$f":"[3]cerNAdet!J22","v":1.0059888781494815},{"$f":"[3]cerNAdet!K22","v":1.05602665764574},{"$f":"[3]cerNAdet!L22","v":1.117867795200759},{"$f":"[3]cerNAdet!M22","v":1.1544152780889554},{"$f":"[3]cerNAdet!N22","v":1.3411988248755082},{"$f":"[3]cerNAdet!O22","v":1.3425187768053684},{"$f":"[3]cerNAdet!P22","v":1.3830196256548197},{"$f":"[3]cerNAdet!Q22","v":1.4644032221702883}]
[null,"Other",{"$f":"[3]cerNAdet!C23","v":0.2},{"$f":"[3]cerNAdet!D23","v":0.20891850207082999},{"$f":"[3]cerNAdet!E23","v":0.21628294839419535},{"$f":"[3]cerNAdet!F23","v":0.21991721542946074},{"$f":"[3]cerNAdet!G23","v":0.22096270724861369},{"$f":"[3]cerNAdet!H23","v":0.21647255713326277},{"$f":"[3]cerNAdet!I23","v":0.21563138952024724},{"$f":"[3]cerNAdet!J23","v":0.22207299809947201},{"$f":"[3]cerNAdet!K23","v":0.23311888533772362},{"$f":"[3]cerNAdet!L23","v":0.2467703750519909},{"$f":"[3]cerNAdet!M23","v":0.25483826653097091},{"$f":"[3]cerNAdet!N23","v":0.29607091147516207},{"$f":"[3]cerNAdet!O23","v":0.2963622921144296},{"$f":"[3]cerNAdet!P23","v":0.30530289287545981},{"$f":"[3]cerNAdet!Q23","v":0.32326839892315434}]
[null,"Subsistence",{"$f":"[3]cerNAdet!C24","v":6.8756616263905848},{"$f":"[3]cerNAdet!D24","v":6.923992344838263},{"$f":"[3]cerNAdet!E24","v":7.136056173095465},{"$f":"[3]cerNAdet!F24","v":6.9290876095157312},{"$f":"[3]cerNAdet!G24","v":7.1707311813561274},{"$f":"[3]cerNAdet!H24","v":7.1526212444944477},{"$f":"[3]cerNAdet!I24","v":7.0212641763054897},{"$f":"[3]cerNAdet!J24","v":7.2429869298856229},{"$f":"[3]cerNAdet!K24","v":7.3919290968307267},{"$f":"[3]cerNAdet!L24","v":7.586456304302259},{"$f":"[3]cerNAdet!M24","v":7.741234517717821},{"$f":"[3]cerNAdet!N24","v":8.7559061685275612},{"$f":"[3]cerNAdet!O24","v":9.4930159202627244},{"$f":"[3]cerNAdet!P24","v":9.4575260551653582},{"$f":"[3]cerNAdet!Q24","v":9.9517654840198304}]
[null,"Home Ownership",{"$f":"[3]cerNAdet!C25","v":6.8650000000000002},{"$f":"[3]cerNAdet!D25","v":6.4489999999999998},{"$f":"[3]cerNAdet!E25","v":6.6079999999999997},{"$f":"[3]cerNAdet!F25","v":6.7528002003291281},{"$f":"[3]cerNAdet!G25","v":6.8189981684303893},{"$f":"[3]cerNAdet!H25","v":6.714000328495394},{"$f":"[3]cerNAdet!I25","v":6.7215187044981359},{"$f":"[3]cerNAdet!J25","v":6.9570977448879727},{"$f":"[3]cerNAdet!K25","v":7.3396587598693719},{"$f":"[3]cerNAdet!L25","v":7.808318034869524},{"$f":"[3]cerNAdet!M25","v":8.1039205912378272},{"$f":"[3]cerNAdet!N25","v":9.4622046546408907},{"$f":"[3]cerNAdet!O25","v":9.5188745465160451},{"$f":"[3]cerNAdet!P25","v":9.8550683179426439},{"$f":"[3]cerNAdet!Q25","v":10.487163377478353}]
[null,"Indirect taxes",{"$f":"[3]cerNAdet!C26","v":13.232357151012948},{"$f":"[3]cerNAdet!D26","v":13.929944820086012},{"$f":"[3]cerNAdet!E26","v":12.195143424062074},{"$f":"[3]cerNAdet!F26","v":11.042435553333332},{"$f":"[3]cerNAdet!G26","v":10.679871966666667},{"$f":"[3]cerNAdet!H26","v":12.890256828333332},{"$f":"[3]cerNAdet!I26","v":13.99041877},{"$f":"[3]cerNAdet!J26","v":14.009451604000001},{"$f":"[3]cerNAdet!K26","v":16.531230854},{"$f":"[3]cerNAdet!L26","v":16.948562553999999},{"$f":"[3]cerNAdet!M26","v":18.858294133999998},{"$f":"[3]cerNAdet!N26","v":18.451269139000001},{"$f":"[3]cerNAdet!O26","v":15.858177529999999},{"$f":"[3]cerNAdet!P26","v":17.391609689999999},{"$f":"[3]cerNAdet!Q26","v":16.251564791}]
[null,"Import and fuel taxes (REPMAR)",{"$f":"[3]cerNAdet!C27","v":7.8104820000000004},{"$f":"[3]cerNAdet!D27","v":8.3345909999999996},{"$f":"[3]cerNAdet!E27","v":6.2267849999999996},{"$f":"[3]cerNAdet!F27","v":4.5228629999999992},{"$f":"[3]cerNAdet!G27","v":4.4507070000000004},{"$f":"[3]cerNAdet!H27","v":6.3225579999999999},{"$f":"[3]cerNAdet!I27","v":7.0395519999999996},{"$f":"[3]cerNAdet!J27","v":6.6805199999999996},{"$f":"[3]cerNAdet!K27","v":8.8297489999999996},{"$f":"[3]cerNAdet!L27","v":8.6012120000000003},{"$f":"[3]cerNAdet!M27","v":9.3542809999999985},{"$f":"[3]cerNAdet!N27","v":8.6723490000000005},{"$f":"[3]cerNAdet!O27","v":7.1380749999999997},{"$f":"[3]cerNAdet!P27","v":7.7216290000000001},{"$f":"[3]cerNAdet!Q27","v":7.7118410000000006}]
[null,"Other Indirect taxes (REPMAR)",{"$f":"[3]cerNAdet!C28","v":2.6934751510129464},{"$f":"[3]cerNAdet!D28","v":2.6321038200860127},{"$f":"[3]cerNAdet!E28","v":2.6418584240620753},{"$f":"[3]cerNAdet!F28","v":2.995972553333333},{"$f":"[3]cerNAdet!G28","v":2.8602649666666657},{"$f":"[3]cerNAdet!H28","v":2.9138488283333328},{"$f":"[3]cerNAdet!I28","v":3.3050167700000004},{"$f":"[3]cerNAdet!J28","v":3.8585316040000004},{"$f":"[3]cerNAdet!K28","v":3.704481854},{"$f":"[3]cerNAdet!L28","v":4.5313505540000003},{"$f":"[3]cerNAdet!M28","v":5.5006131339999991},{"$f":"[3]cerNAdet!N28","v":5.4662585089999993},{"$f":"[3]cerNAdet!O28","v":5.0154145300000001},{"$f":"[3]cerNAdet!P28","v":5.8602386900000001},{"$f":"[3]cerNAdet!Q28","v":4.8065757910000002}]
[null,"Indirect taxes (Local Government)",{"$f":"[3]cerNAdet!C29","v":2.7284000000000002},{"$f":"[3]cerNAdet!D29","v":2.9632499999999999},{"$f":"[3]cerNAdet!E29","v":3.3264999999999998},{"$f":"[3]cerNAdet!F29","v":3.5236000000000005},{"$f":"[3]cerNAdet!G29","v":3.3689000000000004},{"$f":"[3]cerNAdet!H29","v":3.6538499999999994},{"$f":"[3]cerNAdet!I29","v":3.6458499999999994},{"$f":"[3]cerNAdet!J29","v":3.4704000000000002},{"$f":"[3]cerNAdet!K29","v":3.9969999999999999},{"$f":"[3]cerNAdet!L29","v":3.8159999999999998},{"$f":"[3]cerNAdet!M29","v":4.0034000000000001},{"$f":"[3]cerNAdet!N29","v":4.3126616300000009},{"$f":"[3]cerNAdet!O29","v":3.7046879999999995},{"$f":"[3]cerNAdet!P29","v":3.8097419999999995},{"$f":"[3]cerNAdet!Q29","v":3.7331480000000004}]
[null,"Less intermediate FISIM",{"$f":"[3]cerNAdet!C30","v":-2.225958612402124},{"$f":"[3]cerNAdet!D30","v":-2.2503667989272671},{"$f":"[3]cerNAdet!E30","v":-2.4450143601505294},{"$f":"[3]cerNAdet!F30","v":-2.8546298983609328},{"$f":"[3]cerNAdet!G30","v":-2.9595879394622719},{"$f":"[3]cerNAdet!H30","v":-3.1870334452622351},{"$f":"[3]cerNAdet!I30","v":-2.7301110766385599},{"$f":"[3]cerNAdet!J30","v":-2.8393505586826855},{"$f":"[3]cerNAdet!K30","v":-3.1077918313582376},{"$f":"[3]cerNAdet!L30","v":-3.4924575234542852},{"$f":"[3]cerNAdet!M30","v":-4.1349490153627562},{"$f":"[3]cerNAdet!N30","v":-4.0213738230723681},{"$f":"[3]cerNAdet!O30","v":-3.5648120419000113},{"$f":"[3]cerNAdet!P30","v":-3.3401780521783646},{"$f":"[3]cerNAdet!Q30","v":-3.1789933323066486}]
[null,"Nominal GDP at Market Prices (Gross)",{"$f":"[3]cerNAdet!C31","v":106.24181840238887},{"$f":"[3]cerNAdet!D31","v":108.65772030952792},{"$f":"[3]cerNAdet!E31","v":107.9386102132937},{"$f":"[3]cerNAdet!F31","v":110.90273322462824},{"$f":"[3]cerNAdet!G31","v":115.12100198460594},{"$f":"[3]cerNAdet!H31","v":124.69807108904428},{"$f":"[3]cerNAdet!I31","v":126.88489438896619},{"$f":"[3]cerNAdet!J31","v":131.14868074440386},{"$f":"[3]cerNAdet!K31","v":137.61878408161394},{"$f":"[3]cerNAdet!L31","v":143.42114457105907},{"$f":"[3]cerNAdet!M31","v":149.84863533771369},{"$f":"[3]cerNAdet!N31","v":152.71244942877965},{"$f":"[3]cerNAdet!O31","v":151.68106740590326},{"$f":"[3]cerNAdet!P31","v":163.21955169519242},{"$f":"[3]cerNAdet!Q31","v":170.74769749380366}]
[null,"Memo items:"]
[null,"Non-resident pelagic fishing vessels (2)",{"$f":"[3]cerNAdet!C33","v":3.0201080989517219},{"$f":"[3]cerNAdet!D33","v":2.7280114758282936},{"$f":"[3]cerNAdet!E33","v":0},{"$f":"[3]cerNAdet!F33","v":0},{"$f":"[3]cerNAdet!G33","v":13.839857577173037},{"$f":"[3]cerNAdet!H33","v":15.676370160252988},{"$f":"[3]cerNAdet!I33","v":15.035640527158735},{"$f":"[3]cerNAdet!J33","v":18.947588715019485},{"$f":"[3]cerNAdet!K33","v":23.39579879478551},{"$f":"[3]cerNAdet!L33","v":18.150209444733758},{"$f":"[3]cerNAdet!M33","v":34.711788727334138},{"$f":"[3]cerNAdet!N33","v":25.773985455328308},{"$f":"[3]cerNAdet!O33","v":23.661941542480605},{"$f":"[3]cerNAdet!P33","v":26.713981588992468},{"$f":"[3]cerNAdet!Q33","v":34.747394058659147}]
[null,"Labor Income, Kwajalein base & Embassies (3)",{"$f":"[3]cerNAdet!C34","v":15.02158669355723},{"$f":"[3]cerNAdet!D34","v":15.174865575762366},{"$f":"[3]cerNAdet!E34","v":16.629654013693191},{"$f":"[3]cerNAdet!F34","v":19.18224783488013},{"$f":"[3]cerNAdet!G34","v":20.128547937035513},{"$f":"[3]cerNAdet!H34","v":18.32567645090985},{"$f":"[3]cerNAdet!I34","v":20.392630873256948},{"$f":"[3]cerNAdet!J34","v":20.642831907652852},{"$f":"[3]cerNAdet!K34","v":21.231102615885774},{"$f":"[3]cerNAdet!L34","v":23.323336380073325},{"$f":"[3]cerNAdet!M34","v":22.172526932350159},{"$f":"[3]cerNAdet!N34","v":19.719057610748997},{"$f":"[3]cerNAdet!O34","v":19.910144230231275},{"$f":"[3]cerNAdet!P34","v":18.918878568338748},{"$f":"[3]cerNAdet!Q34","v":18.75801629433165}]
["(1)   Includes Value Added for shore based processing and support units directly related to pelagic fishing, and resident purse seiners that commenced in FY2009"]
["(2)   Estimated Value Added for pelagic fishing vessels of RMI incorporated companies that are treated as economic non-residents and outside the RMI GDP"]
["(3)   Income earned by Marshallese workers on Kwajalein military base and in foreign embassies in Majuro - outside the economic territory and GDP of the RMI"]
["Source: EPPSO estimates"]
["Table 2q    Constant price GDP by institutional sector and income components, FY2004-FY2011"]
[null,"(constant prices of FY2004, US$ millions)",{"$f":"C2","v":"FY1997"},{"$f":"D2","v":"FY1998"},"FY1999","FY2000","FY2001","FY2002","FY2003","FY2004","FY2005","FY2006","FY2007","FY2008","FY2009","FY2010","FY2011"]
[1.1000000000000001,"Private Enterprise (1)",{"$f":"[3]cerNAdet!C43","v":31.470522314346319},{"$f":"[3]cerNAdet!D43","v":31.736971063131207},{"$f":"[3]cerNAdet!E43","v":30.321127486920979},{"$f":"[3]cerNAdet!F43","v":32.78049182058237},{"$f":"[3]cerNAdet!G43","v":35.809917964756316},{"$f":"[3]cerNAdet!H43","v":37.065084636566873},{"$f":"[3]cerNAdet!I43","v":35.355727474160147},{"$f":"[3]cerNAdet!J43","v":34.256701730892566},{"$f":"[3]cerNAdet!K43","v":33.155541979229568},{"$f":"[3]cerNAdet!L43","v":35.651122284007798},{"$f":"[3]cerNAdet!M43","v":36.218879226098245},{"$f":"[3]cerNAdet!N43","v":34.614851625030575},{"$f":"[3]cerNAdet!O43","v":34.570941006077931},{"$f":"[3]cerNAdet!P43","v":38.277294997965484},{"$f":"[3]cerNAdet!Q43","v":39.342934587546239}]
[null,"Compensation of employees",{"$f":"[3]cerNAdet!C44","v":15.211682383886087},{"$f":"[3]cerNAdet!D44","v":16.792564775981372},{"$f":"[3]cerNAdet!E44","v":16.380896406456706},{"$f":"[3]cerNAdet!F44","v":16.958877808162963},{"$f":"[3]cerNAdet!G44","v":19.298327223372549},{"$f":"[3]cerNAdet!H44","v":20.10052900147344},{"$f":"[3]cerNAdet!I44","v":18.783922180762008},{"$f":"[3]cerNAdet!J44","v":19.101520801142563},{"$f":"[3]cerNAdet!K44","v":19.149877936478877},{"$f":"[3]cerNAdet!L44","v":20.698798024477615},{"$f":"[3]cerNAdet!M44","v":22.325156268639724},{"$f":"[3]cerNAdet!N44","v":22.326950779478111},{"$f":"[3]cerNAdet!O44","v":22.079085958878419},{"$f":"[3]cerNAdet!P44","v":22.584192113814471},{"$f":"[3]cerNAdet!Q44","v":22.12207961543573}]
[null,"Operating surplus (gross)",{"$f":"[3]cerNAdet!C45","v":16.258839930460233},{"$f":"[3]cerNAdet!D45","v":14.944406287149835},{"$f":"[3]cerNAdet!E45","v":13.940231080464274},{"$f":"[3]cerNAdet!F45","v":15.821614012419404},{"$f":"[3]cerNAdet!G45","v":16.511590741383767},{"$f":"[3]cerNAdet!H45","v":16.964555635093433},{"$f":"[3]cerNAdet!I45","v":16.571805293398143},{"$f":"[3]cerNAdet!J45","v":15.155180929750001},{"$f":"[3]cerNAdet!K45","v":14.005664042750693},{"$f":"[3]cerNAdet!L45","v":14.952324259530185},{"$f":"[3]cerNAdet!M45","v":13.893722957458523},{"$f":"[3]cerNAdet!N45","v":12.287900845552464},{"$f":"[3]cerNAdet!O45","v":12.491855047199515},{"$f":"[3]cerNAdet!P45","v":15.693102884151012},{"$f":"[3]cerNAdet!Q45","v":17.220854972110509}]
[1.2,"Public Enterprise",{"$f":"[3]cerNAdet!C46","v":9.9334717379859665},{"$f":"[3]cerNAdet!D46","v":9.1347330366437589},{"$f":"[3]cerNAdet!E46","v":8.509919806758683},{"$f":"[3]cerNAdet!F46","v":10.77714368033482},{"$f":"[3]cerNAdet!G46","v":11.037394043426815},{"$f":"[3]cerNAdet!H46","v":11.617423346700104},{"$f":"[3]cerNAdet!I46","v":11.960637150126614},{"$f":"[3]cerNAdet!J46","v":11.307229360000001},{"$f":"[3]cerNAdet!K46","v":11.493771178702128},{"$f":"[3]cerNAdet!L46","v":10.148355165855087},{"$f":"[3]cerNAdet!M46","v":11.469061487365023},{"$f":"[3]cerNAdet!N46","v":10.439278218661872},{"$f":"[3]cerNAdet!O46","v":10.707695032606455},{"$f":"[3]cerNAdet!P46","v":11.214459905206322},{"$f":"[3]cerNAdet!Q46","v":10.746389049575075}]
[null,"Compensation of employees",{"$f":"[3]cerNAdet!C47","v":9.0789347212942921},{"$f":"[3]cerNAdet!D47","v":9.3103065157303515},{"$f":"[3]cerNAdet!E47","v":7.9045716733438143},{"$f":"[3]cerNAdet!F47","v":7.7481146110477495},{"$f":"[3]cerNAdet!G47","v":7.6995561826783101},{"$f":"[3]cerNAdet!H47","v":8.3273522357047653},{"$f":"[3]cerNAdet!I47","v":8.735501816417484},{"$f":"[3]cerNAdet!J47","v":9.3556293599999982},{"$f":"[3]cerNAdet!K47","v":9.848869241472217},{"$f":"[3]cerNAdet!L47","v":9.789945099648202},{"$f":"[3]cerNAdet!M47","v":11.117869818869915},{"$f":"[3]cerNAdet!N47","v":11.446847072617683},{"$f":"[3]cerNAdet!O47","v":11.985111768786631},{"$f":"[3]cerNAdet!P47","v":11.292317306392031},{"$f":"[3]cerNAdet!Q47","v":11.883663301999034}]
[null,"Operating surplus (gross)",{"$f":"[3]cerNAdet!C48","v":4.2575429192005609},{"$f":"[3]cerNAdet!D48","v":2.9460674825222979},{"$f":"[3]cerNAdet!E48","v":3.3176501698651961},{"$f":"[3]cerNAdet!F48","v":5.7638068603755039},{"$f":"[3]cerNAdet!G48","v":6.4035811270399083},{"$f":"[3]cerNAdet!H48","v":6.0796914497736152},{"$f":"[3]cerNAdet!I48","v":6.0632429329787847},{"$f":"[3]cerNAdet!J48","v":5.0365760000000019},{"$f":"[3]cerNAdet!K48","v":4.6969968299929414},{"$f":"[3]cerNAdet!L48","v":3.3181028952386096},{"$f":"[3]cerNAdet!M48","v":5.1038751948611445},{"$f":"[3]cerNAdet!N48","v":3.3933023244138742},{"$f":"[3]cerNAdet!O48","v":3.0251532438420834},{"$f":"[3]cerNAdet!P48","v":3.7213875458292041},{"$f":"[3]cerNAdet!Q48","v":2.0544086952917233}]
[null,"Less Subsidies",{"$f":"[3]cerNAdet!C49","v":-3.4030059025088861},{"$f":"[3]cerNAdet!D49","v":-3.12164096160889},{"$f":"[3]cerNAdet!E49","v":-2.7123020364503265},{"$f":"[3]cerNAdet!F49","v":-2.7347777910884341},{"$f":"[3]cerNAdet!G49","v":-3.065743266291403},{"$f":"[3]cerNAdet!H49","v":-2.7896203387782781},{"$f":"[3]cerNAdet!I49","v":-2.8381075992696552},{"$f":"[3]cerNAdet!J49","v":-3.0849760000000002},{"$f":"[3]cerNAdet!K49","v":-3.0520948927630314},{"$f":"[3]cerNAdet!L49","v":-2.9596928290317259},{"$f":"[3]cerNAdet!M49","v":-4.7526835263660363},{"$f":"[3]cerNAdet!N49","v":-4.4008711783696839},{"$f":"[3]cerNAdet!O49","v":-4.3025699800222581},{"$f":"[3]cerNAdet!P49","v":-3.7992449470149121},{"$f":"[3]cerNAdet!Q49","v":-3.1916829477156825}]
["2","Finance (Banks)",{"$f":"[3]cerNAdet!C50","v":4.5096730564359691},{"$f":"[3]cerNAdet!D50","v":4.7787635859432562},{"$f":"[3]cerNAdet!E50","v":5.0021061352032063},{"$f":"[3]cerNAdet!F50","v":5.1095715281581029},{"$f":"[3]cerNAdet!G50","v":5.6239393671617144},{"$f":"[3]cerNAdet!H50","v":5.5785270775165685},{"$f":"[3]cerNAdet!I50","v":5.4419845148495529},{"$f":"[3]cerNAdet!J50","v":5.8402960000000004},{"$f":"[3]cerNAdet!K50","v":5.888405980339189},{"$f":"[3]cerNAdet!L50","v":6.0187469004768523},{"$f":"[3]cerNAdet!M50","v":6.5399664699601843},{"$f":"[3]cerNAdet!N50","v":7.0345356614641057},{"$f":"[3]cerNAdet!O50","v":7.2424183197630239},{"$f":"[3]cerNAdet!P50","v":7.6276063816289481},{"$f":"[3]cerNAdet!Q50","v":7.4587552522991114}]
[null,"Compensation of employees",{"$f":"[3]cerNAdet!C51","v":1.6961296900489398},{"$f":"[3]cerNAdet!D51","v":1.893258564437194},{"$f":"[3]cerNAdet!E51","v":2.0164641109298533},{"$f":"[3]cerNAdet!F51","v":2.0287846655791189},{"$f":"[3]cerNAdet!G51","v":2.4394698205546494},{"$f":"[3]cerNAdet!H51","v":2.3080505709624797},{"$f":"[3]cerNAdet!I51","v":2.2464477977161499},{"$f":"[3]cerNAdet!J51","v":2.5175000000000001},{"$f":"[3]cerNAdet!K51","v":2.599637030995106},{"$f":"[3]cerNAdet!L51","v":2.8665823817292009},{"$f":"[3]cerNAdet!M51","v":3.0185358890701468},{"$f":"[3]cerNAdet!N51","v":3.1335277324632953},{"$f":"[3]cerNAdet!O51","v":3.0596044045677},{"$f":"[3]cerNAdet!P51","v":3.3224429037520391},{"$f":"[3]cerNAdet!Q51","v":3.3224429037520391}]
[null,"Operating surplus (gross)",{"$f":"[3]cerNAdet!C52","v":2.8135433663870293},{"$f":"[3]cerNAdet!D52","v":2.8855050215060625},{"$f":"[3]cerNAdet!E52","v":2.9856420242733526},{"$f":"[3]cerNAdet!F52","v":3.0807868625789836},{"$f":"[3]cerNAdet!G52","v":3.1844695466070654},{"$f":"[3]cerNAdet!H52","v":3.2704765065540888},{"$f":"[3]cerNAdet!I52","v":3.1955367171334035},{"$f":"[3]cerNAdet!J52","v":3.3227959999999999},{"$f":"[3]cerNAdet!K52","v":3.288768949344083},{"$f":"[3]cerNAdet!L52","v":3.1521645187476519},{"$f":"[3]cerNAdet!M52","v":3.5214305808900375},{"$f":"[3]cerNAdet!N52","v":3.9010079290008104},{"$f":"[3]cerNAdet!O52","v":4.1828139151953243},{"$f":"[3]cerNAdet!P52","v":4.305163477876909},{"$f":"[3]cerNAdet!Q52","v":4.1363123485470723}]
["3","Government (compensation of employees)",{"$f":"[3]cerNAdet!C53","v":44.04756578571908},{"$f":"[3]cerNAdet!D53","v":41.555319837794926},{"$f":"[3]cerNAdet!E53","v":40.690160994055248},{"$f":"[3]cerNAdet!F53","v":41.016099389366758},{"$f":"[3]cerNAdet!G53","v":43.596749456670416},{"$f":"[3]cerNAdet!H53","v":45.869948009508541},{"$f":"[3]cerNAdet!I53","v":47.331357548140531},{"$f":"[3]cerNAdet!J53","v":48.453762241663995},{"$f":"[3]cerNAdet!K53","v":50.890330880095597},{"$f":"[3]cerNAdet!L53","v":52.148804459433023},{"$f":"[3]cerNAdet!M53","v":52.683712221401997},{"$f":"[3]cerNAdet!N53","v":52.572011076235441},{"$f":"[3]cerNAdet!O53","v":52.291158028067763},{"$f":"[3]cerNAdet!P53","v":53.795245661810981},{"$f":"[3]cerNAdet!Q53","v":54.94590977854677}]
["3.1","RMI Government (REPMAR)",{"$f":"[3]cerNAdet!C54","v":28.851839526906083},{"$f":"[3]cerNAdet!D54","v":26.291117338592127},{"$f":"[3]cerNAdet!E54","v":23.788681694776976},{"$f":"[3]cerNAdet!F54","v":23.150068992449306},{"$f":"[3]cerNAdet!G54","v":23.508765219099143},{"$f":"[3]cerNAdet!H54","v":26.785733910219946},{"$f":"[3]cerNAdet!I54","v":28.615093484720479},{"$f":"[3]cerNAdet!J54","v":30.384717999999999},{"$f":"[3]cerNAdet!K54","v":32.525975667134972},{"$f":"[3]cerNAdet!L54","v":35.877699502147578},{"$f":"[3]cerNAdet!M54","v":35.313469192698321},{"$f":"[3]cerNAdet!N54","v":35.993244149897819},{"$f":"[3]cerNAdet!O54","v":35.060992693127623},{"$f":"[3]cerNAdet!P54","v":35.726397000428086},{"$f":"[3]cerNAdet!Q54","v":35.655472287345589}]
["3.2","Government Agencies",{"$f":"[3]cerNAdet!C55","v":7.8050644582660285},{"$f":"[3]cerNAdet!D55","v":7.1947008581127356},{"$f":"[3]cerNAdet!E55","v":8.2276446294120316},{"$f":"[3]cerNAdet!F55","v":9.1280370835852462},{"$f":"[3]cerNAdet!G55","v":10.864620438250748},{"$f":"[3]cerNAdet!H55","v":10.652443782318455},{"$f":"[3]cerNAdet!I55","v":10.745028628515918},{"$f":"[3]cerNAdet!J55","v":9.3393294629725592},{"$f":"[3]cerNAdet!K55","v":9.4007718306674501},{"$f":"[3]cerNAdet!L55","v":7.2484956230035831},{"$f":"[3]cerNAdet!M55","v":8.7512122581593292},{"$f":"[3]cerNAdet!N55","v":8.2402129094225476},{"$f":"[3]cerNAdet!O55","v":9.2869113471218068},{"$f":"[3]cerNAdet!P55","v":10.56021774220496},{"$f":"[3]cerNAdet!Q55","v":11.64314111679036}]
["3.3","Local Government",{"$f":"[3]cerNAdet!C56","v":7.390661800546968},{"$f":"[3]cerNAdet!D56","v":8.0695016410900671},{"$f":"[3]cerNAdet!E56","v":8.6738346698662401},{"$f":"[3]cerNAdet!F56","v":8.7379933133322023},{"$f":"[3]cerNAdet!G56","v":9.2233637993205217},{"$f":"[3]cerNAdet!H56","v":8.4317703169701392},{"$f":"[3]cerNAdet!I56","v":7.9712354349041323},{"$f":"[3]cerNAdet!J56","v":8.7297147786914344},{"$f":"[3]cerNAdet!K56","v":8.963583382293173},{"$f":"[3]cerNAdet!L56","v":9.0226093342818601},{"$f":"[3]cerNAdet!M56","v":8.619030770544347},{"$f":"[3]cerNAdet!N56","v":8.3385540169150758},{"$f":"[3]cerNAdet!O56","v":7.9432539878183315},{"$f":"[3]cerNAdet!P56","v":7.508630919177933},{"$f":"[3]cerNAdet!Q56","v":7.6472963744108222}]
["4","NGOs (compensation of employees)",{"$f":"[3]cerNAdet!C57","v":1.8829045438316145},{"$f":"[3]cerNAdet!D57","v":1.9373537404414825},{"$f":"[3]cerNAdet!E57","v":1.8877581095130269},{"$f":"[3]cerNAdet!F57","v":1.9030998401151926},{"$f":"[3]cerNAdet!G57","v":1.9832673560254179},{"$f":"[3]cerNAdet!H57","v":2.0432953637633462},{"$f":"[3]cerNAdet!I57","v":1.972165521880578},{"$f":"[3]cerNAdet!J57","v":2.0440206092099942},{"$f":"[3]cerNAdet!K57","v":2.2497113755015761},{"$f":"[3]cerNAdet!L57","v":2.1422634731751349},{"$f":"[3]cerNAdet!M57","v":2.1618451002346259},{"$f":"[3]cerNAdet!N57","v":2.0440206092099942},{"$f":"[3]cerNAdet!O57","v":1.9966565027327627},{"$f":"[3]cerNAdet!P57","v":2.0189159591337229},{"$f":"[3]cerNAdet!Q57","v":2.0432953637633462}]
["5","Households",{"$f":"[3]cerNAdet!C58","v":18.941464763229604},{"$f":"[3]cerNAdet!D58","v":17.942558824702218},{"$f":"[3]cerNAdet!E58","v":17.826389159440108},{"$f":"[3]cerNAdet!F58","v":17.874739608768678},{"$f":"[3]cerNAdet!G58","v":18.206958615964876},{"$f":"[3]cerNAdet!H58","v":17.457122979843174},{"$f":"[3]cerNAdet!I58","v":17.780244819666315},{"$f":"[3]cerNAdet!J58","v":18.076569757319987},{"$f":"[3]cerNAdet!K58","v":18.374261729998796},{"$f":"[3]cerNAdet!L58","v":18.495037198395085},{"$f":"[3]cerNAdet!M58","v":19.007737713991048},{"$f":"[3]cerNAdet!N58","v":19.561009065813458},{"$f":"[3]cerNAdet!O58","v":19.324126207433601},{"$f":"[3]cerNAdet!P58","v":19.322086467813765},{"$f":"[3]cerNAdet!Q58","v":19.139084968393352}]
[null," Mixed Income",{"$f":"[3]cerNAdet!C59","v":3.8599609980999587},{"$f":"[3]cerNAdet!D59","v":3.6264797529849835},{"$f":"[3]cerNAdet!E59","v":3.3690541251015662},{"$f":"[3]cerNAdet!F59","v":3.6384801045798563},{"$f":"[3]cerNAdet!G59","v":3.8979781103267657},{"$f":"[3]cerNAdet!H59","v":3.2812510715160959},{"$f":"[3]cerNAdet!I59","v":3.7127486084299646},{"$f":"[3]cerNAdet!J59","v":3.8764850825463935},{"$f":"[3]cerNAdet!K59","v":3.9859422513612119},{"$f":"[3]cerNAdet!L59","v":4.0089958024479007},{"$f":"[3]cerNAdet!M59","v":4.4182779107005494},{"$f":"[3]cerNAdet!N59","v":4.7900823419705958},{"$f":"[3]cerNAdet!O59","v":4.5587464793466301},{"$f":"[3]cerNAdet!P59","v":4.3816602429941698},{"$f":"[3]cerNAdet!Q59","v":4.1098265215149929}]
[null,"Copra production",{"$f":"[3]cerNAdet!C60","v":1.4072177485620374},{"$f":"[3]cerNAdet!D60","v":1.1116922760887429},{"$f":"[3]cerNAdet!E60","v":0.81738496302382913},{"$f":"[3]cerNAdet!F60","v":1.040795398520953},{"$f":"[3]cerNAdet!G60","v":1.2805291700903862},{"$f":"[3]cerNAdet!H60","v":0.64635538208709953},{"$f":"[3]cerNAdet!I60","v":1.043475349219392},{"$f":"[3]cerNAdet!J60","v":1.1859999999999999},{"$f":"[3]cerNAdet!K60","v":1.1962325390304025},{"$f":"[3]cerNAdet!L60","v":1.1319137222678719},{"$f":"[3]cerNAdet!M60","v":1.4747037797863602},{"$f":"[3]cerNAdet!N60","v":1.7497641741988501},{"$f":"[3]cerNAdet!O60","v":1.5999305669679542},{"$f":"[3]cerNAdet!P60","v":1.3168303204601479},{"$f":"[3]cerNAdet!Q60","v":0.98329827444535733}]
[null,"Fishing ",{"$f":"[3]cerNAdet!C61","v":1.200733557631424},{"$f":"[3]cerNAdet!D61","v":1.2358915554863303},{"$f":"[3]cerNAdet!E61","v":1.2710495533412367},{"$f":"[3]cerNAdet!F61","v":1.3072077075672086},{"$f":"[3]cerNAdet!G61","v":1.3443944700906243},{"$f":"[3]cerNAdet!H61","v":1.3826391022234121},{"$f":"[3]cerNAdet!I61","v":1.4219716976880292},{"$f":"[3]cerNAdet!J61","v":1.46242320629744},{"$f":"[3]cerNAdet!K61","v":1.5040254583087329},{"$f":"[3]cerNAdet!L61","v":1.5468111894695344},{"$f":"[3]cerNAdet!M61","v":1.5908140667769333},{"$f":"[3]cerNAdet!N61","v":1.6360687149691764},{"$f":"[3]cerNAdet!O61","v":1.6826107437709925},{"$f":"[3]cerNAdet!P61","v":1.7304767759139694},{"$f":"[3]cerNAdet!Q61","v":1.7797044759540492}]
[null,"Handicrafts",{"$f":"[3]cerNAdet!C62","v":1.0275100552063841},{"$f":"[3]cerNAdet!D62","v":1.0510171161781867},{"$f":"[3]cerNAdet!E62","v":1.0490424859242984},{"$f":"[3]cerNAdet!F62","v":1.0571173432691083},{"$f":"[3]cerNAdet!G62","v":1.0428453671706446},{"$f":"[3]cerNAdet!H62","v":1.0258084089102246},{"$f":"[3]cerNAdet!I62","v":1.0217494108870064},{"$f":"[3]cerNAdet!J62","v":1.0059888781494815},{"$f":"[3]cerNAdet!K62","v":1.0531912808080088},{"$f":"[3]cerNAdet!L62","v":1.0897152227120133},{"$f":"[3]cerNAdet!M62","v":1.1081376318622762},{"$f":"[3]cerNAdet!N62","v":1.1503160866631323},{"$f":"[3]cerNAdet!O62","v":1.0454263182386676},{"$f":"[3]cerNAdet!P62","v":1.0930592757456596},{"$f":"[3]cerNAdet!Q62","v":1.1032748111260138}]
[null,"Other",{"$f":"[3]cerNAdet!C63","v":0.22449963670011325},{"$f":"[3]cerNAdet!D63","v":0.22787880523172341},{"$f":"[3]cerNAdet!E63","v":0.23157712281220241},{"$f":"[3]cerNAdet!F63","v":0.23335965522258656},{"$f":"[3]cerNAdet!G63","v":0.23020910297511044},{"$f":"[3]cerNAdet!H63","v":0.22644817829535979},{"$f":"[3]cerNAdet!I63","v":0.22555215063553713},{"$f":"[3]cerNAdet!J63","v":0.22207299809947201},{"$f":"[3]cerNAdet!K63","v":0.2324929732140677},{"$f":"[3]cerNAdet!L63","v":0.2405556679984806},{"$f":"[3]cerNAdet!M63","v":0.24462243227498001},{"$f":"[3]cerNAdet!N63","v":0.25393336613943701},{"$f":"[3]cerNAdet!O63","v":0.2307788503690161},{"$f":"[3]cerNAdet!P63","v":0.24129387087439252},{"$f":"[3]cerNAdet!Q63","v":0.24354895998957207}]
[null,"Subsistence",{"$f":"[3]cerNAdet!C64","v":7.6362615747832079},{"$f":"[3]cerNAdet!D64","v":7.5197867776724241},{"$f":"[3]cerNAdet!E64","v":7.6214295700521104},{"$f":"[3]cerNAdet!F64","v":7.313119918806394},{"$f":"[3]cerNAdet!G64","v":7.4449891896185481},{"$f":"[3]cerNAdet!H64","v":7.3900886593896891},{"$f":"[3]cerNAdet!I64","v":7.2090195266313852},{"$f":"[3]cerNAdet!J64","v":7.2429869298856229},{"$f":"[3]cerNAdet!K64","v":7.2959332370551415},{"$f":"[3]cerNAdet!L64","v":7.3173453654115805},{"$f":"[3]cerNAdet!M64","v":7.3405093925909677},{"$f":"[3]cerNAdet!N64","v":7.3901270919968836},{"$f":"[3]cerNAdet!O64","v":7.3756705518691268},{"$f":"[3]cerNAdet!P64","v":7.4225447777183042},{"$f":"[3]cerNAdet!Q64","v":7.4398807338850741}]
[null,"Home Ownership",{"$f":"[3]cerNAdet!C65","v":7.4452421903464359},{"$f":"[3]cerNAdet!D65","v":6.7962922940448127},{"$f":"[3]cerNAdet!E65","v":6.835905464286431},{"$f":"[3]cerNAdet!F65","v":6.9231395853824296},{"$f":"[3]cerNAdet!G65","v":6.863991316019562},{"$f":"[3]cerNAdet!H65","v":6.7857832489373875},{"$f":"[3]cerNAdet!I65","v":6.8584766846049661},{"$f":"[3]cerNAdet!J65","v":6.9570977448879727},{"$f":"[3]cerNAdet!K65","v":7.0923862415824432},{"$f":"[3]cerNAdet!L65","v":7.168696030535604},{"$f":"[3]cerNAdet!M65","v":7.2489504106995311},{"$f":"[3]cerNAdet!N65","v":7.3807996318459779},{"$f":"[3]cerNAdet!O65","v":7.3897091762178455},{"$f":"[3]cerNAdet!P65","v":7.5178814471012911},{"$f":"[3]cerNAdet!Q65","v":7.5893777129932838}]
[null,"Indirect taxes",{"$f":"[3]cerNAdet!C66","v":12.20270028199187},{"$f":"[3]cerNAdet!D66","v":12.510191728408548},{"$f":"[3]cerNAdet!E66","v":12.660549944559035},{"$f":"[3]cerNAdet!F66","v":14.280993252529985},{"$f":"[3]cerNAdet!G66","v":14.068711597748727},{"$f":"[3]cerNAdet!H66","v":14.095694957900285},{"$f":"[3]cerNAdet!I66","v":14.072625861565427},{"$f":"[3]cerNAdet!J66","v":14.009451604000001},{"$f":"[3]cerNAdet!K66","v":15.340223674758615},{"$f":"[3]cerNAdet!L66","v":15.183971446753675},{"$f":"[3]cerNAdet!M66","v":16.411606876488211},{"$f":"[3]cerNAdet!N66","v":15.887884382646305},{"$f":"[3]cerNAdet!O66","v":14.212301781931258},{"$f":"[3]cerNAdet!P66","v":15.844348217572351},{"$f":"[3]cerNAdet!Q66","v":15.447791431064994}]
[null,"Import and fuel taxes (REPMAR)",{"$f":"[3]cerNAdet!C67","v":6.2684825511012248},{"$f":"[3]cerNAdet!D67","v":6.3701625270708906},{"$f":"[3]cerNAdet!E67","v":6.317487839374146},{"$f":"[3]cerNAdet!F67","v":7.5354311891539218},{"$f":"[3]cerNAdet!G67","v":7.586421948714408},{"$f":"[3]cerNAdet!H67","v":7.3240434793528566},{"$f":"[3]cerNAdet!I67","v":7.0616650099913043},{"$f":"[3]cerNAdet!J67","v":6.6805199999999996},{"$f":"[3]cerNAdet!K67","v":7.7611975243813687},{"$f":"[3]cerNAdet!L67","v":7.2027191873382215},{"$f":"[3]cerNAdet!M67","v":7.4328294693727912},{"$f":"[3]cerNAdet!N67","v":7.2745472441089865},{"$f":"[3]cerNAdet!O67","v":6.5770727825441195},{"$f":"[3]cerNAdet!P67","v":7.5073799061767312},{"$f":"[3]cerNAdet!Q67","v":8.4975000703337606}]
[null,"Other Indirect taxes (REPMAR)",{"$f":"[3]cerNAdet!C68","v":2.9479963211377567},{"$f":"[3]cerNAdet!D68","v":2.8883239265880931},{"$f":"[3]cerNAdet!E68","v":2.8077187840080247},{"$f":"[3]cerNAdet!F68","v":3.0998226698694391},{"$f":"[3]cerNAdet!G68","v":2.9764930108827197},{"$f":"[3]cerNAdet!H68","v":3.0043351929482935},{"$f":"[3]cerNAdet!I68","v":3.3335904650443995},{"$f":"[3]cerNAdet!J68","v":3.8585316040000004},{"$f":"[3]cerNAdet!K68","v":3.6455795621308478},{"$f":"[3]cerNAdet!L68","v":4.3326144760969116},{"$f":"[3]cerNAdet!M68","v":5.1966238089630075},{"$f":"[3]cerNAdet!N68","v":4.8147164262689284},{"$f":"[3]cerNAdet!O68","v":4.3914436019141183},{"$f":"[3]cerNAdet!P68","v":5.0524014289158403},{"$f":"[3]cerNAdet!Q68","v":3.9119651890960321}]
[null,"Indirect taxes (Local Government)",{"$f":"[3]cerNAdet!C69","v":2.9862214097528885},{"$f":"[3]cerNAdet!D69","v":3.2517052747495647},{"$f":"[3]cerNAdet!E69","v":3.5353433211768639},{"$f":"[3]cerNAdet!F69","v":3.6457393935066245},{"$f":"[3]cerNAdet!G69","v":3.5057966381516001},{"$f":"[3]cerNAdet!H69","v":3.7673162855991347},{"$f":"[3]cerNAdet!I69","v":3.6773703865297245},{"$f":"[3]cerNAdet!J69","v":3.4704000000000002},{"$f":"[3]cerNAdet!K69","v":3.9334465882464},{"$f":"[3]cerNAdet!L69","v":3.6486377833185428},{"$f":"[3]cerNAdet!M69","v":3.7821535981524108},{"$f":"[3]cerNAdet!N69","v":3.7986207122683924},{"$f":"[3]cerNAdet!O69","v":3.2437853974730202},{"$f":"[3]cerNAdet!P69","v":3.2845668824797798},{"$f":"[3]cerNAdet!Q69","v":3.0383261716352021}]
[null,"Less intermediate FISIM",{"$f":"[3]cerNAdet!C70","v":-2.4041909070641041},{"$f":"[3]cerNAdet!D70","v":-2.4656826043172475},{"$f":"[3]cerNAdet!E70","v":-2.551250317397471},{"$f":"[3]cerNAdet!F70","v":-2.6325521938289067},{"$f":"[3]cerNAdet!G70","v":-2.7211497143570558},{"$f":"[3]cerNAdet!H70","v":-2.7946432149439655},{"$f":"[3]cerNAdet!I70","v":-2.7306066827707043},{"$f":"[3]cerNAdet!J70","v":-2.8393505586826855},{"$f":"[3]cerNAdet!K70","v":-2.8102742249895547},{"$f":"[3]cerNAdet!L70","v":-2.6935448602218988},{"$f":"[3]cerNAdet!M70","v":-3.0090850859373917},{"$f":"[3]cerNAdet!N70","v":-3.3334363718489},{"$f":"[3]cerNAdet!O70","v":-3.5742414000063669},{"$f":"[3]cerNAdet!P70","v":-3.6787898884343471},{"$f":"[3]cerNAdet!Q70","v":-3.5345055121449591}]
[null,"Real GDP at Market Prices (Gross)",{"$f":"[3]cerNAdet!C71","v":120.58411157647632},{"$f":"[3]cerNAdet!D71","v":117.13020921274814},{"$f":"[3]cerNAdet!E71","v":114.34676131905282},{"$f":"[3]cerNAdet!F71","v":121.10958692602699},{"$f":"[3]cerNAdet!G71","v":127.60578868739724},{"$f":"[3]cerNAdet!H71","v":130.93245315685493},{"$f":"[3]cerNAdet!I71","v":131.18413620761845},{"$f":"[3]cerNAdet!J71","v":131.14868074440386},{"$f":"[3]cerNAdet!K71","v":134.58197257363591},{"$f":"[3]cerNAdet!L71","v":137.09475606787475},{"$f":"[3]cerNAdet!M71","v":141.48372400960196},{"$f":"[3]cerNAdet!N71","v":138.82015426721284},{"$f":"[3]cerNAdet!O71","v":136.7710554786064},{"$f":"[3]cerNAdet!P71","v":144.42116770269723},{"$f":"[3]cerNAdet!Q71","v":145.58965491904391}]
[null,"Memo items:"]
[null,"Non-resident pelagic fishing vessels (2)",{"$f":"[3]cerNAdet!C73","v":3.3427130525746436},{"$f":"[3]cerNAdet!D73","v":3.2578922829806189},{"$f":"[3]cerNAdet!E73","v":0},{"$f":"[3]cerNAdet!F73","v":0},{"$f":"[3]cerNAdet!G73","v":13.76795905360799},{"$f":"[3]cerNAdet!H73","v":15.586625328584583},{"$f":"[3]cerNAdet!I73","v":15.095625420924017},{"$f":"[3]cerNAdet!J73","v":18.947588715019485},{"$f":"[3]cerNAdet!K73","v":23.387738447776602},{"$f":"[3]cerNAdet!L73","v":17.790258590667985},{"$f":"[3]cerNAdet!M73","v":24.424304411754097},{"$f":"[3]cerNAdet!N73","v":14.608180413259745},{"$f":"[3]cerNAdet!O73","v":16.972613544677873},{"$f":"[3]cerNAdet!P73","v":19.189678569851495},{"$f":"[3]cerNAdet!Q73","v":29.636042709883032}]
[null,"Labor Income, Kwajalein base & Embassies (3)",{"$f":"[3]cerNAdet!C74","v":19.08415736080428},{"$f":"[3]cerNAdet!D74","v":18.590001416758625},{"$f":"[3]cerNAdet!E74","v":19.401484273988043},{"$f":"[3]cerNAdet!F74","v":20.826863053512419},{"$f":"[3]cerNAdet!G74","v":21.517229624203349},{"$f":"[3]cerNAdet!H74","v":19.547544029334002},{"$f":"[3]cerNAdet!I74","v":24.355807702466393},{"$f":"[3]cerNAdet!J74","v":20.642831907652852},{"$f":"[3]cerNAdet!K74","v":20.288353724942272},{"$f":"[3]cerNAdet!L74","v":20.824575322389794},{"$f":"[3]cerNAdet!M74","v":20.082360998558677},{"$f":"[3]cerNAdet!N74","v":18.464699565485237},{"$f":"[3]cerNAdet!O74","v":17.325614489944307},{"$f":"[3]cerNAdet!P74","v":16.793666129268477},{"$f":"[3]cerNAdet!Q74","v":16.084360870361994}]
["(1)   Includes Value Added for shore based processing and support units directly related to pelagic fishing, and resident purse seiners that commenced in FY2009"]
["(2)   Estimated Value Added for pelagic fishing vessels of RMI incorporated companies that are treated as economic non-residents and outside the RMI GDP"]
["(3)   Income earned by Marshallese workers on Kwajalein military base and in foreign embassies in Majuro - outside the economic territory and GDP of the RMI"]
["Source: EPPSO estimates"]

{"sheet":"EmpInst","index":10,"n_rows":42,"n_cols":17,"rows_kept":42,"cut":false,"hidden":false,"merged":[]}
["Table 3a    Employment by institutional sector, numbers, FY2004-FY2011"]
[null,"(No. of workers, part and full time)","FY1997","FY1998","FY1999","FY2000","FY2001","FY2002","FY2003","FY2004","FY2005","FY2006","FY2007","FY2008","FY2009","FY2010","FY2011"]
[1.1000000000000001,"Private Sector",{"$f":"[4]CER_EmpInst!C3","v":2524.7800000000002},{"$f":"[4]CER_EmpInst!D3","v":2717.66},{"$f":"[4]CER_EmpInst!E3","v":2683.78},{"$f":"[4]CER_EmpInst!F3","v":3191.53},{"$f":"[4]CER_EmpInst!G3","v":3545.03},{"$f":"[4]CER_EmpInst!H3","v":3796.16},{"$f":"[4]CER_EmpInst!I3","v":3846.66},{"$f":"[4]CER_EmpInst!J3","v":4047.41},{"$f":"[4]CER_EmpInst!K3","v":3472.91},{"$f":"[4]CER_EmpInst!L3","v":3712.66},{"$f":"[4]CER_EmpInst!M3","v":3937.53},{"$f":"[4]CER_EmpInst!N3","v":4040.66},{"$f":"[4]CER_EmpInst!O3","v":4041.41},{"$f":"[4]CER_EmpInst!P3","v":4313.03},{"$f":"[4]CER_EmpInst!Q3","v":4204.78}]
[1.2,"Public Enterprise",{"$f":"[4]CER_EmpInst!C4","v":676},{"$f":"[4]CER_EmpInst!D4","v":683.25},{"$f":"[4]CER_EmpInst!E4","v":600},{"$f":"[4]CER_EmpInst!F4","v":587.5},{"$f":"[4]CER_EmpInst!G4","v":583.38},{"$f":"[4]CER_EmpInst!H4","v":633},{"$f":"[4]CER_EmpInst!I4","v":657.63},{"$f":"[4]CER_EmpInst!J4","v":690},{"$f":"[4]CER_EmpInst!K4","v":701.63},{"$f":"[4]CER_EmpInst!L4","v":704.25},{"$f":"[4]CER_EmpInst!M4","v":795.25},{"$f":"[4]CER_EmpInst!N4","v":813.5},{"$f":"[4]CER_EmpInst!O4","v":845.75},{"$f":"[4]CER_EmpInst!P4","v":793.75},{"$f":"[4]CER_EmpInst!Q4","v":839.75}]
[2,"Banks",{"$f":"[4]CER_EmpInst!C5","v":103.25},{"$f":"[4]CER_EmpInst!D5","v":115.25},{"$f":"[4]CER_EmpInst!E5","v":122.75},{"$f":"[4]CER_EmpInst!F5","v":123.5},{"$f":"[4]CER_EmpInst!G5","v":148.5},{"$f":"[4]CER_EmpInst!H5","v":140.5},{"$f":"[4]CER_EmpInst!I5","v":136.75},{"$f":"[4]CER_EmpInst!J5","v":153.25},{"$f":"[4]CER_EmpInst!K5","v":158.25},{"$f":"[4]CER_EmpInst!L5","v":174.5},{"$f":"[4]CER_EmpInst!M5","v":183.75},{"$f":"[4]CER_EmpInst!N5","v":190.75},{"$f":"[4]CER_EmpInst!O5","v":186.25},{"$f":"[4]CER_EmpInst!P5","v":202.25},{"$f":"[4]CER_EmpInst!Q5","v":202.25}]
[3.1,"RMI Government",{"$f":"[4]CER_EmpInst!C6","v":1856.25},{"$f":"[4]CER_EmpInst!D6","v":1691.5},{"$f":"[4]CER_EmpInst!E6","v":1530.5},{"$f":"[4]CER_EmpInst!F6","v":1486.5},{"$f":"[4]CER_EmpInst!G6","v":1525.13},{"$f":"[4]CER_EmpInst!H6","v":1774.63},{"$f":"[4]CER_EmpInst!I6","v":1899.75},{"$f":"[4]CER_EmpInst!J6","v":2002.75},{"$f":"[4]CER_EmpInst!K6","v":2115.88},{"$f":"[4]CER_EmpInst!L6","v":2420.5},{"$f":"[4]CER_EmpInst!M6","v":2407},{"$f":"[4]CER_EmpInst!N6","v":2412},{"$f":"[4]CER_EmpInst!O6","v":2352.63},{"$f":"[4]CER_EmpInst!P6","v":2391.5},{"$f":"[4]CER_EmpInst!Q6","v":2394.25}]
[3.2,"Government Agencies",{"$f":"[4]CER_EmpInst!C7","v":401},{"$f":"[4]CER_EmpInst!D7","v":363.25},{"$f":"[4]CER_EmpInst!E7","v":486.63},{"$f":"[4]CER_EmpInst!F7","v":564.25},{"$f":"[4]CER_EmpInst!G7","v":643.5},{"$f":"[4]CER_EmpInst!H7","v":630.38},{"$f":"[4]CER_EmpInst!I7","v":638.63},{"$f":"[4]CER_EmpInst!J7","v":595.88},{"$f":"[4]CER_EmpInst!K7","v":608.5},{"$f":"[4]CER_EmpInst!L7","v":406.5},{"$f":"[4]CER_EmpInst!M7","v":476.5},{"$f":"[4]CER_EmpInst!N7","v":450},{"$f":"[4]CER_EmpInst!O7","v":491.25},{"$f":"[4]CER_EmpInst!P7","v":539},{"$f":"[4]CER_EmpInst!Q7","v":578.75}]
[3.3,"Local Government",{"$f":"[4]CER_EmpInst!C8","v":892.75},{"$f":"[4]CER_EmpInst!D8","v":974.75},{"$f":"[4]CER_EmpInst!E8","v":1047.75},{"$f":"[4]CER_EmpInst!F8","v":1055.5},{"$f":"[4]CER_EmpInst!G8","v":1114.1300000000001},{"$f":"[4]CER_EmpInst!H8","v":1018.5},{"$f":"[4]CER_EmpInst!I8","v":962.88},{"$f":"[4]CER_EmpInst!J8","v":1054.5},{"$f":"[4]CER_EmpInst!K8","v":1082.75},{"$f":"[4]CER_EmpInst!L8","v":1089.8800000000001},{"$f":"[4]CER_EmpInst!M8","v":1041.1300000000001},{"$f":"[4]CER_EmpInst!N8","v":1007.25},{"$f":"[4]CER_EmpInst!O8","v":959.5},{"$f":"[4]CER_EmpInst!P8","v":907},{"$f":"[4]CER_EmpInst!Q8","v":923.75}]
[4,"NGO's and Non-Profits",{"$f":"[4]CER_EmpInst!C9","v":337.5},{"$f":"[4]CER_EmpInst!D9","v":347.25},{"$f":"[4]CER_EmpInst!E9","v":338.38},{"$f":"[4]CER_EmpInst!F9","v":341.13},{"$f":"[4]CER_EmpInst!G9","v":355.5},{"$f":"[4]CER_EmpInst!H9","v":366.25},{"$f":"[4]CER_EmpInst!I9","v":353.5},{"$f":"[4]CER_EmpInst!J9","v":366.38},{"$f":"[4]CER_EmpInst!K9","v":403.25},{"$f":"[4]CER_EmpInst!L9","v":384},{"$f":"[4]CER_EmpInst!M9","v":387.5},{"$f":"[4]CER_EmpInst!N9","v":366.38},{"$f":"[4]CER_EmpInst!O9","v":357.88},{"$f":"[4]CER_EmpInst!P9","v":361.88},{"$f":"[4]CER_EmpInst!Q9","v":366.25}]
[5,"Households",{"$f":"[4]CER_EmpInst!C10","v":0},{"$f":"[4]CER_EmpInst!D10","v":0},{"$f":"[4]CER_EmpInst!E10","v":0},{"$f":"[4]CER_EmpInst!F10","v":0},{"$f":"[4]CER_EmpInst!G10","v":0},{"$f":"[4]CER_EmpInst!H10","v":0},{"$f":"[4]CER_EmpInst!I10","v":0},{"$f":"[4]CER_EmpInst!J10","v":0},{"$f":"[4]CER_EmpInst!K10","v":0},{"$f":"[4]CER_EmpInst!L10","v":0},{"$f":"[4]CER_EmpInst!M10","v":0},{"$f":"[4]CER_EmpInst!N10","v":0},{"$f":"[4]CER_EmpInst!O10","v":0},{"$f":"[4]CER_EmpInst!P10","v":0},{"$f":"[4]CER_EmpInst!Q10","v":0}]
[6.1,"Foreign Embassies",{"$f":"[4]CER_EmpInst!C11","v":12},{"$f":"[4]CER_EmpInst!D11","v":11.75},{"$f":"[4]CER_EmpInst!E11","v":13.25},{"$f":"[4]CER_EmpInst!F11","v":13.5},{"$f":"[4]CER_EmpInst!G11","v":15.25},{"$f":"[4]CER_EmpInst!H11","v":13},{"$f":"[4]CER_EmpInst!I11","v":13.75},{"$f":"[4]CER_EmpInst!J11","v":14},{"$f":"[4]CER_EmpInst!K11","v":14.5},{"$f":"[4]CER_EmpInst!L11","v":15.5},{"$f":"[4]CER_EmpInst!M11","v":16.5},{"$f":"[4]CER_EmpInst!N11","v":15.75},{"$f":"[4]CER_EmpInst!O11","v":15.75},{"$f":"[4]CER_EmpInst!P11","v":28.75},{"$f":"[4]CER_EmpInst!Q11","v":39.25}]
[6.2,"Kwajalein US Base",{"$f":"[4]CER_EmpInst!C12","v":1137.25},{"$f":"[4]CER_EmpInst!D12","v":1107.75},{"$f":"[4]CER_EmpInst!E12","v":1155.25},{"$f":"[4]CER_EmpInst!F12","v":1240.75},{"$f":"[4]CER_EmpInst!G12","v":1280.75},{"$f":"[4]CER_EmpInst!H12","v":1164.25},{"$f":"[4]CER_EmpInst!I12","v":1452.75},{"$f":"[4]CER_EmpInst!J12","v":1229.25},{"$f":"[4]CER_EmpInst!K12","v":1207.5},{"$f":"[4]CER_EmpInst!L12","v":1238.8800000000001},{"$f":"[4]CER_EmpInst!M12","v":1193.3800000000001},{"$f":"[4]CER_EmpInst!N12","v":1096.75},{"$f":"[4]CER_EmpInst!O12","v":1028.25},{"$f":"[4]CER_EmpInst!P12","v":985},{"$f":"[4]CER_EmpInst!Q12","v":933.25}]
[null,"Total",{"$f":"SUM(C3:C12)","v":7940.7800000000007},{"$f":"SUM(D3:D12)","v":8012.41},7978.2900000000009,8604.16,9211.17,9536.67,9962.2999999999993,10153.42,9765.17,10146.670000000002,10438.540000000001,10393.039999999999,10278.67,10522.159999999998,10482.279999999999]
["Source: Social Security plus EPPSO 'non-reported' estimate. "]
["Table 3b    Employment by institutional sector, wage costs, FY2004-FY2011"]
[null,"(US$000)","FY1997","FY1998","FY1999","FY2000","FY2001","FY2002","FY2003","FY2004","FY2005","FY2006","FY2007","FY2008","FY2009","FY2010","FY2011"]
[1.1000000000000001,"Private Sector",{"$f":"[4]CER_EmpInst!C17","v":14532.6},{"$f":"[4]CER_EmpInst!D17","v":14977.74},{"$f":"[4]CER_EmpInst!E17","v":15499.33},{"$f":"[4]CER_EmpInst!F17","v":16434.939999999999},{"$f":"[4]CER_EmpInst!G17","v":18020.53},{"$f":"[4]CER_EmpInst!H17","v":18329.89},{"$f":"[4]CER_EmpInst!I17","v":16969.16},{"$f":"[4]CER_EmpInst!J17","v":17039.62},{"$f":"[4]CER_EmpInst!K17","v":16414.86},{"$f":"[4]CER_EmpInst!L17","v":17751.29},{"$f":"[4]CER_EmpInst!M17","v":19157.900000000001},{"$f":"[4]CER_EmpInst!N17","v":20025.93},{"$f":"[4]CER_EmpInst!O17","v":20305.509999999998},{"$f":"[4]CER_EmpInst!P17","v":20956.86},{"$f":"[4]CER_EmpInst!Q17","v":21304.71}]
[1.2,"Public Enterprise",{"$f":"[4]CER_EmpInst!C18","v":7009.03},{"$f":"[4]CER_EmpInst!D18","v":7023.41},{"$f":"[4]CER_EmpInst!E18","v":6265.3},{"$f":"[4]CER_EmpInst!F18","v":6393.54},{"$f":"[4]CER_EmpInst!G18","v":6343.24},{"$f":"[4]CER_EmpInst!H18","v":6789.71},{"$f":"[4]CER_EmpInst!I18","v":7540.68},{"$f":"[4]CER_EmpInst!J18","v":7829.83},{"$f":"[4]CER_EmpInst!K18","v":8139.53},{"$f":"[4]CER_EmpInst!L18","v":8207.76},{"$f":"[4]CER_EmpInst!M18","v":8664.7000000000007},{"$f":"[4]CER_EmpInst!N18","v":9430.52},{"$f":"[4]CER_EmpInst!O18","v":9893.1299999999992},{"$f":"[4]CER_EmpInst!P18","v":10370.98},{"$f":"[4]CER_EmpInst!Q18","v":10656.24}]
[2,"Banks",{"$f":"[4]CER_EmpInst!C19","v":1388.18},{"$f":"[4]CER_EmpInst!D19","v":1599.56},{"$f":"[4]CER_EmpInst!E19","v":1569.39},{"$f":"[4]CER_EmpInst!F19","v":1534.16},{"$f":"[4]CER_EmpInst!G19","v":1683.15},{"$f":"[4]CER_EmpInst!H19","v":1951.79},{"$f":"[4]CER_EmpInst!I19","v":2019.49},{"$f":"[4]CER_EmpInst!J19","v":2271.7199999999998},{"$f":"[4]CER_EmpInst!K19","v":2664.88},{"$f":"[4]CER_EmpInst!L19","v":2974.5},{"$f":"[4]CER_EmpInst!M19","v":3217.22},{"$f":"[4]CER_EmpInst!N19","v":3156.31},{"$f":"[4]CER_EmpInst!O19","v":3260.55},{"$f":"[4]CER_EmpInst!P19","v":3443.22},{"$f":"[4]CER_EmpInst!Q19","v":3524.34}]
[3.1,"RMI Government",{"$f":"[4]CER_EmpInst!C20","v":17485.12},{"$f":"[4]CER_EmpInst!D20","v":15854.41},{"$f":"[4]CER_EmpInst!E20","v":15843.06},{"$f":"[4]CER_EmpInst!F20","v":16645.32},{"$f":"[4]CER_EmpInst!G20","v":17937.88},{"$f":"[4]CER_EmpInst!H20","v":20664.990000000002},{"$f":"[4]CER_EmpInst!I20","v":21862.65},{"$f":"[4]CER_EmpInst!J20","v":26478.44},{"$f":"[4]CER_EmpInst!K20","v":27500.12},{"$f":"[4]CER_EmpInst!L20","v":30233.040000000001},{"$f":"[4]CER_EmpInst!M20","v":30143.65},{"$f":"[4]CER_EmpInst!N20","v":30425.45},{"$f":"[4]CER_EmpInst!O20","v":30643.13},{"$f":"[4]CER_EmpInst!P20","v":31046.09},{"$f":"[4]CER_EmpInst!Q20","v":31480.16}]
[3.2,"Government Agencies",{"$f":"[4]CER_EmpInst!C21","v":4048.91},{"$f":"[4]CER_EmpInst!D21","v":4071.07},{"$f":"[4]CER_EmpInst!E21","v":5498.94},{"$f":"[4]CER_EmpInst!F21","v":6749.64},{"$f":"[4]CER_EmpInst!G21","v":7075.2},{"$f":"[4]CER_EmpInst!H21","v":7530.8},{"$f":"[4]CER_EmpInst!I21","v":8055.14},{"$f":"[4]CER_EmpInst!J21","v":7666.93},{"$f":"[4]CER_EmpInst!K21","v":8016.79},{"$f":"[4]CER_EmpInst!L21","v":6392.94},{"$f":"[4]CER_EmpInst!M21","v":6786.3},{"$f":"[4]CER_EmpInst!N21","v":6778.33},{"$f":"[4]CER_EmpInst!O21","v":7401.74},{"$f":"[4]CER_EmpInst!P21","v":8066.73},{"$f":"[4]CER_EmpInst!Q21","v":8722.6}]
[3.3,"Local Government",{"$f":"[4]CER_EmpInst!C22","v":6485.67},{"$f":"[4]CER_EmpInst!D22","v":6671.82},{"$f":"[4]CER_EmpInst!E22","v":6952.05},{"$f":"[4]CER_EmpInst!F22","v":7243.95},{"$f":"[4]CER_EmpInst!G22","v":7628.44},{"$f":"[4]CER_EmpInst!H22","v":7435.52},{"$f":"[4]CER_EmpInst!I22","v":7021.41},{"$f":"[4]CER_EmpInst!J22","v":7523.12},{"$f":"[4]CER_EmpInst!K22","v":7915.58},{"$f":"[4]CER_EmpInst!L22","v":8220.7000000000007},{"$f":"[4]CER_EmpInst!M22","v":8256.82},{"$f":"[4]CER_EmpInst!N22","v":8252.44},{"$f":"[4]CER_EmpInst!O22","v":7392.11},{"$f":"[4]CER_EmpInst!P22","v":6864.21},{"$f":"[4]CER_EmpInst!Q22","v":7165.86}]
[4,"NGO's and Non-Profits",{"$f":"[4]CER_EmpInst!C23","v":1584.55},{"$f":"[4]CER_EmpInst!D23","v":1568.34},{"$f":"[4]CER_EmpInst!E23","v":1571.94},{"$f":"[4]CER_EmpInst!F23","v":1575.16},{"$f":"[4]CER_EmpInst!G23","v":1715.06},{"$f":"[4]CER_EmpInst!H23","v":1761.31},{"$f":"[4]CER_EmpInst!I23","v":1774.01},{"$f":"[4]CER_EmpInst!J23","v":1772.18},{"$f":"[4]CER_EmpInst!K23","v":2031.44},{"$f":"[4]CER_EmpInst!L23","v":1913.55},{"$f":"[4]CER_EmpInst!M23","v":1956.83},{"$f":"[4]CER_EmpInst!N23","v":1909.7},{"$f":"[4]CER_EmpInst!O23","v":1955.7},{"$f":"[4]CER_EmpInst!P23","v":2137.52},{"$f":"[4]CER_EmpInst!Q23","v":2215.29}]
[5,"Households",{"$f":"[4]CER_EmpInst!C24","v":0},{"$f":"[4]CER_EmpInst!D24","v":0},{"$f":"[4]CER_EmpInst!E24","v":0},{"$f":"[4]CER_EmpInst!F24","v":0},{"$f":"[4]CER_EmpInst!G24","v":0},{"$f":"[4]CER_EmpInst!H24","v":0},{"$f":"[4]CER_EmpInst!I24","v":0},{"$f":"[4]CER_EmpInst!J24","v":0},{"$f":"[4]CER_EmpInst!K24","v":0},{"$f":"[4]CER_EmpInst!L24","v":0},{"$f":"[4]CER_EmpInst!M24","v":0},{"$f":"[4]CER_EmpInst!N24","v":0},{"$f":"[4]CER_EmpInst!O24","v":0},{"$f":"[4]CER_EmpInst!P24","v":0},{"$f":"[4]CER_EmpInst!Q24","v":0}]
[6.1,"Foreign Embassies",{"$f":"[4]CER_EmpInst!C25","v":105.64},{"$f":"[4]CER_EmpInst!D25","v":112.63},{"$f":"[4]CER_EmpInst!E25","v":139.66},{"$f":"[4]CER_EmpInst!F25","v":149.93},{"$f":"[4]CER_EmpInst!G25","v":164.59},{"$f":"[4]CER_EmpInst!H25","v":143.13},{"$f":"[4]CER_EmpInst!I25","v":147.30000000000001},{"$f":"[4]CER_EmpInst!J25","v":174.84},{"$f":"[4]CER_EmpInst!K25","v":181.58},{"$f":"[4]CER_EmpInst!L25","v":199.33},{"$f":"[4]CER_EmpInst!M25","v":220.97},{"$f":"[4]CER_EmpInst!N25","v":207.67},{"$f":"[4]CER_EmpInst!O25","v":199.04},{"$f":"[4]CER_EmpInst!P25","v":309.79000000000002},{"$f":"[4]CER_EmpInst!Q25","v":408.66}]
[6.2,"Kwajalein US Base",{"$f":"[4]CER_EmpInst!C26","v":13181.08},{"$f":"[4]CER_EmpInst!D26","v":13323.21},{"$f":"[4]CER_EmpInst!E26","v":14603.22},{"$f":"[4]CER_EmpInst!F26","v":16877.12},{"$f":"[4]CER_EmpInst!G26","v":17601.04},{"$f":"[4]CER_EmpInst!H26","v":15908.59},{"$f":"[4]CER_EmpInst!I26","v":17688.97},{"$f":"[4]CER_EmpInst!J26","v":17892.16},{"$f":"[4]CER_EmpInst!K26","v":18413.18},{"$f":"[4]CER_EmpInst!L26","v":20122.95},{"$f":"[4]CER_EmpInst!M26","v":19230.439999999999},{"$f":"[4]CER_EmpInst!N26","v":17064.38},{"$f":"[4]CER_EmpInst!O26","v":17291.68},{"$f":"[4]CER_EmpInst!P26","v":16304.54},{"$f":"[4]CER_EmpInst!Q26","v":16088.48}]
[null,"Total",{"$f":"SUM(C17:C26)","v":65820.78},{"$f":"SUM(D17:D26)","v":65202.189999999995},67942.890000000014,73603.759999999995,78169.13,80515.73000000001,83078.81,88648.84,91277.959999999992,96016.06,97634.83,97250.73000000001,98342.59,99499.94,101566.34]
["Source: Social Security plus EPPSO 'non-reported' estimate.  Wage Costs = Gross wages and salaries as per Social Security regulations. "]
["Table 3c    Employment by institutional sector, average wage and salary rates, FY2004-FY2011"]
[null,null,"FY1997","FY1998","FY1999","FY2000","FY2001","FY2002","FY2003","FY2004","FY2005","FY2006","FY2007","FY2008","FY2009","FY2010","FY2011"]
[1.1000000000000001,"Private Sector",{"$f":"[4]CER_EmpInst!C31","v":5755.9866602238608},{"$f":"[4]CER_EmpInst!D31","v":5511.2633662783428},{"$f":"[4]CER_EmpInst!E31","v":5775.1864906959581},{"$f":"[4]CER_EmpInst!F31","v":5149.5489624098782},{"$f":"[4]CER_EmpInst!G31","v":5083.3222850018183},{"$f":"[4]CER_EmpInst!H31","v":4828.5346244626153},{"$f":"[4]CER_EmpInst!I31","v":4411.4010596205544},{"$f":"[4]CER_EmpInst!J31","v":4210.0059050108594},{"$f":"[4]CER_EmpInst!K31","v":4726.5434462741623},{"$f":"[4]CER_EmpInst!L31","v":4781.2861937263315},{"$f":"[4]CER_EmpInst!M31","v":4865.4613425167554},{"$f":"[4]CER_EmpInst!N31","v":4956.1037058302354},{"$f":"[4]CER_EmpInst!O31","v":5024.3627842757851},{"$f":"[4]CER_EmpInst!P31","v":4858.9645794256012},{"$f":"[4]CER_EmpInst!Q31","v":5066.7835178059258}]
[1.2,"Public Enterprise",{"$f":"[4]CER_EmpInst!C32","v":10368.387573964497},{"$f":"[4]CER_EmpInst!D32","v":10279.414562751555},{"$f":"[4]CER_EmpInst!E32","v":10442.166666666668},{"$f":"[4]CER_EmpInst!F32","v":10882.621276595744},{"$f":"[4]CER_EmpInst!G32","v":10873.255853817409},{"$f":"[4]CER_EmpInst!H32","v":10726.240126382307},{"$f":"[4]CER_EmpInst!I32","v":11466.447698553899},{"$f":"[4]CER_EmpInst!J32","v":11347.579710144928},{"$f":"[4]CER_EmpInst!K32","v":11600.886507133389},{"$f":"[4]CER_EmpInst!L32","v":11654.6112886049},{"$f":"[4]CER_EmpInst!M32","v":10895.567431625275},{"$f":"[4]CER_EmpInst!N32","v":11592.526121696375},{"$f":"[4]CER_EmpInst!O32","v":11697.463789535914},{"$f":"[4]CER_EmpInst!P32","v":13065.80157480315},{"$f":"[4]CER_EmpInst!Q32","v":12689.776719261685}]
[2,"Banks",{"$f":"[4]CER_EmpInst!C33","v":13444.842615012107},{"$f":"[4]CER_EmpInst!D33","v":13879.045553145335},{"$f":"[4]CER_EmpInst!E33","v":12785.254582484726},{"$f":"[4]CER_EmpInst!F33","v":12422.348178137652},{"$f":"[4]CER_EmpInst!G33","v":11334.343434343435},{"$f":"[4]CER_EmpInst!H33","v":13891.743772241993},{"$f":"[4]CER_EmpInst!I33","v":14767.751371115173},{"$f":"[4]CER_EmpInst!J33","v":14823.621533442087},{"$f":"[4]CER_EmpInst!K33","v":16839.684044233811},{"$f":"[4]CER_EmpInst!L33","v":17045.845272206305},{"$f":"[4]CER_EmpInst!M33","v":17508.680272108842},{"$f":"[4]CER_EmpInst!N33","v":16546.841415465271},{"$f":"[4]CER_EmpInst!O33","v":17506.308724832215},{"$f":"[4]CER_EmpInst!P33","v":17024.573547589614},{"$f":"[4]CER_EmpInst!Q33","v":17425.66131025958}]
[3.1,"RMI Government",{"$f":"[4]CER_EmpInst!C34","v":9419.593265993266},{"$f":"[4]CER_EmpInst!D34","v":9372.9884717706191},{"$f":"[4]CER_EmpInst!E34","v":10351.558314276379},{"$f":"[4]CER_EmpInst!F34","v":11197.65893037336},{"$f":"[4]CER_EmpInst!G34","v":11761.541639073392},{"$f":"[4]CER_EmpInst!H34","v":11644.675228075712},{"$f":"[4]CER_EmpInst!I34","v":11508.172127911568},{"$f":"[4]CER_EmpInst!J34","v":13221.041068530771},{"$f":"[4]CER_EmpInst!K34","v":12997.013063122671},{"$f":"[4]CER_EmpInst!L34","v":12490.411072092544},{"$f":"[4]CER_EmpInst!M34","v":12523.327793934359},{"$f":"[4]CER_EmpInst!N34","v":12614.199834162522},{"$f":"[4]CER_EmpInst!O34","v":13025.05281323455},{"$f":"[4]CER_EmpInst!P34","v":12981.848212418983},{"$f":"[4]CER_EmpInst!Q34","v":13148.234311370994}]
[3.2,"Government Agencies",{"$f":"[4]CER_EmpInst!C35","v":10097.032418952618},{"$f":"[4]CER_EmpInst!D35","v":11207.350309704061},{"$f":"[4]CER_EmpInst!E35","v":11300.043153936254},{"$f":"[4]CER_EmpInst!F35","v":11962.144439521489},{"$f":"[4]CER_EmpInst!G35","v":10994.871794871795},{"$f":"[4]CER_EmpInst!H35","v":11946.44500142771},{"$f":"[4]CER_EmpInst!I35","v":12613.156287678312},{"$f":"[4]CER_EmpInst!J35","v":12866.56709404578},{"$f":"[4]CER_EmpInst!K35","v":13174.675431388661},{"$f":"[4]CER_EmpInst!L35","v":15726.789667896679},{"$f":"[4]CER_EmpInst!M35","v":14241.972717733473},{"$f":"[4]CER_EmpInst!N35","v":15062.955555555556},{"$f":"[4]CER_EmpInst!O35","v":15067.155216284986},{"$f":"[4]CER_EmpInst!P35","v":14966.103896103896},{"$f":"[4]CER_EmpInst!Q35","v":15071.447084233261}]
[3.3,"Local Government",{"$f":"[4]CER_EmpInst!C36","v":7264.8221786614395},{"$f":"[4]CER_EmpInst!D36","v":6844.6473454731977},{"$f":"[4]CER_EmpInst!E36","v":6635.2183249821046},{"$f":"[4]CER_EmpInst!F36","v":6863.0506868782568},{"$f":"[4]CER_EmpInst!G36","v":6846.9927207776454},{"$f":"[4]CER_EmpInst!H36","v":7300.4614629356902},{"$f":"[4]CER_EmpInst!I36","v":7292.0924725822524},{"$f":"[4]CER_EmpInst!J36","v":7134.3006164058797},{"$f":"[4]CER_EmpInst!K36","v":7310.6257215423693},{"$f":"[4]CER_EmpInst!L36","v":7542.7570007707263},{"$f":"[4]CER_EmpInst!M36","v":7930.6330621536199},{"$f":"[4]CER_EmpInst!N36","v":8193.0404566890047},{"$f":"[4]CER_EmpInst!O36","v":7704.1271495570609},{"$f":"[4]CER_EmpInst!P36","v":7568.0374862183025},{"$f":"[4]CER_EmpInst!Q36","v":7757.3585926928281}]
[4,"NGO's and Non-Profits",{"$f":"[4]CER_EmpInst!C37","v":4694.9629629629626},{"$f":"[4]CER_EmpInst!D37","v":4516.4578833693304},{"$f":"[4]CER_EmpInst!E37","v":4645.4873219457413},{"$f":"[4]CER_EmpInst!F37","v":4617.477208102483},{"$f":"[4]CER_EmpInst!G37","v":4824.3600562587899},{"$f":"[4]CER_EmpInst!H37","v":4809.0375426621158},{"$f":"[4]CER_EmpInst!I37","v":5018.4158415841575},{"$f":"[4]CER_EmpInst!J37","v":4836.9998362356027},{"$f":"[4]CER_EmpInst!K37","v":5037.6689398636081},{"$f":"[4]CER_EmpInst!L37","v":4983.203125},{"$f":"[4]CER_EmpInst!M37","v":5049.883870967742},{"$f":"[4]CER_EmpInst!N37","v":5212.3478355805446},{"$f":"[4]CER_EmpInst!O37","v":5464.6808986252381},{"$f":"[4]CER_EmpInst!P37","v":5906.7094064330713},{"$f":"[4]CER_EmpInst!Q37","v":6048.5733788395901}]
[5,"Households",{"$f":"[4]CER_EmpInst!C38","v":""},{"$f":"[4]CER_EmpInst!D38","v":""},{"$f":"[4]CER_EmpInst!E38","v":""},{"$f":"[4]CER_EmpInst!F38","v":""},{"$f":"[4]CER_EmpInst!G38","v":""},{"$f":"[4]CER_EmpInst!H38","v":""},{"$f":"[4]CER_EmpInst!I38","v":""},{"$f":"[4]CER_EmpInst!J38","v":""},{"$f":"[4]CER_EmpInst!K38","v":""},{"$f":"[4]CER_EmpInst!L38","v":""},{"$f":"[4]CER_EmpInst!M38","v":""},{"$f":"[4]CER_EmpInst!N38","v":""},{"$f":"[4]CER_EmpInst!O38","v":""},{"$f":"[4]CER_EmpInst!P38","v":""},{"$f":"[4]CER_EmpInst!Q38","v":""}]
[6.1,"Foreign Embassies",{"$f":"[4]CER_EmpInst!C39","v":8803.3333333333321},{"$f":"[4]CER_EmpInst!D39","v":9585.531914893616},{"$f":"[4]CER_EmpInst!E39","v":10540.377358490567},{"$f":"[4]CER_EmpInst!F39","v":11105.925925925927},{"$f":"[4]CER_EmpInst!G39","v":10792.786885245901},{"$f":"[4]CER_EmpInst!H39","v":11010},{"$f":"[4]CER_EmpInst!I39","v":10712.727272727272},{"$f":"[4]CER_EmpInst!J39","v":12488.571428571429},{"$f":"[4]CER_EmpInst!K39","v":12522.758620689656},{"$f":"[4]CER_EmpInst!L39","v":12860.000000000002},{"$f":"[4]CER_EmpInst!M39","v":13392.121212121212},{"$f":"[4]CER_EmpInst!N39","v":13185.396825396825},{"$f":"[4]CER_EmpInst!O39","v":12637.460317460316},{"$f":"[4]CER_EmpInst!P39","v":10775.304347826088},{"$f":"[4]CER_EmpInst!Q39","v":10411.71974522293}]
[6.2,"Kwajalein US Base",{"$f":"[4]CER_EmpInst!C40","v":11590.309958232579},{"$f":"[4]CER_EmpInst!D40","v":12027.271496276235},{"$f":"[4]CER_EmpInst!E40","v":12640.74442761307},{"$f":"[4]CER_EmpInst!F40","v":13602.353415273021},{"$f":"[4]CER_EmpInst!G40","v":13742.760101503027},{"$f":"[4]CER_EmpInst!H40","v":13664.238780330685},{"$f":"[4]CER_EmpInst!I40","v":12176.196868008949},{"$f":"[4]CER_EmpInst!J40","v":14555.346756152127},{"$f":"[4]CER_EmpInst!K40","v":15249.010351966874},{"$f":"[4]CER_EmpInst!L40","v":16242.856450987991},{"$f":"[4]CER_EmpInst!M40","v":16114.263688012197},{"$f":"[4]CER_EmpInst!N40","v":15559.042625940279},{"$f":"[4]CER_EmpInst!O40","v":16816.610746413811},{"$f":"[4]CER_EmpInst!P40","v":16552.832487309646},{"$f":"[4]CER_EmpInst!Q40","v":17239.196356817574}]
[null,"Total",{"$f":"[4]CER_EmpInst!C41","v":8288.9565004949127},{"$f":"[4]CER_EmpInst!D41","v":8137.6502200960758},{"$f":"[4]CER_EmpInst!E41","v":8515.9714675701198},{"$f":"[4]CER_EmpInst!F41","v":8554.4387831002659},{"$f":"[4]CER_EmpInst!G41","v":8486.3410402804438},{"$f":"[4]CER_EmpInst!H41","v":8442.7509812125209},{"$f":"[4]CER_EmpInst!I41","v":8339.3202372945998},{"$f":"[4]CER_EmpInst!J41","v":8730.9340104122548},{"$f":"[4]CER_EmpInst!K41","v":9347.2986133369923},{"$f":"[4]CER_EmpInst!L41","v":9462.8148939504263},{"$f":"[4]CER_EmpInst!M41","v":9353.3032397250954},{"$f":"[4]CER_EmpInst!N41","v":9357.2939197770829},{"$f":"[4]CER_EmpInst!O41","v":9567.6376418349846},{"$f":"[4]CER_EmpInst!P41","v":9456.2276186638501},{"$f":"[4]CER_EmpInst!Q41","v":9689.3366710295868}]
["Source: Social Security plus EPPSO 'non-reported' estimate. "]

{"sheet":"EmpInd","index":11,"n_rows":68,"n_cols":17,"rows_kept":68,"cut":false,"hidden":false,"merged":[[20,0,20,16],[43,0,43,16],[66,0,66,16]]}
["Table 3d    Employment by industry, numbers, FY2004-FY2011"]
[null,"(No. of workers, part and full time)","FY1997","FY1998","FY1999","FY2000","FY2001","FY2002","FY2003","FY2004","FY2005","FY2006","FY2007","FY2008","FY2009","FY2010","FY2011"]
["A","Agriculture, Hunting and Forestry",{"$f":"[4]CER_EmpInd!C3","v":10},{"$f":"[4]CER_EmpInd!D3","v":8.5},{"$f":"[4]CER_EmpInd!E3","v":8.25},{"$f":"[4]CER_EmpInd!F3","v":6.5},{"$f":"[4]CER_EmpInd!G3","v":1},{"$f":"[4]CER_EmpInd!H3","v":0},{"$f":"[4]CER_EmpInd!I3","v":20.5},{"$f":"[4]CER_EmpInd!J3","v":24},{"$f":"[4]CER_EmpInd!K3","v":23.75},{"$f":"[4]CER_EmpInd!L3","v":27},{"$f":"[4]CER_EmpInd!M3","v":31},{"$f":"[4]CER_EmpInd!N3","v":27.5},{"$f":"[4]CER_EmpInd!O3","v":24.75},{"$f":"[4]CER_EmpInd!P3","v":23},{"$f":"[4]CER_EmpInd!Q3","v":18.75}]
["B","Fisheries (1)",{"$f":"[4]CER_EmpInd!C4","v":82.5},{"$f":"[4]CER_EmpInd!D4","v":83.5},{"$f":"[4]CER_EmpInd!E4","v":47.5},{"$f":"[4]CER_EmpInd!F4","v":546.13},{"$f":"[4]CER_EmpInd!G4","v":617.75},{"$f":"[4]CER_EmpInd!H4","v":734.75},{"$f":"[4]CER_EmpInd!I4","v":901.75},{"$f":"[4]CER_EmpInd!J4","v":1002},{"$f":"[4]CER_EmpInd!K4","v":280},{"$f":"[4]CER_EmpInd!L4","v":343.25},{"$f":"[4]CER_EmpInd!M4","v":324.75},{"$f":"[4]CER_EmpInd!N4","v":477.13},{"$f":"[4]CER_EmpInd!O4","v":734},{"$f":"[4]CER_EmpInd!P4","v":1150.75},{"$f":"[4]CER_EmpInd!Q4","v":1146.5}]
["C","Mining and Quarrying",{"$f":"[4]CER_EmpInd!C5","v":0},{"$f":"[4]CER_EmpInd!D5","v":0},{"$f":"[4]CER_EmpInd!E5","v":0},{"$f":"[4]CER_EmpInd!F5","v":0},{"$f":"[4]CER_EmpInd!G5","v":0},{"$f":"[4]CER_EmpInd!H5","v":0},{"$f":"[4]CER_EmpInd!I5","v":0},{"$f":"[4]CER_EmpInd!J5","v":0},{"$f":"[4]CER_EmpInd!K5","v":0},{"$f":"[4]CER_EmpInd!L5","v":0},{"$f":"[4]CER_EmpInd!M5","v":0},{"$f":"[4]CER_EmpInd!N5","v":0},{"$f":"[4]CER_EmpInd!O5","v":0},{"$f":"[4]CER_EmpInd!P5","v":0},{"$f":"[4]CER_EmpInd!Q5","v":0}]
["D","Manufacturing",{"$f":"[4]CER_EmpInd!C6","v":107.5},{"$f":"[4]CER_EmpInd!D6","v":117},{"$f":"[4]CER_EmpInd!E6","v":92},{"$f":"[4]CER_EmpInd!F6","v":79},{"$f":"[4]CER_EmpInd!G6","v":72},{"$f":"[4]CER_EmpInd!H6","v":78.25},{"$f":"[4]CER_EmpInd!I6","v":74.75},{"$f":"[4]CER_EmpInd!J6","v":71},{"$f":"[4]CER_EmpInd!K6","v":94.25},{"$f":"[4]CER_EmpInd!L6","v":96.38},{"$f":"[4]CER_EmpInd!M6","v":106.38},{"$f":"[4]CER_EmpInd!N6","v":96.38},{"$f":"[4]CER_EmpInd!O6","v":77.5},{"$f":"[4]CER_EmpInd!P6","v":75},{"$f":"[4]CER_EmpInd!Q6","v":98.25}]
["E","Electricity, Gas and Water Supply",{"$f":"[4]CER_EmpInd!C7","v":230.25},{"$f":"[4]CER_EmpInd!D7","v":232.75},{"$f":"[4]CER_EmpInd!E7","v":220},{"$f":"[4]CER_EmpInd!F7","v":218.25},{"$f":"[4]CER_EmpInd!G7","v":230.75},{"$f":"[4]CER_EmpInd!H7","v":250.5},{"$f":"[4]CER_EmpInd!I7","v":261.13},{"$f":"[4]CER_EmpInd!J7","v":277.5},{"$f":"[4]CER_EmpInd!K7","v":275.88},{"$f":"[4]CER_EmpInd!L7","v":269.75},{"$f":"[4]CER_EmpInd!M7","v":306.25},{"$f":"[4]CER_EmpInd!N7","v":304},{"$f":"[4]CER_EmpInd!O7","v":345},{"$f":"[4]CER_EmpInd!P7","v":319.25},{"$f":"[4]CER_EmpInd!Q7","v":312.75}]
["F","Construction",{"$f":"[4]CER_EmpInd!C8","v":404.75},{"$f":"[4]CER_EmpInd!D8","v":610.38},{"$f":"[4]CER_EmpInd!E8","v":613},{"$f":"[4]CER_EmpInd!F8","v":423.75},{"$f":"[4]CER_EmpInd!G8","v":488.75},{"$f":"[4]CER_EmpInd!H8","v":636},{"$f":"[4]CER_EmpInd!I8","v":562.75},{"$f":"[4]CER_EmpInd!J8","v":522.38},{"$f":"[4]CER_EmpInd!K8","v":557.25},{"$f":"[4]CER_EmpInd!L8","v":729},{"$f":"[4]CER_EmpInd!M8","v":856.5},{"$f":"[4]CER_EmpInd!N8","v":819.75},{"$f":"[4]CER_EmpInd!O8","v":677.25},{"$f":"[4]CER_EmpInd!P8","v":583.75},{"$f":"[4]CER_EmpInd!Q8","v":514.5}]
["G","Wholesale and Retail Trade",{"$f":"[4]CER_EmpInd!C9","v":1391.64},{"$f":"[4]CER_EmpInd!D9","v":1369.14},{"$f":"[4]CER_EmpInd!E9","v":1390.64},{"$f":"[4]CER_EmpInd!F9","v":1552.27},{"$f":"[4]CER_EmpInd!G9","v":1746.52},{"$f":"[4]CER_EmpInd!H9","v":1729.52},{"$f":"[4]CER_EmpInd!I9","v":1635.89},{"$f":"[4]CER_EmpInd!J9","v":1748.39},{"$f":"[4]CER_EmpInd!K9","v":1814.27},{"$f":"[4]CER_EmpInd!L9","v":1826.14},{"$f":"[4]CER_EmpInd!M9","v":1821.89},{"$f":"[4]CER_EmpInd!N9","v":1829.52},{"$f":"[4]CER_EmpInd!O9","v":1708.64},{"$f":"[4]CER_EmpInd!P9","v":1726.14},{"$f":"[4]CER_EmpInd!Q9","v":1713.27}]
["H","Hotels and Restaurants",{"$f":"[4]CER_EmpInd!C10","v":246.13},{"$f":"[4]CER_EmpInd!D10","v":241.25},{"$f":"[4]CER_EmpInd!E10","v":232.25},{"$f":"[4]CER_EmpInd!F10","v":256.63},{"$f":"[4]CER_EmpInd!G10","v":266.38},{"$f":"[4]CER_EmpInd!H10","v":266.63},{"$f":"[4]CER_EmpInd!I10","v":308.75},{"$f":"[4]CER_EmpInd!J10","v":269.5},{"$f":"[4]CER_EmpInd!K10","v":238.38},{"$f":"[4]CER_EmpInd!L10","v":263.38},{"$f":"[4]CER_EmpInd!M10","v":295.88},{"$f":"[4]CER_EmpInd!N10","v":283.5},{"$f":"[4]CER_EmpInd!O10","v":260.13},{"$f":"[4]CER_EmpInd!P10","v":250},{"$f":"[4]CER_EmpInd!Q10","v":241.25}]
["I","Transport, Storage and Communications",{"$f":"[4]CER_EmpInd!C11","v":416.38},{"$f":"[4]CER_EmpInd!D11","v":394.01},{"$f":"[4]CER_EmpInd!E11","v":392.76},{"$f":"[4]CER_EmpInd!F11","v":409.26},{"$f":"[4]CER_EmpInd!G11","v":411.13},{"$f":"[4]CER_EmpInd!H11","v":451.26},{"$f":"[4]CER_EmpInd!I11","v":475.26},{"$f":"[4]CER_EmpInd!J11","v":541.01},{"$f":"[4]CER_EmpInd!K11","v":561.76},{"$f":"[4]CER_EmpInd!L11","v":577.01},{"$f":"[4]CER_EmpInd!M11","v":707.51},{"$f":"[4]CER_EmpInd!N11","v":671.38},{"$f":"[4]CER_EmpInd!O11","v":706.63},{"$f":"[4]CER_EmpInd!P11","v":645.01},{"$f":"[4]CER_EmpInd!Q11","v":650.38}]
["J","Financial Intermediation",{"$f":"[4]CER_EmpInd!C12","v":120.5},{"$f":"[4]CER_EmpInd!D12","v":132.75},{"$f":"[4]CER_EmpInd!E12","v":138.75},{"$f":"[4]CER_EmpInd!F12","v":140.13},{"$f":"[4]CER_EmpInd!G12","v":167.75},{"$f":"[4]CER_EmpInd!H12","v":158.75},{"$f":"[4]CER_EmpInd!I12","v":152},{"$f":"[4]CER_EmpInd!J12","v":169.25},{"$f":"[4]CER_EmpInd!K12","v":174},{"$f":"[4]CER_EmpInd!L12","v":193},{"$f":"[4]CER_EmpInd!M12","v":208},{"$f":"[4]CER_EmpInd!N12","v":210.75},{"$f":"[4]CER_EmpInd!O12","v":207.5},{"$f":"[4]CER_EmpInd!P12","v":221.75},{"$f":"[4]CER_EmpInd!Q12","v":222}]
["K","Real Estate, Renting and Businesss Activities",{"$f":"[4]CER_EmpInd!C13","v":217.38},{"$f":"[4]CER_EmpInd!D13","v":229.88},{"$f":"[4]CER_EmpInd!E13","v":193.88},{"$f":"[4]CER_EmpInd!F13","v":212},{"$f":"[4]CER_EmpInd!G13","v":223.63},{"$f":"[4]CER_EmpInd!H13","v":221.13},{"$f":"[4]CER_EmpInd!I13","v":220.25},{"$f":"[4]CER_EmpInd!J13","v":231.38},{"$f":"[4]CER_EmpInd!K13","v":249},{"$f":"[4]CER_EmpInd!L13","v":210.63},{"$f":"[4]CER_EmpInd!M13","v":219.63},{"$f":"[4]CER_EmpInd!N13","v":224.25},{"$f":"[4]CER_EmpInd!O13","v":241.25},{"$f":"[4]CER_EmpInd!P13","v":230.88},{"$f":"[4]CER_EmpInd!Q13","v":231.25}]
["L","Public Administration",{"$f":"[4]CER_EmpInd!C14","v":2905.75},{"$f":"[4]CER_EmpInd!D14","v":2829.63},{"$f":"[4]CER_EmpInd!E14","v":2708},{"$f":"[4]CER_EmpInd!F14","v":2672.5},{"$f":"[4]CER_EmpInd!G14","v":2768.75},{"$f":"[4]CER_EmpInd!H14","v":2919.38},{"$f":"[4]CER_EmpInd!I14","v":2985.63},{"$f":"[4]CER_EmpInd!J14","v":3150},{"$f":"[4]CER_EmpInd!K14","v":3325.38},{"$f":"[4]CER_EmpInd!L14","v":3639.63},{"$f":"[4]CER_EmpInd!M14","v":3574.63},{"$f":"[4]CER_EmpInd!N14","v":3550.75},{"$f":"[4]CER_EmpInd!O14","v":3438.88},{"$f":"[4]CER_EmpInd!P14","v":3423.75},{"$f":"[4]CER_EmpInd!Q14","v":3446.5}]
["M","Education (2)",{"$f":"[4]CER_EmpInd!C15","v":456.13},{"$f":"[4]CER_EmpInd!D15","v":401.38},{"$f":"[4]CER_EmpInd!E15","v":519.88},{"$f":"[4]CER_EmpInd!F15","v":561.25},{"$f":"[4]CER_EmpInd!G15","v":627.25},{"$f":"[4]CER_EmpInd!H15","v":623.75},{"$f":"[4]CER_EmpInd!I15","v":605.5},{"$f":"[4]CER_EmpInd!J15","v":589.88},{"$f":"[4]CER_EmpInd!K15","v":623.75},{"$f":"[4]CER_EmpInd!L15","v":383},{"$f":"[4]CER_EmpInd!M15","v":435.25},{"$f":"[4]CER_EmpInd!N15","v":399.38},{"$f":"[4]CER_EmpInd!O15","v":416.38},{"$f":"[4]CER_EmpInd!P15","v":456.88},{"$f":"[4]CER_EmpInd!Q15","v":494.13}]
["N","Health and Social Work (2)",{"$f":"[4]CER_EmpInd!C16","v":153.38},{"$f":"[4]CER_EmpInd!D16","v":176.5},{"$f":"[4]CER_EmpInd!E16","v":177.88},{"$f":"[4]CER_EmpInd!F16","v":180.88},{"$f":"[4]CER_EmpInd!G16","v":194.5},{"$f":"[4]CER_EmpInd!H16","v":203.25},{"$f":"[4]CER_EmpInd!I16","v":204.75},{"$f":"[4]CER_EmpInd!J16","v":225.13},{"$f":"[4]CER_EmpInd!K16","v":238.75},{"$f":"[4]CER_EmpInd!L16","v":246},{"$f":"[4]CER_EmpInd!M16","v":247.5},{"$f":"[4]CER_EmpInd!N16","v":250.5},{"$f":"[4]CER_EmpInd!O16","v":248.75},{"$f":"[4]CER_EmpInd!P16","v":245.75},{"$f":"[4]CER_EmpInd!Q16","v":235.25}]
["O","Community, Social & Personal Service Activities",{"$f":"[4]CER_EmpInd!C17","v":44.25},{"$f":"[4]CER_EmpInd!D17","v":62},{"$f":"[4]CER_EmpInd!E17","v":70.5},{"$f":"[4]CER_EmpInd!F17","v":86.63},{"$f":"[4]CER_EmpInd!G17","v":93.5},{"$f":"[4]CER_EmpInd!H17","v":80.25},{"$f":"[4]CER_EmpInd!I17","v":78.13},{"$f":"[4]CER_EmpInd!J17","v":80.5},{"$f":"[4]CER_EmpInd!K17","v":81.75},{"$f":"[4]CER_EmpInd!L17","v":84.13},{"$f":"[4]CER_EmpInd!M17","v":86.5},{"$f":"[4]CER_EmpInd!N17","v":120.25},{"$f":"[4]CER_EmpInd!O17","v":129},{"$f":"[4]CER_EmpInd!P17","v":145},{"$f":"[4]CER_EmpInd!Q17","v":171.25}]
["P","Private Households With Employed Persons",{"$f":"[4]CER_EmpInd!C18","v":5},{"$f":"[4]CER_EmpInd!D18","v":4.25},{"$f":"[4]CER_EmpInd!E18","v":4.5},{"$f":"[4]CER_EmpInd!F18","v":4.75},{"$f":"[4]CER_EmpInd!G18","v":5.5},{"$f":"[4]CER_EmpInd!H18","v":6},{"$f":"[4]CER_EmpInd!I18","v":8.75},{"$f":"[4]CER_EmpInd!J18","v":8.25},{"$f":"[4]CER_EmpInd!K18","v":5},{"$f":"[4]CER_EmpInd!L18","v":4},{"$f":"[4]CER_EmpInd!M18","v":7},{"$f":"[4]CER_EmpInd!N18","v":15.5},{"$f":"[4]CER_EmpInd!O18","v":19},{"$f":"[4]CER_EmpInd!P18","v":11.5},{"$f":"[4]CER_EmpInd!Q18","v":13.75}]
["Q","Extra-Territorial Organizations and Bodies",{"$f":"[4]CER_EmpInd!C19","v":1149.25},{"$f":"[4]CER_EmpInd!D19","v":1119.5},{"$f":"[4]CER_EmpInd!E19","v":1168.5},{"$f":"[4]CER_EmpInd!F19","v":1254.25},{"$f":"[4]CER_EmpInd!G19","v":1296},{"$f":"[4]CER_EmpInd!H19","v":1177.25},{"$f":"[4]CER_EmpInd!I19","v":1466.5},{"$f":"[4]CER_EmpInd!J19","v":1243.25},{"$f":"[4]CER_EmpInd!K19","v":1222},{"$f":"[4]CER_EmpInd!L19","v":1254.3800000000001},{"$f":"[4]CER_EmpInd!M19","v":1209.8800000000001},{"$f":"[4]CER_EmpInd!N19","v":1112.5},{"$f":"[4]CER_EmpInd!O19","v":1044},{"$f":"[4]CER_EmpInd!P19","v":1013.75},{"$f":"[4]CER_EmpInd!Q19","v":972.5}]
[null,"Total",{"$f":"SUM(C3:C19)","v":7940.7900000000009},{"$f":"SUM(D3:D19)","v":8012.420000000001},{"$f":"SUM(E3:E19)","v":7978.2900000000009},8604.18,9211.16,9536.67,9962.2899999999991,10153.42,9765.17,10146.68,10438.550000000003,10393.039999999999,10278.66,10522.16,10482.279999999999]
["(1) Includes Shore based fish processing and vessel support services. Part time workers may be significant. 2)  Not including government workers which are included under \"Public Administration\""]
["Source: Social Security plus EPPSO 'non-reported' estimate. "]
[]
["Table 3e    Employment by industry, wage costs, FY2004-FY2011"]
[null,"(US$'000)","FY1997","FY1998","FY1999","FY2000","FY2001","FY2002","FY2003","FY2004","FY2005","FY2006","FY2007","FY2008","FY2009","FY2010","FY2011"]
["A","Agriculture, Hunting and Forestry",{"$f":"[4]CER_EmpInd!C24","v":24.41},{"$f":"[4]CER_EmpInd!D24","v":19.399999999999999},{"$f":"[4]CER_EmpInd!E24","v":17.89},{"$f":"[4]CER_EmpInd!F24","v":13.71},{"$f":"[4]CER_EmpInd!G24","v":1.48},{"$f":"[4]CER_EmpInd!H24","v":0},{"$f":"[4]CER_EmpInd!I24","v":53.59},{"$f":"[4]CER_EmpInd!J24","v":67.92},{"$f":"[4]CER_EmpInd!K24","v":78.73},{"$f":"[4]CER_EmpInd!L24","v":73.260000000000005},{"$f":"[4]CER_EmpInd!M24","v":84.96},{"$f":"[4]CER_EmpInd!N24","v":81.56},{"$f":"[4]CER_EmpInd!O24","v":77.510000000000005},{"$f":"[4]CER_EmpInd!P24","v":72.739999999999995},{"$f":"[4]CER_EmpInd!Q24","v":68.98}]
["B","Fisheries (1)",{"$f":"[4]CER_EmpInd!C25","v":423.34},{"$f":"[4]CER_EmpInd!D25","v":414.62},{"$f":"[4]CER_EmpInd!E25","v":421.11},{"$f":"[4]CER_EmpInd!F25","v":1686.38},{"$f":"[4]CER_EmpInd!G25","v":1910.95},{"$f":"[4]CER_EmpInd!H25","v":2018.01},{"$f":"[4]CER_EmpInd!I25","v":2202.9499999999998},{"$f":"[4]CER_EmpInd!J25","v":2546.6999999999998},{"$f":"[4]CER_EmpInd!K25","v":1527.78},{"$f":"[4]CER_EmpInd!L25","v":1847.23},{"$f":"[4]CER_EmpInd!M25","v":1870.45},{"$f":"[4]CER_EmpInd!N25","v":2215.36},{"$f":"[4]CER_EmpInd!O25","v":2779.89},{"$f":"[4]CER_EmpInd!P25","v":3439.08},{"$f":"[4]CER_EmpInd!Q25","v":3493.07}]
["C","Mining and Quarrying",{"$f":"[4]CER_EmpInd!C26","v":0},{"$f":"[4]CER_EmpInd!D26","v":0},{"$f":"[4]CER_EmpInd!E26","v":0},{"$f":"[4]CER_EmpInd!F26","v":0},{"$f":"[4]CER_EmpInd!G26","v":0},{"$f":"[4]CER_EmpInd!H26","v":0},{"$f":"[4]CER_EmpInd!I26","v":0},{"$f":"[4]CER_EmpInd!J26","v":0},{"$f":"[4]CER_EmpInd!K26","v":0},{"$f":"[4]CER_EmpInd!L26","v":0},{"$f":"[4]CER_EmpInd!M26","v":0},{"$f":"[4]CER_EmpInd!N26","v":0},{"$f":"[4]CER_EmpInd!O26","v":0},{"$f":"[4]CER_EmpInd!P26","v":0},{"$f":"[4]CER_EmpInd!Q26","v":0}]
["D","Manufacturing",{"$f":"[4]CER_EmpInd!C27","v":538.63},{"$f":"[4]CER_EmpInd!D27","v":524.84},{"$f":"[4]CER_EmpInd!E27","v":397.14},{"$f":"[4]CER_EmpInd!F27","v":373.35},{"$f":"[4]CER_EmpInd!G27","v":373.87},{"$f":"[4]CER_EmpInd!H27","v":434.61},{"$f":"[4]CER_EmpInd!I27","v":415.8},{"$f":"[4]CER_EmpInd!J27","v":439.11},{"$f":"[4]CER_EmpInd!K27","v":504.87},{"$f":"[4]CER_EmpInd!L27","v":505.89},{"$f":"[4]CER_EmpInd!M27","v":587.32000000000005},{"$f":"[4]CER_EmpInd!N27","v":493.6},{"$f":"[4]CER_EmpInd!O27","v":435.9},{"$f":"[4]CER_EmpInd!P27","v":490.18},{"$f":"[4]CER_EmpInd!Q27","v":572.59}]
["E","Electricity, Gas and Water Supply",{"$f":"[4]CER_EmpInd!C28","v":2604.87},{"$f":"[4]CER_EmpInd!D28","v":2681.7},{"$f":"[4]CER_EmpInd!E28","v":2425.6},{"$f":"[4]CER_EmpInd!F28","v":2615.2399999999998},{"$f":"[4]CER_EmpInd!G28","v":2586.9899999999998},{"$f":"[4]CER_EmpInd!H28","v":2843.07},{"$f":"[4]CER_EmpInd!I28","v":3298.3},{"$f":"[4]CER_EmpInd!J28","v":3398.02},{"$f":"[4]CER_EmpInd!K28","v":3611.15},{"$f":"[4]CER_EmpInd!L28","v":3550.58},{"$f":"[4]CER_EmpInd!M28","v":3410.75},{"$f":"[4]CER_EmpInd!N28","v":3720.31},{"$f":"[4]CER_EmpInd!O28","v":4129.7299999999996},{"$f":"[4]CER_EmpInd!P28","v":4429.03},{"$f":"[4]CER_EmpInd!Q28","v":4435.18}]
["F","Construction",{"$f":"[4]CER_EmpInd!C29","v":2588.67},{"$f":"[4]CER_EmpInd!D29","v":3603.92},{"$f":"[4]CER_EmpInd!E29","v":3824.7},{"$f":"[4]CER_EmpInd!F29","v":2589.64},{"$f":"[4]CER_EmpInd!G29","v":3005.13},{"$f":"[4]CER_EmpInd!H29","v":3369.04},{"$f":"[4]CER_EmpInd!I29","v":3016.89},{"$f":"[4]CER_EmpInd!J29","v":2758.59},{"$f":"[4]CER_EmpInd!K29","v":2859.93},{"$f":"[4]CER_EmpInd!L29","v":4043.94},{"$f":"[4]CER_EmpInd!M29","v":4730.74},{"$f":"[4]CER_EmpInd!N29","v":4845.24},{"$f":"[4]CER_EmpInd!O29","v":4352.1899999999996},{"$f":"[4]CER_EmpInd!P29","v":3912.29},{"$f":"[4]CER_EmpInd!Q29","v":3736.68}]
["G","Wholesale and Retail Trade",{"$f":"[4]CER_EmpInd!C30","v":7659.83},{"$f":"[4]CER_EmpInd!D30","v":7303.48},{"$f":"[4]CER_EmpInd!E30","v":7599.76},{"$f":"[4]CER_EmpInd!F30","v":8527.41},{"$f":"[4]CER_EmpInd!G30","v":9469.2000000000007},{"$f":"[4]CER_EmpInd!H30","v":8997.4},{"$f":"[4]CER_EmpInd!I30","v":7757.12},{"$f":"[4]CER_EmpInd!J30","v":7963.73},{"$f":"[4]CER_EmpInd!K30","v":8178.81},{"$f":"[4]CER_EmpInd!L30","v":7859.5},{"$f":"[4]CER_EmpInd!M30","v":8190.99},{"$f":"[4]CER_EmpInd!N30","v":8482.52},{"$f":"[4]CER_EmpInd!O30","v":8673.19},{"$f":"[4]CER_EmpInd!P30","v":8896.92},{"$f":"[4]CER_EmpInd!Q30","v":9187.24}]
["H","Hotels and Restaurants",{"$f":"[4]CER_EmpInd!C31","v":1282.51},{"$f":"[4]CER_EmpInd!D31","v":1281.9100000000001},{"$f":"[4]CER_EmpInd!E31","v":1255.55},{"$f":"[4]CER_EmpInd!F31","v":1338.49},{"$f":"[4]CER_EmpInd!G31","v":1278.71},{"$f":"[4]CER_EmpInd!H31","v":1390.25},{"$f":"[4]CER_EmpInd!I31","v":1438.25},{"$f":"[4]CER_EmpInd!J31","v":1202.75},{"$f":"[4]CER_EmpInd!K31","v":1179.3800000000001},{"$f":"[4]CER_EmpInd!L31","v":1339.53},{"$f":"[4]CER_EmpInd!M31","v":1468.59},{"$f":"[4]CER_EmpInd!N31","v":1331.16},{"$f":"[4]CER_EmpInd!O31","v":1332.55},{"$f":"[4]CER_EmpInd!P31","v":1271.1400000000001},{"$f":"[4]CER_EmpInd!Q31","v":1314.65}]
["I","Transport, Storage and Communications",{"$f":"[4]CER_EmpInd!C32","v":4214.2299999999996},{"$f":"[4]CER_EmpInd!D32","v":3966.35},{"$f":"[4]CER_EmpInd!E32","v":3892.78},{"$f":"[4]CER_EmpInd!F32","v":4003.5},{"$f":"[4]CER_EmpInd!G32","v":4057.28},{"$f":"[4]CER_EmpInd!H32","v":4239.8999999999996},{"$f":"[4]CER_EmpInd!I32","v":4598.8599999999997},{"$f":"[4]CER_EmpInd!J32","v":5001.6099999999997},{"$f":"[4]CER_EmpInd!K32","v":4703.79},{"$f":"[4]CER_EmpInd!L32","v":4710.5600000000004},{"$f":"[4]CER_EmpInd!M32","v":5481.16},{"$f":"[4]CER_EmpInd!N32","v":6042.29},{"$f":"[4]CER_EmpInd!O32","v":6208.84},{"$f":"[4]CER_EmpInd!P32","v":6363.86},{"$f":"[4]CER_EmpInd!Q32","v":6574.59}]
["J","Financial Intermediation",{"$f":"[4]CER_EmpInd!C33","v":1585.4},{"$f":"[4]CER_EmpInd!D33","v":1800.1},{"$f":"[4]CER_EmpInd!E33","v":1774.28},{"$f":"[4]CER_EmpInd!F33","v":1716.91},{"$f":"[4]CER_EmpInd!G33","v":1909.18},{"$f":"[4]CER_EmpInd!H33","v":2130.11},{"$f":"[4]CER_EmpInd!I33","v":2183.64},{"$f":"[4]CER_EmpInd!J33","v":2443.44},{"$f":"[4]CER_EmpInd!K33","v":2856.71},{"$f":"[4]CER_EmpInd!L33","v":3181.29},{"$f":"[4]CER_EmpInd!M33","v":3434.04},{"$f":"[4]CER_EmpInd!N33","v":3388.64},{"$f":"[4]CER_EmpInd!O33","v":3493.48},{"$f":"[4]CER_EmpInd!P33","v":3681.25},{"$f":"[4]CER_EmpInd!Q33","v":3779.49}]
["K","Real Estate, Renting and Businesss Activities",{"$f":"[4]CER_EmpInd!C34","v":1591.51},{"$f":"[4]CER_EmpInd!D34","v":1468.08},{"$f":"[4]CER_EmpInd!E34","v":1379.91},{"$f":"[4]CER_EmpInd!F34","v":1415.2},{"$f":"[4]CER_EmpInd!G34","v":1489.07},{"$f":"[4]CER_EmpInd!H34","v":1624.42},{"$f":"[4]CER_EmpInd!I34","v":1616.64},{"$f":"[4]CER_EmpInd!J34","v":1309.99},{"$f":"[4]CER_EmpInd!K34","v":1370.63},{"$f":"[4]CER_EmpInd!L34","v":1358.63},{"$f":"[4]CER_EmpInd!M34","v":1382.08},{"$f":"[4]CER_EmpInd!N34","v":1446.68},{"$f":"[4]CER_EmpInd!O34","v":1637.05},{"$f":"[4]CER_EmpInd!P34","v":1778.82},{"$f":"[4]CER_EmpInd!Q34","v":1912.39}]
["L","Public Administration",{"$f":"[4]CER_EmpInd!C35","v":26126.07},{"$f":"[4]CER_EmpInd!D35","v":24818.2},{"$f":"[4]CER_EmpInd!E35","v":24796.37},{"$f":"[4]CER_EmpInd!F35","v":25967.22},{"$f":"[4]CER_EmpInd!G35","v":27489.42},{"$f":"[4]CER_EmpInd!H35","v":30051.9},{"$f":"[4]CER_EmpInd!I35","v":30621.08},{"$f":"[4]CER_EmpInd!J35","v":35297.230000000003},{"$f":"[4]CER_EmpInd!K35","v":37211.360000000001},{"$f":"[4]CER_EmpInd!L35","v":40326.71},{"$f":"[4]CER_EmpInd!M35","v":40149.160000000003},{"$f":"[4]CER_EmpInd!N35","v":40459.339999999997},{"$f":"[4]CER_EmpInd!O35","v":39756.82},{"$f":"[4]CER_EmpInd!P35","v":39619.93},{"$f":"[4]CER_EmpInd!Q35","v":40342.300000000003}]
["M","Education (2)",{"$f":"[4]CER_EmpInd!C36","v":2826.56},{"$f":"[4]CER_EmpInd!D36","v":2747.8},{"$f":"[4]CER_EmpInd!E36","v":4210.3100000000004},{"$f":"[4]CER_EmpInd!F36","v":5031.46},{"$f":"[4]CER_EmpInd!G36","v":5369.29},{"$f":"[4]CER_EmpInd!H36","v":5823.98},{"$f":"[4]CER_EmpInd!I36","v":6393.37},{"$f":"[4]CER_EmpInd!J36","v":6340.57},{"$f":"[4]CER_EmpInd!K36","v":6708.19},{"$f":"[4]CER_EmpInd!L36","v":4642.8999999999996},{"$f":"[4]CER_EmpInd!M36","v":5014.88},{"$f":"[4]CER_EmpInd!N36","v":4888.8599999999997},{"$f":"[4]CER_EmpInd!O36","v":5305.71},{"$f":"[4]CER_EmpInd!P36","v":5847.45},{"$f":"[4]CER_EmpInd!Q36","v":6436.77}]
["N","Health and Social Work (2)",{"$f":"[4]CER_EmpInd!C37","v":801.89},{"$f":"[4]CER_EmpInd!D37","v":820.77},{"$f":"[4]CER_EmpInd!E37","v":832.53},{"$f":"[4]CER_EmpInd!F37","v":871.79},{"$f":"[4]CER_EmpInd!G37","v":961.86},{"$f":"[4]CER_EmpInd!H37","v":1044.45},{"$f":"[4]CER_EmpInd!I37","v":1180.9100000000001},{"$f":"[4]CER_EmpInd!J37","v":1316.82},{"$f":"[4]CER_EmpInd!K37","v":1443.91},{"$f":"[4]CER_EmpInd!L37","v":1788.73},{"$f":"[4]CER_EmpInd!M37","v":1827.74},{"$f":"[4]CER_EmpInd!N37","v":1769.61},{"$f":"[4]CER_EmpInd!O37","v":1759.84},{"$f":"[4]CER_EmpInd!P37","v":2108.59},{"$f":"[4]CER_EmpInd!Q37","v":2028.24}]
["O","Community, Social & Personal Service Activities",{"$f":"[4]CER_EmpInd!C38","v":247.37},{"$f":"[4]CER_EmpInd!D38","v":297.51},{"$f":"[4]CER_EmpInd!E38","v":350.2},{"$f":"[4]CER_EmpInd!F38","v":406.69},{"$f":"[4]CER_EmpInd!G38","v":479.82},{"$f":"[4]CER_EmpInd!H38","v":479.45},{"$f":"[4]CER_EmpInd!I38","v":441.37},{"$f":"[4]CER_EmpInd!J38","v":467.79},{"$f":"[4]CER_EmpInd!K38","v":433.79},{"$f":"[4]CER_EmpInd!L38","v":457.89},{"$f":"[4]CER_EmpInd!M38","v":518.63},{"$f":"[4]CER_EmpInd!N38","v":738.58},{"$f":"[4]CER_EmpInd!O38","v":852.06},{"$f":"[4]CER_EmpInd!P38","v":936.67},{"$f":"[4]CER_EmpInd!Q38","v":1132.5899999999999}]
["P","Private Households With Employed Persons",{"$f":"[4]CER_EmpInd!C39","v":18.77},{"$f":"[4]CER_EmpInd!D39","v":17.66},{"$f":"[4]CER_EmpInd!E39","v":21.87},{"$f":"[4]CER_EmpInd!F39","v":19.72},{"$f":"[4]CER_EmpInd!G39","v":21.24},{"$f":"[4]CER_EmpInd!H39","v":17.420000000000002},{"$f":"[4]CER_EmpInd!I39","v":23.76},{"$f":"[4]CER_EmpInd!J39","v":27.59},{"$f":"[4]CER_EmpInd!K39","v":14.18},{"$f":"[4]CER_EmpInd!L39","v":7.14},{"$f":"[4]CER_EmpInd!M39","v":31.93},{"$f":"[4]CER_EmpInd!N39","v":74.930000000000007},{"$f":"[4]CER_EmpInd!O39","v":57.14},{"$f":"[4]CER_EmpInd!P39","v":37.64},{"$f":"[4]CER_EmpInd!Q39","v":54.43}]
["Q","Extra-Territorial Organizations and Bodies",{"$f":"[4]CER_EmpInd!C40","v":13286.72},{"$f":"[4]CER_EmpInd!D40","v":13435.83},{"$f":"[4]CER_EmpInd!E40","v":14742.88},{"$f":"[4]CER_EmpInd!F40","v":17027.05},{"$f":"[4]CER_EmpInd!G40","v":17765.62},{"$f":"[4]CER_EmpInd!H40","v":16051.72},{"$f":"[4]CER_EmpInd!I40","v":17836.27},{"$f":"[4]CER_EmpInd!J40","v":18067.009999999998},{"$f":"[4]CER_EmpInd!K40","v":18594.759999999998},{"$f":"[4]CER_EmpInd!L40","v":20322.28},{"$f":"[4]CER_EmpInd!M40","v":19451.41},{"$f":"[4]CER_EmpInd!N40","v":17272.05},{"$f":"[4]CER_EmpInd!O40","v":17490.71},{"$f":"[4]CER_EmpInd!P40","v":16614.330000000002},{"$f":"[4]CER_EmpInd!Q40","v":16497.14}]
[null,"Total",{"$f":"SUM(C26:C42)","v":65820.78},{"$f":"SUM(D26:D42)","v":65202.17},67942.87999999999,73603.760000000009,78169.11,80515.73,83078.800000000017,88648.87,91277.969999999987,96016.059999999983,97634.830000000016,97250.73,98342.609999999986,99499.919999999984,101566.33]
["(1) Includes Shore based fish processing and vessel support services. 2)  Not including government workers which are included under \"Public Administration\""]
["Source: Social Security plus EPPSO 'non-reported' estimate. Wage Costs = Gross wages and salaries as per Social Security regulations. "]
[]
["Table 3f     Employment by industry, average wage and salary rates, FY2004-FY2011"]
[null,null,"FY1997","FY1998","FY1999","FY2000","FY2001","FY2002","FY2003","FY2004","FY2005","FY2006","FY2007","FY2008","FY2009","FY2010","FY2011"]
["A","Agriculture, Hunting and Forestry",{"$f":"[4]CER_EmpInd!C46","v":""},{"$f":"[4]CER_EmpInd!D46","v":""},{"$f":"[4]CER_EmpInd!E46","v":""},{"$f":"[4]CER_EmpInd!F46","v":""},{"$f":"[4]CER_EmpInd!G46","v":""},{"$f":"[4]CER_EmpInd!H46","v":""},{"$f":"[4]CER_EmpInd!I46","v":2614.146341463415},{"$f":"[4]CER_EmpInd!J46","v":2830},{"$f":"[4]CER_EmpInd!K46","v":3314.9473684210529},{"$f":"[4]CER_EmpInd!L46","v":2713.3333333333335},{"$f":"[4]CER_EmpInd!M46","v":2740.645161290322},{"$f":"[4]CER_EmpInd!N46","v":2965.818181818182},{"$f":"[4]CER_EmpInd!O46","v":3131.7171717171723},{"$f":"[4]CER_EmpInd!P46","v":3162.6086956521735},{"$f":"[4]CER_EmpInd!Q46","v":3678.9333333333334}]
["B","Fisheries (1)",{"$f":"[4]CER_EmpInd!C47","v":5131.393939393939},{"$f":"[4]CER_EmpInd!D47","v":4965.5089820359281},{"$f":"[4]CER_EmpInd!E47","v":8865.4736842105267},{"$f":"[4]CER_EmpInd!F47","v":3087.872850786443},{"$f":"[4]CER_EmpInd!G47","v":3093.4034803723193},{"$f":"[4]CER_EmpInd!H47","v":2746.526029261654},{"$f":"[4]CER_EmpInd!I47","v":2442.9719988910451},{"$f":"[4]CER_EmpInd!J47","v":2541.6167664670656},{"$f":"[4]CER_EmpInd!K47","v":5456.3571428571431},{"$f":"[4]CER_EmpInd!L47","v":5381.5877640203935},{"$f":"[4]CER_EmpInd!M47","v":5759.6612779060815},{"$f":"[4]CER_EmpInd!N47","v":4643.0951732232306},{"$f":"[4]CER_EmpInd!O47","v":3787.3160762942775},{"$f":"[4]CER_EmpInd!P47","v":2988.5552900282428},{"$f":"[4]CER_EmpInd!Q47","v":3046.7248146532925}]
["C","Mining and Quarrying",{"$f":"[4]CER_EmpInd!C48","v":""},{"$f":"[4]CER_EmpInd!D48","v":""},{"$f":"[4]CER_EmpInd!E48","v":""},{"$f":"[4]CER_EmpInd!F48","v":""},{"$f":"[4]CER_EmpInd!G48","v":""},{"$f":"[4]CER_EmpInd!H48","v":""},{"$f":"[4]CER_EmpInd!I48","v":""},{"$f":"[4]CER_EmpInd!J48","v":""},{"$f":"[4]CER_EmpInd!K48","v":""},{"$f":"[4]CER_EmpInd!L48","v":""},{"$f":"[4]CER_EmpInd!M48","v":""},{"$f":"[4]CER_EmpInd!N48","v":""},{"$f":"[4]CER_EmpInd!O48","v":""},{"$f":"[4]CER_EmpInd!P48","v":""},{"$f":"[4]CER_EmpInd!Q48","v":""}]
["D","Manufacturing",{"$f":"[4]CER_EmpInd!C49","v":5010.5116279069762},{"$f":"[4]CER_EmpInd!D49","v":4485.8119658119667},{"$f":"[4]CER_EmpInd!E49","v":4316.7391304347821},{"$f":"[4]CER_EmpInd!F49","v":4725.9493670886077},{"$f":"[4]CER_EmpInd!G49","v":5192.6388888888896},{"$f":"[4]CER_EmpInd!H49","v":5554.1214057507987},{"$f":"[4]CER_EmpInd!I49","v":5562.5418060200673},{"$f":"[4]CER_EmpInd!J49","v":6184.6478873239439},{"$f":"[4]CER_EmpInd!K49","v":5356.7108753315651},{"$f":"[4]CER_EmpInd!L49","v":5248.910562357335},{"$f":"[4]CER_EmpInd!M49","v":5520.9625869524352},{"$f":"[4]CER_EmpInd!N49","v":5121.394480182611},{"$f":"[4]CER_EmpInd!O49","v":5624.5161290322576},{"$f":"[4]CER_EmpInd!P49","v":6535.7333333333336},{"$f":"[4]CER_EmpInd!Q49","v":5827.8880407124689}]
["E","Electricity, Gas and Water Supply",{"$f":"[4]CER_EmpInd!C50","v":11313.224755700325},{"$f":"[4]CER_EmpInd!D50","v":11521.804511278195},{"$f":"[4]CER_EmpInd!E50","v":11025.454545454546},{"$f":"[4]CER_EmpInd!F50","v":11982.772050400916},{"$f":"[4]CER_EmpInd!G50","v":11211.224268689057},{"$f":"[4]CER_EmpInd!H50","v":11349.580838323353},{"$f":"[4]CER_EmpInd!I50","v":12630.873511277909},{"$f":"[4]CER_EmpInd!J50","v":12245.117117117117},{"$f":"[4]CER_EmpInd!K50","v":13089.567928084674},{"$f":"[4]CER_EmpInd!L50","v":13162.483781278961},{"$f":"[4]CER_EmpInd!M50","v":11137.142857142857},{"$f":"[4]CER_EmpInd!N50","v":12237.861842105263},{"$f":"[4]CER_EmpInd!O50","v":11970.23188405797},{"$f":"[4]CER_EmpInd!P50","v":13873.234142521535},{"$f":"[4]CER_EmpInd!Q50","v":14181.231015187852}]
["F","Construction",{"$f":"[4]CER_EmpInd!C51","v":6395.7257566399012},{"$f":"[4]CER_EmpInd!D51","v":5904.3874307808246},{"$f":"[4]CER_EmpInd!E51","v":6239.3148450244689},{"$f":"[4]CER_EmpInd!F51","v":6111.2448377581122},{"$f":"[4]CER_EmpInd!G51","v":6148.6035805626598},{"$f":"[4]CER_EmpInd!H51","v":5297.232704402516},{"$f":"[4]CER_EmpInd!I51","v":5360.9773434029321},{"$f":"[4]CER_EmpInd!J51","v":5280.8109039396604},{"$f":"[4]CER_EmpInd!K51","v":5132.2207267833101},{"$f":"[4]CER_EmpInd!L51","v":5547.2427983539101},{"$f":"[4]CER_EmpInd!M51","v":5523.3391710449496},{"$f":"[4]CER_EmpInd!N51","v":5910.631290027447},{"$f":"[4]CER_EmpInd!O51","v":6426.2679955703206},{"$f":"[4]CER_EmpInd!P51","v":6701.9957173447538},{"$f":"[4]CER_EmpInd!Q51","v":7262.7405247813413}]
["G","Wholesale and Retail Trade",{"$f":"[4]CER_EmpInd!C52","v":5504.1749302980652},{"$f":"[4]CER_EmpInd!D52","v":5334.3558730297837},{"$f":"[4]CER_EmpInd!E52","v":5464.9370074210428},{"$f":"[4]CER_EmpInd!F52","v":5493.5095054339772},{"$f":"[4]CER_EmpInd!G52","v":5421.7529716235713},{"$f":"[4]CER_EmpInd!H52","v":5202.2526481335863},{"$f":"[4]CER_EmpInd!I52","v":4741.8347199383816},{"$f":"[4]CER_EmpInd!J52","v":4554.8933590331671},{"$f":"[4]CER_EmpInd!K52","v":4508.0445578662493},{"$f":"[4]CER_EmpInd!L52","v":4303.8868870951846},{"$f":"[4]CER_EmpInd!M52","v":4495.8751626058647},{"$f":"[4]CER_EmpInd!N52","v":4636.4729546547733},{"$f":"[4]CER_EmpInd!O52","v":5076.0780503792494},{"$f":"[4]CER_EmpInd!P52","v":5154.2285098543571},{"$f":"[4]CER_EmpInd!Q52","v":5362.4005556625634}]
["H","Hotels and Restaurants",{"$f":"[4]CER_EmpInd!C53","v":5210.7016617234794},{"$f":"[4]CER_EmpInd!D53","v":5313.6165803108806},{"$f":"[4]CER_EmpInd!E53","v":5406.0279870828845},{"$f":"[4]CER_EmpInd!F53","v":5215.6411954954601},{"$f":"[4]CER_EmpInd!G53","v":4800.32284706059},{"$f":"[4]CER_EmpInd!H53","v":5214.1544462363581},{"$f":"[4]CER_EmpInd!I53","v":4658.2995951417006},{"$f":"[4]CER_EmpInd!J53","v":4462.8942486085343},{"$f":"[4]CER_EmpInd!K53","v":4947.4788153368581},{"$f":"[4]CER_EmpInd!L53","v":5085.9214822689655},{"$f":"[4]CER_EmpInd!M53","v":4963.4649182100848},{"$f":"[4]CER_EmpInd!N53","v":4695.4497354497362},{"$f":"[4]CER_EmpInd!O53","v":5122.6309921962093},{"$f":"[4]CER_EmpInd!P53","v":5084.5600000000004},{"$f":"[4]CER_EmpInd!Q53","v":5449.3264248704672}]
["I","Transport, Storage and Communications",{"$f":"[4]CER_EmpInd!C54","v":10121.115327345213},{"$f":"[4]CER_EmpInd!D54","v":10066.622674551407},{"$f":"[4]CER_EmpInd!E54","v":9911.3453508503935},{"$f":"[4]CER_EmpInd!F54","v":9782.2899868054537},{"$f":"[4]CER_EmpInd!G54","v":9868.6060370199211},{"$f":"[4]CER_EmpInd!H54","v":9395.6920622257676},{"$f":"[4]CER_EmpInd!I54","v":9676.5139081765756},{"$f":"[4]CER_EmpInd!J54","v":9244.9492615663294},{"$f":"[4]CER_EmpInd!K54","v":8373.3088863571629},{"$f":"[4]CER_EmpInd!L54","v":8163.7406630734313},{"$f":"[4]CER_EmpInd!M54","v":7747.113115008975},{"$f":"[4]CER_EmpInd!N54","v":8999.8063689713726},{"$f":"[4]CER_EmpInd!O54","v":8786.5502455316073},{"$f":"[4]CER_EmpInd!P54","v":9866.2966465636182},{"$f":"[4]CER_EmpInd!Q54","v":10108.84406039546}]
["J","Financial Intermediation",{"$f":"[4]CER_EmpInd!C55","v":13156.846473029047},{"$f":"[4]CER_EmpInd!D55","v":13560.075329566855},{"$f":"[4]CER_EmpInd!E55","v":12787.603603603604},{"$f":"[4]CER_EmpInd!F55","v":12252.265753229147},{"$f":"[4]CER_EmpInd!G55","v":11381.102831594635},{"$f":"[4]CER_EmpInd!H55","v":13418.015748031497},{"$f":"[4]CER_EmpInd!I55","v":14366.052631578947},{"$f":"[4]CER_EmpInd!J55","v":14436.868537666176},{"$f":"[4]CER_EmpInd!K55","v":16417.873563218389},{"$f":"[4]CER_EmpInd!L55","v":16483.367875647669},{"$f":"[4]CER_EmpInd!M55","v":16509.807692307691},{"$f":"[4]CER_EmpInd!N55","v":16078.956109134044},{"$f":"[4]CER_EmpInd!O55","v":16836.048192771083},{"$f":"[4]CER_EmpInd!P55","v":16600.901916572715},{"$f":"[4]CER_EmpInd!Q55","v":17024.729729729726}]
["K","Real Estate, Renting and Businesss Activities",{"$f":"[4]CER_EmpInd!C56","v":7321.3267089888677},{"$f":"[4]CER_EmpInd!D56","v":6386.288498346963},{"$f":"[4]CER_EmpInd!E56","v":7117.3406230658147},{"$f":"[4]CER_EmpInd!F56","v":6675.4716981132078},{"$f":"[4]CER_EmpInd!G56","v":6658.6325627151991},{"$f":"[4]CER_EmpInd!H56","v":7345.9955682177915},{"$f":"[4]CER_EmpInd!I56","v":7340.0227014755965},{"$f":"[4]CER_EmpInd!J56","v":5661.6388624773099},{"$f":"[4]CER_EmpInd!K56","v":5504.538152610442},{"$f":"[4]CER_EmpInd!L56","v":6450.315719508143},{"$f":"[4]CER_EmpInd!M56","v":6292.7651049492324},{"$f":"[4]CER_EmpInd!N56","v":6451.1928651059088},{"$f":"[4]CER_EmpInd!O56","v":6785.6994818652847},{"$f":"[4]CER_EmpInd!P56","v":7704.5218295218292},{"$f":"[4]CER_EmpInd!Q56","v":8269.7945945945958}]
["L","Public Administration",{"$f":"[4]CER_EmpInd!C57","v":8991.1623505119151},{"$f":"[4]CER_EmpInd!D57","v":8770.8286949177109},{"$f":"[4]CER_EmpInd!E57","v":9156.70974889217},{"$f":"[4]CER_EmpInd!F57","v":9716.452759588401},{"$f":"[4]CER_EmpInd!G57","v":9928.4586907449193},{"$f":"[4]CER_EmpInd!H57","v":10293.932273290904},{"$f":"[4]CER_EmpInd!I57","v":10256.15364261479},{"$f":"[4]CER_EmpInd!J57","v":11205.469841269842},{"$f":"[4]CER_EmpInd!K57","v":11190.107596725788},{"$f":"[4]CER_EmpInd!L57","v":11079.892736349575},{"$f":"[4]CER_EmpInd!M57","v":11231.696707071782},{"$f":"[4]CER_EmpInd!N57","v":11394.58987537844},{"$f":"[4]CER_EmpInd!O57","v":11560.97915600428},{"$f":"[4]CER_EmpInd!P57","v":11572.08616283315},{"$f":"[4]CER_EmpInd!Q57","v":11705.295227041928}]
["M","Education (2)",{"$f":"[4]CER_EmpInd!C58","v":6196.8298511389294},{"$f":"[4]CER_EmpInd!D58","v":6845.881708107031},{"$f":"[4]CER_EmpInd!E58","v":8098.6189120566296},{"$f":"[4]CER_EmpInd!F58","v":8964.7394209354134},{"$f":"[4]CER_EmpInd!G58","v":8560.0478278198498},{"$f":"[4]CER_EmpInd!H58","v":9337.0420841683372},{"$f":"[4]CER_EmpInd!I58","v":10558.827415359208},{"$f":"[4]CER_EmpInd!J58","v":10748.915033566149},{"$f":"[4]CER_EmpInd!K58","v":10754.613226452906},{"$f":"[4]CER_EmpInd!L58","v":12122.454308093995},{"$f":"[4]CER_EmpInd!M58","v":11521.838024124067},{"$f":"[4]CER_EmpInd!N58","v":12241.123741799789},{"$f":"[4]CER_EmpInd!O58","v":12742.470819924109},{"$f":"[4]CER_EmpInd!P58","v":12798.656102258798},{"$f":"[4]CER_EmpInd!Q58","v":13026.470766802258}]
["N","Health and Social Work (2)",{"$f":"[4]CER_EmpInd!C59","v":5228.126222454036},{"$f":"[4]CER_EmpInd!D59","v":4650.2549575070816},{"$f":"[4]CER_EmpInd!E59","v":4680.2900832021587},{"$f":"[4]CER_EmpInd!F59","v":4819.714727996462},{"$f":"[4]CER_EmpInd!G59","v":4945.2956298200515},{"$f":"[4]CER_EmpInd!H59","v":5138.7453874538742},{"$f":"[4]CER_EmpInd!I59","v":5767.5702075702084},{"$f":"[4]CER_EmpInd!J59","v":5849.1538222360414},{"$f":"[4]CER_EmpInd!K59","v":6047.7905759162313},{"$f":"[4]CER_EmpInd!L59","v":7271.2601626016258},{"$f":"[4]CER_EmpInd!M59","v":7384.8080808080804},{"$f":"[4]CER_EmpInd!N59","v":7064.311377245509},{"$f":"[4]CER_EmpInd!O59","v":7074.7336683417079},{"$f":"[4]CER_EmpInd!P59","v":8580.2238046795537},{"$f":"[4]CER_EmpInd!Q59","v":8621.6365568544097}]
["O","Community, Social & Personal Service Activities",{"$f":"[4]CER_EmpInd!C60","v":5590.2824858757058},{"$f":"[4]CER_EmpInd!D60","v":4798.5483870967746},{"$f":"[4]CER_EmpInd!E60","v":4967.3758865248219},{"$f":"[4]CER_EmpInd!F60","v":4694.5630843818544},{"$f":"[4]CER_EmpInd!G60","v":5131.7647058823532},{"$f":"[4]CER_EmpInd!H60","v":5974.4548286604359},{"$f":"[4]CER_EmpInd!I60","v":5649.1744528350191},{"$f":"[4]CER_EmpInd!J60","v":5811.0559006211188},{"$f":"[4]CER_EmpInd!K60","v":5306.2996941896026},{"$f":"[4]CER_EmpInd!L60","v":5442.6482824200648},{"$f":"[4]CER_EmpInd!M60","v":5995.722543352601},{"$f":"[4]CER_EmpInd!N60","v":6142.0374220374224},{"$f":"[4]CER_EmpInd!O60","v":6605.1162790697672},{"$f":"[4]CER_EmpInd!P60","v":6459.7931034482754},{"$f":"[4]CER_EmpInd!Q60","v":6613.6642335766419}]
["P","Private Households With Employed Persons",{"$f":"[4]CER_EmpInd!C61","v":""},{"$f":"[4]CER_EmpInd!D61","v":""},{"$f":"[4]CER_EmpInd!E61","v":""},{"$f":"[4]CER_EmpInd!F61","v":""},{"$f":"[4]CER_EmpInd!G61","v":""},{"$f":"[4]CER_EmpInd!H61","v":""},{"$f":"[4]CER_EmpInd!I61","v":""},{"$f":"[4]CER_EmpInd!J61","v":""},{"$f":"[4]CER_EmpInd!K61","v":""},{"$f":"[4]CER_EmpInd!L61","v":""},{"$f":"[4]CER_EmpInd!M61","v":""},{"$f":"[4]CER_EmpInd!N61","v":4834.1935483870975},{"$f":"[4]CER_EmpInd!O61","v":3007.3684210526317},{"$f":"[4]CER_EmpInd!P61","v":3273.0434782608695},{"$f":"[4]CER_EmpInd!Q61","v":3958.5454545454545}]
["Q","Extra-Territorial Organizations and Bodies",{"$f":"[4]CER_EmpInd!C62","v":11561.209484446377},{"$f":"[4]CER_EmpInd!D62","v":12001.634658329611},{"$f":"[4]CER_EmpInd!E62","v":12616.927685066325},{"$f":"[4]CER_EmpInd!F62","v":13575.483356587602},{"$f":"[4]CER_EmpInd!G62","v":13708.040123456791},{"$f":"[4]CER_EmpInd!H62","v":13634.928859630494},{"$f":"[4]CER_EmpInd!I62","v":12162.475281281964},{"$f":"[4]CER_EmpInd!J62","v":14532.081238688919},{"$f":"[4]CER_EmpInd!K62","v":15216.661211129296},{"$f":"[4]CER_EmpInd!L62","v":16201.055501522664},{"$f":"[4]CER_EmpInd!M62","v":16077.139881641151},{"$f":"[4]CER_EmpInd!N62","v":15525.438202247191},{"$f":"[4]CER_EmpInd!O62","v":16753.553639846741},{"$f":"[4]CER_EmpInd!P62","v":16388.981504315663},{"$f":"[4]CER_EmpInd!Q62","v":16963.640102827765}]
[null,"Total",{"$f":"[4]CER_EmpInd!C63","v":8288.9460620416849},{"$f":"[4]CER_EmpInd!D63","v":8137.6375676761818},{"$f":"[4]CER_EmpInd!E63","v":8515.9702141686976},{"$f":"[4]CER_EmpInd!F63","v":8554.4188987213201},{"$f":"[4]CER_EmpInd!G63","v":8486.3480821090943},{"$f":"[4]CER_EmpInd!H63","v":8442.750981212519},{"$f":"[4]CER_EmpInd!I63","v":8339.3276043961796},{"$f":"[4]CER_EmpInd!J63","v":8730.9369650817152},{"$f":"[4]CER_EmpInd!K63","v":9347.2996373847036},{"$f":"[4]CER_EmpInd!L63","v":9462.8055679296067},{"$f":"[4]CER_EmpInd!M63","v":9353.294279377882},{"$f":"[4]CER_EmpInd!N63","v":9357.2939197770811},{"$f":"[4]CER_EmpInd!O63","v":9567.6488958677473},{"$f":"[4]CER_EmpInd!P63","v":9456.2257179134303},{"$f":"[4]CER_EmpInd!Q63","v":9689.3357170386607}]
["(1) Includes Shore based fish processing and vessel support services. 2)  Not including government workers which are included under \"Public Administration\""]
["Source: Social Security plus EPPSO 'non-reported' estimate. "]

{"sheet":"EmpPriv","index":12,"n_rows":68,"n_cols":17,"rows_kept":68,"cut":false,"hidden":false,"merged":[]}
["Table 3g    Employment in private sector by industry, numbers, FY2004-FY2011"]
[null,"(No. of workers, part and full time)","FY1997","FY1998","FY1999","FY2000","FY2001","FY2002","FY2003","FY2004","FY2005","FY2006","FY2007","FY2008","FY2009","FY2010","FY2011"]
["A","Agriculture, Hunting and Forestry",{"$f":"[4]CER_EmpIndPriv!C3","v":8},{"$f":"[4]CER_EmpIndPriv!D3","v":8},{"$f":"[4]CER_EmpIndPriv!E3","v":8.25},{"$f":"[4]CER_EmpIndPriv!F3","v":6.5},{"$f":"[4]CER_EmpIndPriv!G3","v":1},{"$f":"[4]CER_EmpIndPriv!H3","v":0},{"$f":"[4]CER_EmpIndPriv!I3","v":0},{"$f":"[4]CER_EmpIndPriv!J3","v":1.5},{"$f":"[4]CER_EmpIndPriv!K3","v":2},{"$f":"[4]CER_EmpIndPriv!L3","v":0.5},{"$f":"[4]CER_EmpIndPriv!M3","v":0},{"$f":"[4]CER_EmpIndPriv!N3","v":0},{"$f":"[4]CER_EmpIndPriv!O3","v":0},{"$f":"[4]CER_EmpIndPriv!P3","v":0},{"$f":"[4]CER_EmpIndPriv!Q3","v":0}]
["B","Fisheries (1)",{"$f":"[4]CER_EmpIndPriv!C4","v":81.5},{"$f":"[4]CER_EmpIndPriv!D4","v":81},{"$f":"[4]CER_EmpIndPriv!E4","v":45},{"$f":"[4]CER_EmpIndPriv!F4","v":516},{"$f":"[4]CER_EmpIndPriv!G4","v":574},{"$f":"[4]CER_EmpIndPriv!H4","v":688},{"$f":"[4]CER_EmpIndPriv!I4","v":852},{"$f":"[4]CER_EmpIndPriv!J4","v":946.5},{"$f":"[4]CER_EmpIndPriv!K4","v":217.5},{"$f":"[4]CER_EmpIndPriv!L4","v":267},{"$f":"[4]CER_EmpIndPriv!M4","v":235.25},{"$f":"[4]CER_EmpIndPriv!N4","v":397.13},{"$f":"[4]CER_EmpIndPriv!O4","v":647.25},{"$f":"[4]CER_EmpIndPriv!P4","v":1063},{"$f":"[4]CER_EmpIndPriv!Q4","v":1063}]
["C","Mining and Quarrying",{"$f":"[4]CER_EmpIndPriv!C5","v":0},{"$f":"[4]CER_EmpIndPriv!D5","v":0},{"$f":"[4]CER_EmpIndPriv!E5","v":0},{"$f":"[4]CER_EmpIndPriv!F5","v":0},{"$f":"[4]CER_EmpIndPriv!G5","v":0},{"$f":"[4]CER_EmpIndPriv!H5","v":0},{"$f":"[4]CER_EmpIndPriv!I5","v":0},{"$f":"[4]CER_EmpIndPriv!J5","v":0},{"$f":"[4]CER_EmpIndPriv!K5","v":0},{"$f":"[4]CER_EmpIndPriv!L5","v":0},{"$f":"[4]CER_EmpIndPriv!M5","v":0},{"$f":"[4]CER_EmpIndPriv!N5","v":0},{"$f":"[4]CER_EmpIndPriv!O5","v":0},{"$f":"[4]CER_EmpIndPriv!P5","v":0},{"$f":"[4]CER_EmpIndPriv!Q5","v":0}]
["D","Manufacturing",{"$f":"[4]CER_EmpIndPriv!C6","v":36.5},{"$f":"[4]CER_EmpIndPriv!D6","v":43.75},{"$f":"[4]CER_EmpIndPriv!E6","v":39.5},{"$f":"[4]CER_EmpIndPriv!F6","v":40},{"$f":"[4]CER_EmpIndPriv!G6","v":44.5},{"$f":"[4]CER_EmpIndPriv!H6","v":45},{"$f":"[4]CER_EmpIndPriv!I6","v":40.5},{"$f":"[4]CER_EmpIndPriv!J6","v":44},{"$f":"[4]CER_EmpIndPriv!K6","v":65.5},{"$f":"[4]CER_EmpIndPriv!L6","v":67.13},{"$f":"[4]CER_EmpIndPriv!M6","v":75.38},{"$f":"[4]CER_EmpIndPriv!N6","v":66.38},{"$f":"[4]CER_EmpIndPriv!O6","v":49},{"$f":"[4]CER_EmpIndPriv!P6","v":49.25},{"$f":"[4]CER_EmpIndPriv!Q6","v":51.5}]
["E","Electricity, Gas and Water Supply",{"$f":"[4]CER_EmpIndPriv!C7","v":0},{"$f":"[4]CER_EmpIndPriv!D7","v":0},{"$f":"[4]CER_EmpIndPriv!E7","v":0},{"$f":"[4]CER_EmpIndPriv!F7","v":0},{"$f":"[4]CER_EmpIndPriv!G7","v":0},{"$f":"[4]CER_EmpIndPriv!H7","v":0},{"$f":"[4]CER_EmpIndPriv!I7","v":0},{"$f":"[4]CER_EmpIndPriv!J7","v":0},{"$f":"[4]CER_EmpIndPriv!K7","v":0},{"$f":"[4]CER_EmpIndPriv!L7","v":0},{"$f":"[4]CER_EmpIndPriv!M7","v":0},{"$f":"[4]CER_EmpIndPriv!N7","v":0},{"$f":"[4]CER_EmpIndPriv!O7","v":0},{"$f":"[4]CER_EmpIndPriv!P7","v":0},{"$f":"[4]CER_EmpIndPriv!Q7","v":0}]
["F","Construction",{"$f":"[4]CER_EmpIndPriv!C8","v":404.75},{"$f":"[4]CER_EmpIndPriv!D8","v":610.38},{"$f":"[4]CER_EmpIndPriv!E8","v":613},{"$f":"[4]CER_EmpIndPriv!F8","v":423.75},{"$f":"[4]CER_EmpIndPriv!G8","v":488.75},{"$f":"[4]CER_EmpIndPriv!H8","v":636},{"$f":"[4]CER_EmpIndPriv!I8","v":562.75},{"$f":"[4]CER_EmpIndPriv!J8","v":522.38},{"$f":"[4]CER_EmpIndPriv!K8","v":557.25},{"$f":"[4]CER_EmpIndPriv!L8","v":729},{"$f":"[4]CER_EmpIndPriv!M8","v":856.5},{"$f":"[4]CER_EmpIndPriv!N8","v":819.75},{"$f":"[4]CER_EmpIndPriv!O8","v":677.25},{"$f":"[4]CER_EmpIndPriv!P8","v":583.75},{"$f":"[4]CER_EmpIndPriv!Q8","v":514.5}]
["G","Wholesale and Retail Trade",{"$f":"[4]CER_EmpIndPriv!C9","v":1391.64},{"$f":"[4]CER_EmpIndPriv!D9","v":1369.14},{"$f":"[4]CER_EmpIndPriv!E9","v":1390.64},{"$f":"[4]CER_EmpIndPriv!F9","v":1552.27},{"$f":"[4]CER_EmpIndPriv!G9","v":1746.52},{"$f":"[4]CER_EmpIndPriv!H9","v":1729.52},{"$f":"[4]CER_EmpIndPriv!I9","v":1635.89},{"$f":"[4]CER_EmpIndPriv!J9","v":1748.39},{"$f":"[4]CER_EmpIndPriv!K9","v":1814.27},{"$f":"[4]CER_EmpIndPriv!L9","v":1826.14},{"$f":"[4]CER_EmpIndPriv!M9","v":1821.89},{"$f":"[4]CER_EmpIndPriv!N9","v":1829.52},{"$f":"[4]CER_EmpIndPriv!O9","v":1708.64},{"$f":"[4]CER_EmpIndPriv!P9","v":1726.14},{"$f":"[4]CER_EmpIndPriv!Q9","v":1713.27}]
["H","Hotels and Restaurants",{"$f":"[4]CER_EmpIndPriv!C10","v":149.88},{"$f":"[4]CER_EmpIndPriv!D10","v":149.25},{"$f":"[4]CER_EmpIndPriv!E10","v":146.5},{"$f":"[4]CER_EmpIndPriv!F10","v":169.63},{"$f":"[4]CER_EmpIndPriv!G10","v":176.75},{"$f":"[4]CER_EmpIndPriv!H10","v":163.13},{"$f":"[4]CER_EmpIndPriv!I10","v":206.25},{"$f":"[4]CER_EmpIndPriv!J10","v":183.25},{"$f":"[4]CER_EmpIndPriv!K10","v":149.13},{"$f":"[4]CER_EmpIndPriv!L10","v":162.63},{"$f":"[4]CER_EmpIndPriv!M10","v":190.38},{"$f":"[4]CER_EmpIndPriv!N10","v":182.25},{"$f":"[4]CER_EmpIndPriv!O10","v":168.63},{"$f":"[4]CER_EmpIndPriv!P10","v":157.5},{"$f":"[4]CER_EmpIndPriv!Q10","v":141}]
["I","Transport, Storage and Communications",{"$f":"[4]CER_EmpIndPriv!C11","v":172.38},{"$f":"[4]CER_EmpIndPriv!D11","v":148.51},{"$f":"[4]CER_EmpIndPriv!E11","v":163.01},{"$f":"[4]CER_EmpIndPriv!F11","v":168.88},{"$f":"[4]CER_EmpIndPriv!G11","v":175.88},{"$f":"[4]CER_EmpIndPriv!H11","v":210.01},{"$f":"[4]CER_EmpIndPriv!I11","v":225.26},{"$f":"[4]CER_EmpIndPriv!J11","v":256.76},{"$f":"[4]CER_EmpIndPriv!K11","v":299.01},{"$f":"[4]CER_EmpIndPriv!L11","v":318.26},{"$f":"[4]CER_EmpIndPriv!M11","v":403.01},{"$f":"[4]CER_EmpIndPriv!N11","v":343.88},{"$f":"[4]CER_EmpIndPriv!O11","v":356.38},{"$f":"[4]CER_EmpIndPriv!P11","v":319.76},{"$f":"[4]CER_EmpIndPriv!Q11","v":305.88}]
["J","Financial Intermediation",{"$f":"[4]CER_EmpIndPriv!C12","v":17.25},{"$f":"[4]CER_EmpIndPriv!D12","v":17.5},{"$f":"[4]CER_EmpIndPriv!E12","v":16},{"$f":"[4]CER_EmpIndPriv!F12","v":16.63},{"$f":"[4]CER_EmpIndPriv!G12","v":19.25},{"$f":"[4]CER_EmpIndPriv!H12","v":18.25},{"$f":"[4]CER_EmpIndPriv!I12","v":15.25},{"$f":"[4]CER_EmpIndPriv!J12","v":16},{"$f":"[4]CER_EmpIndPriv!K12","v":15.75},{"$f":"[4]CER_EmpIndPriv!L12","v":18.5},{"$f":"[4]CER_EmpIndPriv!M12","v":24.25},{"$f":"[4]CER_EmpIndPriv!N12","v":20},{"$f":"[4]CER_EmpIndPriv!O12","v":21.25},{"$f":"[4]CER_EmpIndPriv!P12","v":19.5},{"$f":"[4]CER_EmpIndPriv!Q12","v":19.75}]
["K","Real Estate, Renting and Businesss Activities",{"$f":"[4]CER_EmpIndPriv!C13","v":209.63},{"$f":"[4]CER_EmpIndPriv!D13","v":221.88},{"$f":"[4]CER_EmpIndPriv!E13","v":185.88},{"$f":"[4]CER_EmpIndPriv!F13","v":204.75},{"$f":"[4]CER_EmpIndPriv!G13","v":216.38},{"$f":"[4]CER_EmpIndPriv!H13","v":213.75},{"$f":"[4]CER_EmpIndPriv!I13","v":210.63},{"$f":"[4]CER_EmpIndPriv!J13","v":222.88},{"$f":"[4]CER_EmpIndPriv!K13","v":241},{"$f":"[4]CER_EmpIndPriv!L13","v":201.63},{"$f":"[4]CER_EmpIndPriv!M13","v":210.63},{"$f":"[4]CER_EmpIndPriv!N13","v":215},{"$f":"[4]CER_EmpIndPriv!O13","v":233.25},{"$f":"[4]CER_EmpIndPriv!P13","v":222.38},{"$f":"[4]CER_EmpIndPriv!Q13","v":221.75}]
["L","Public Administration",{"$f":"[4]CER_EmpIndPriv!C14","v":0},{"$f":"[4]CER_EmpIndPriv!D14","v":0},{"$f":"[4]CER_EmpIndPriv!E14","v":0},{"$f":"[4]CER_EmpIndPriv!F14","v":0},{"$f":"[4]CER_EmpIndPriv!G14","v":0},{"$f":"[4]CER_EmpIndPriv!H14","v":0},{"$f":"[4]CER_EmpIndPriv!I14","v":0},{"$f":"[4]CER_EmpIndPriv!J14","v":0},{"$f":"[4]CER_EmpIndPriv!K14","v":0},{"$f":"[4]CER_EmpIndPriv!L14","v":0},{"$f":"[4]CER_EmpIndPriv!M14","v":0},{"$f":"[4]CER_EmpIndPriv!N14","v":0},{"$f":"[4]CER_EmpIndPriv!O14","v":0},{"$f":"[4]CER_EmpIndPriv!P14","v":0},{"$f":"[4]CER_EmpIndPriv!Q14","v":0}]
["M","Education",{"$f":"[4]CER_EmpIndPriv!C15","v":0},{"$f":"[4]CER_EmpIndPriv!D15","v":0},{"$f":"[4]CER_EmpIndPriv!E15","v":0},{"$f":"[4]CER_EmpIndPriv!F15","v":0},{"$f":"[4]CER_EmpIndPriv!G15","v":0},{"$f":"[4]CER_EmpIndPriv!H15","v":0},{"$f":"[4]CER_EmpIndPriv!I15","v":0},{"$f":"[4]CER_EmpIndPriv!J15","v":0},{"$f":"[4]CER_EmpIndPriv!K15","v":0},{"$f":"[4]CER_EmpIndPriv!L15","v":0},{"$f":"[4]CER_EmpIndPriv!M15","v":0},{"$f":"[4]CER_EmpIndPriv!N15","v":0},{"$f":"[4]CER_EmpIndPriv!O15","v":0},{"$f":"[4]CER_EmpIndPriv!P15","v":0},{"$f":"[4]CER_EmpIndPriv!Q15","v":0}]
["N","Health and Social Work",{"$f":"[4]CER_EmpIndPriv!C16","v":8},{"$f":"[4]CER_EmpIndPriv!D16","v":6.75},{"$f":"[4]CER_EmpIndPriv!E16","v":6},{"$f":"[4]CER_EmpIndPriv!F16","v":6.75},{"$f":"[4]CER_EmpIndPriv!G16","v":8},{"$f":"[4]CER_EmpIndPriv!H16","v":11.25},{"$f":"[4]CER_EmpIndPriv!I16","v":14.75},{"$f":"[4]CER_EmpIndPriv!J16","v":20},{"$f":"[4]CER_EmpIndPriv!K16","v":27.25},{"$f":"[4]CER_EmpIndPriv!L16","v":37},{"$f":"[4]CER_EmpIndPriv!M16","v":39.25},{"$f":"[4]CER_EmpIndPriv!N16","v":56.25},{"$f":"[4]CER_EmpIndPriv!O16","v":66.75},{"$f":"[4]CER_EmpIndPriv!P16","v":46.75},{"$f":"[4]CER_EmpIndPriv!Q16","v":37}]
["O","Community, Social & Personal Service Activities",{"$f":"[4]CER_EmpIndPriv!C17","v":40.25},{"$f":"[4]CER_EmpIndPriv!D17","v":57.25},{"$f":"[4]CER_EmpIndPriv!E17","v":65.5},{"$f":"[4]CER_EmpIndPriv!F17","v":81.63},{"$f":"[4]CER_EmpIndPriv!G17","v":88.5},{"$f":"[4]CER_EmpIndPriv!H17","v":75.25},{"$f":"[4]CER_EmpIndPriv!I17","v":74.63},{"$f":"[4]CER_EmpIndPriv!J17","v":77.5},{"$f":"[4]CER_EmpIndPriv!K17","v":79.25},{"$f":"[4]CER_EmpIndPriv!L17","v":80.88},{"$f":"[4]CER_EmpIndPriv!M17","v":74},{"$f":"[4]CER_EmpIndPriv!N17","v":95},{"$f":"[4]CER_EmpIndPriv!O17","v":94},{"$f":"[4]CER_EmpIndPriv!P17","v":113.5},{"$f":"[4]CER_EmpIndPriv!Q17","v":123.38}]
["P","Private Households With Employed Persons",{"$f":"[4]CER_EmpIndPriv!C18","v":5},{"$f":"[4]CER_EmpIndPriv!D18","v":4.25},{"$f":"[4]CER_EmpIndPriv!E18","v":4.5},{"$f":"[4]CER_EmpIndPriv!F18","v":4.75},{"$f":"[4]CER_EmpIndPriv!G18","v":5.5},{"$f":"[4]CER_EmpIndPriv!H18","v":6},{"$f":"[4]CER_EmpIndPriv!I18","v":8.75},{"$f":"[4]CER_EmpIndPriv!J18","v":8.25},{"$f":"[4]CER_EmpIndPriv!K18","v":5},{"$f":"[4]CER_EmpIndPriv!L18","v":4},{"$f":"[4]CER_EmpIndPriv!M18","v":7},{"$f":"[4]CER_EmpIndPriv!N18","v":15.5},{"$f":"[4]CER_EmpIndPriv!O18","v":19},{"$f":"[4]CER_EmpIndPriv!P18","v":11.5},{"$f":"[4]CER_EmpIndPriv!Q18","v":13.75}]
["Q","Extra-Territorial Organizations and Bodies",{"$f":"[4]CER_EmpIndPriv!C19","v":0},{"$f":"[4]CER_EmpIndPriv!D19","v":0},{"$f":"[4]CER_EmpIndPriv!E19","v":0},{"$f":"[4]CER_EmpIndPriv!F19","v":0},{"$f":"[4]CER_EmpIndPriv!G19","v":0},{"$f":"[4]CER_EmpIndPriv!H19","v":0},{"$f":"[4]CER_EmpIndPriv!I19","v":0},{"$f":"[4]CER_EmpIndPriv!J19","v":0},{"$f":"[4]CER_EmpIndPriv!K19","v":0},{"$f":"[4]CER_EmpIndPriv!L19","v":0},{"$f":"[4]CER_EmpIndPriv!M19","v":0},{"$f":"[4]CER_EmpIndPriv!N19","v":0},{"$f":"[4]CER_EmpIndPriv!O19","v":0},{"$f":"[4]CER_EmpIndPriv!P19","v":0},{"$f":"[4]CER_EmpIndPriv!Q19","v":0}]
[null,"Total",{"$f":"SUM(C3:C19)","v":2524.7800000000002},{"$f":"SUM(D3:D19)","v":2717.66},2683.7800000000007,3191.5400000000004,3545.03,3796.16,3846.6600000000008,4047.4100000000008,3472.91,3712.670000000001,3937.5400000000009,4040.66,4041.4000000000005,4313.0300000000007,4204.78]
["(1) Includes Shore based fish processed and vessel support services"]
["Source: Social Security plus EPPSO 'non-reported' estimate. "]
[]
["Table 3h    Employment in private sector by industry, wage costs, FY2004-FY2011"]
[null,"(US$000)","FY1997","FY1998","FY1999","FY2000","FY2001","FY2002","FY2003","FY2004","FY2005","FY2006","FY2007","FY2008","FY2009","FY2010","FY2011"]
["A","Agriculture, Hunting and Forestry",{"$f":"[4]CER_EmpIndPriv!C24","v":17.32},{"$f":"[4]CER_EmpIndPriv!D24","v":17.32},{"$f":"[4]CER_EmpIndPriv!E24","v":17.89},{"$f":"[4]CER_EmpIndPriv!F24","v":13.71},{"$f":"[4]CER_EmpIndPriv!G24","v":1.48},{"$f":"[4]CER_EmpIndPriv!H24","v":0},{"$f":"[4]CER_EmpIndPriv!I24","v":0},{"$f":"[4]CER_EmpIndPriv!J24","v":1.8},{"$f":"[4]CER_EmpIndPriv!K24","v":6},{"$f":"[4]CER_EmpIndPriv!L24","v":1.8},{"$f":"[4]CER_EmpIndPriv!M24","v":0},{"$f":"[4]CER_EmpIndPriv!N24","v":0},{"$f":"[4]CER_EmpIndPriv!O24","v":0},{"$f":"[4]CER_EmpIndPriv!P24","v":0},{"$f":"[4]CER_EmpIndPriv!Q24","v":0}]
["B","Fisheries (1)",{"$f":"[4]CER_EmpIndPriv!C25","v":419.2},{"$f":"[4]CER_EmpIndPriv!D25","v":398.96},{"$f":"[4]CER_EmpIndPriv!E25","v":401.68},{"$f":"[4]CER_EmpIndPriv!F25","v":1374.49},{"$f":"[4]CER_EmpIndPriv!G25","v":1447.96},{"$f":"[4]CER_EmpIndPriv!H25","v":1543.22},{"$f":"[4]CER_EmpIndPriv!I25","v":1710.55},{"$f":"[4]CER_EmpIndPriv!J25","v":1966.12},{"$f":"[4]CER_EmpIndPriv!K25","v":810.01},{"$f":"[4]CER_EmpIndPriv!L25","v":1036},{"$f":"[4]CER_EmpIndPriv!M25","v":1003.01},{"$f":"[4]CER_EmpIndPriv!N25","v":1400.4},{"$f":"[4]CER_EmpIndPriv!O25","v":1959.36},{"$f":"[4]CER_EmpIndPriv!P25","v":2518.2800000000002},{"$f":"[4]CER_EmpIndPriv!Q25","v":2494.86}]
["C","Mining and Quarrying",{"$f":"[4]CER_EmpIndPriv!C26","v":0},{"$f":"[4]CER_EmpIndPriv!D26","v":0},{"$f":"[4]CER_EmpIndPriv!E26","v":0},{"$f":"[4]CER_EmpIndPriv!F26","v":0},{"$f":"[4]CER_EmpIndPriv!G26","v":0},{"$f":"[4]CER_EmpIndPriv!H26","v":0},{"$f":"[4]CER_EmpIndPriv!I26","v":0},{"$f":"[4]CER_EmpIndPriv!J26","v":0},{"$f":"[4]CER_EmpIndPriv!K26","v":0},{"$f":"[4]CER_EmpIndPriv!L26","v":0},{"$f":"[4]CER_EmpIndPriv!M26","v":0},{"$f":"[4]CER_EmpIndPriv!N26","v":0},{"$f":"[4]CER_EmpIndPriv!O26","v":0},{"$f":"[4]CER_EmpIndPriv!P26","v":0},{"$f":"[4]CER_EmpIndPriv!Q26","v":0}]
["D","Manufacturing",{"$f":"[4]CER_EmpIndPriv!C27","v":176.75},{"$f":"[4]CER_EmpIndPriv!D27","v":192.53},{"$f":"[4]CER_EmpIndPriv!E27","v":180.05},{"$f":"[4]CER_EmpIndPriv!F27","v":167.9},{"$f":"[4]CER_EmpIndPriv!G27","v":196.61},{"$f":"[4]CER_EmpIndPriv!H27","v":207.65},{"$f":"[4]CER_EmpIndPriv!I27","v":179.64},{"$f":"[4]CER_EmpIndPriv!J27","v":198.79},{"$f":"[4]CER_EmpIndPriv!K27","v":249.62},{"$f":"[4]CER_EmpIndPriv!L27","v":251.4},{"$f":"[4]CER_EmpIndPriv!M27","v":316.77999999999997},{"$f":"[4]CER_EmpIndPriv!N27","v":259.72000000000003},{"$f":"[4]CER_EmpIndPriv!O27","v":204},{"$f":"[4]CER_EmpIndPriv!P27","v":246.13},{"$f":"[4]CER_EmpIndPriv!Q27","v":202.81}]
["E","Electricity, Gas and Water Supply",{"$f":"[4]CER_EmpIndPriv!C28","v":0},{"$f":"[4]CER_EmpIndPriv!D28","v":0},{"$f":"[4]CER_EmpIndPriv!E28","v":0},{"$f":"[4]CER_EmpIndPriv!F28","v":0},{"$f":"[4]CER_EmpIndPriv!G28","v":0},{"$f":"[4]CER_EmpIndPriv!H28","v":0},{"$f":"[4]CER_EmpIndPriv!I28","v":0},{"$f":"[4]CER_EmpIndPriv!J28","v":0},{"$f":"[4]CER_EmpIndPriv!K28","v":0},{"$f":"[4]CER_EmpIndPriv!L28","v":0},{"$f":"[4]CER_EmpIndPriv!M28","v":0},{"$f":"[4]CER_EmpIndPriv!N28","v":0},{"$f":"[4]CER_EmpIndPriv!O28","v":0},{"$f":"[4]CER_EmpIndPriv!P28","v":0},{"$f":"[4]CER_EmpIndPriv!Q28","v":0}]
["F","Construction",{"$f":"[4]CER_EmpIndPriv!C29","v":2588.67},{"$f":"[4]CER_EmpIndPriv!D29","v":3603.92},{"$f":"[4]CER_EmpIndPriv!E29","v":3824.7},{"$f":"[4]CER_EmpIndPriv!F29","v":2589.64},{"$f":"[4]CER_EmpIndPriv!G29","v":3005.13},{"$f":"[4]CER_EmpIndPriv!H29","v":3369.04},{"$f":"[4]CER_EmpIndPriv!I29","v":3016.89},{"$f":"[4]CER_EmpIndPriv!J29","v":2758.59},{"$f":"[4]CER_EmpIndPriv!K29","v":2859.93},{"$f":"[4]CER_EmpIndPriv!L29","v":4043.94},{"$f":"[4]CER_EmpIndPriv!M29","v":4730.74},{"$f":"[4]CER_EmpIndPriv!N29","v":4845.24},{"$f":"[4]CER_EmpIndPriv!O29","v":4352.1899999999996},{"$f":"[4]CER_EmpIndPriv!P29","v":3912.29},{"$f":"[4]CER_EmpIndPriv!Q29","v":3736.68}]
["G","Wholesale and Retail Trade",{"$f":"[4]CER_EmpIndPriv!C30","v":7659.83},{"$f":"[4]CER_EmpIndPriv!D30","v":7303.48},{"$f":"[4]CER_EmpIndPriv!E30","v":7599.76},{"$f":"[4]CER_EmpIndPriv!F30","v":8527.41},{"$f":"[4]CER_EmpIndPriv!G30","v":9469.2000000000007},{"$f":"[4]CER_EmpIndPriv!H30","v":8997.4},{"$f":"[4]CER_EmpIndPriv!I30","v":7757.12},{"$f":"[4]CER_EmpIndPriv!J30","v":7963.73},{"$f":"[4]CER_EmpIndPriv!K30","v":8178.81},{"$f":"[4]CER_EmpIndPriv!L30","v":7859.5},{"$f":"[4]CER_EmpIndPriv!M30","v":8190.99},{"$f":"[4]CER_EmpIndPriv!N30","v":8482.52},{"$f":"[4]CER_EmpIndPriv!O30","v":8673.19},{"$f":"[4]CER_EmpIndPriv!P30","v":8896.92},{"$f":"[4]CER_EmpIndPriv!Q30","v":9187.24}]
["H","Hotels and Restaurants",{"$f":"[4]CER_EmpIndPriv!C31","v":574.79},{"$f":"[4]CER_EmpIndPriv!D31","v":548.30999999999995},{"$f":"[4]CER_EmpIndPriv!E31","v":545.65},{"$f":"[4]CER_EmpIndPriv!F31","v":619.45000000000005},{"$f":"[4]CER_EmpIndPriv!G31","v":585.04999999999995},{"$f":"[4]CER_EmpIndPriv!H31","v":605.99},{"$f":"[4]CER_EmpIndPriv!I31","v":673.63},{"$f":"[4]CER_EmpIndPriv!J31","v":587.70000000000005},{"$f":"[4]CER_EmpIndPriv!K31","v":553.04},{"$f":"[4]CER_EmpIndPriv!L31","v":637.48},{"$f":"[4]CER_EmpIndPriv!M31","v":726.92},{"$f":"[4]CER_EmpIndPriv!N31","v":615.99},{"$f":"[4]CER_EmpIndPriv!O31","v":602.63},{"$f":"[4]CER_EmpIndPriv!P31","v":591.23},{"$f":"[4]CER_EmpIndPriv!Q31","v":536.69000000000005}]
["I","Transport, Storage and Communications",{"$f":"[4]CER_EmpIndPriv!C32","v":1176.1300000000001},{"$f":"[4]CER_EmpIndPriv!D32","v":1075.42},{"$f":"[4]CER_EmpIndPriv!E32","v":1138.52},{"$f":"[4]CER_EmpIndPriv!F32","v":1230.23},{"$f":"[4]CER_EmpIndPriv!G32","v":1225.6400000000001},{"$f":"[4]CER_EmpIndPriv!H32","v":1386.31},{"$f":"[4]CER_EmpIndPriv!I32","v":1481.1},{"$f":"[4]CER_EmpIndPriv!J32","v":1594.97},{"$f":"[4]CER_EmpIndPriv!K32","v":1691.4},{"$f":"[4]CER_EmpIndPriv!L32","v":1680.63},{"$f":"[4]CER_EmpIndPriv!M32","v":1947.88},{"$f":"[4]CER_EmpIndPriv!N32","v":2010.04},{"$f":"[4]CER_EmpIndPriv!O32","v":1851},{"$f":"[4]CER_EmpIndPriv!P32","v":1887.97},{"$f":"[4]CER_EmpIndPriv!Q32","v":2063.8000000000002}]
["J","Financial Intermediation",{"$f":"[4]CER_EmpIndPriv!C33","v":197.22},{"$f":"[4]CER_EmpIndPriv!D33","v":200.54},{"$f":"[4]CER_EmpIndPriv!E33","v":204.9},{"$f":"[4]CER_EmpIndPriv!F33","v":182.75},{"$f":"[4]CER_EmpIndPriv!G33","v":226.03},{"$f":"[4]CER_EmpIndPriv!H33","v":178.32},{"$f":"[4]CER_EmpIndPriv!I33","v":164.15},{"$f":"[4]CER_EmpIndPriv!J33","v":171.73},{"$f":"[4]CER_EmpIndPriv!K33","v":191.83},{"$f":"[4]CER_EmpIndPriv!L33","v":206.79},{"$f":"[4]CER_EmpIndPriv!M33","v":216.81},{"$f":"[4]CER_EmpIndPriv!N33","v":232.33},{"$f":"[4]CER_EmpIndPriv!O33","v":232.93},{"$f":"[4]CER_EmpIndPriv!P33","v":238.03},{"$f":"[4]CER_EmpIndPriv!Q33","v":255.15}]
["K","Real Estate, Renting and Businesss Activities",{"$f":"[4]CER_EmpIndPriv!C34","v":1416.37},{"$f":"[4]CER_EmpIndPriv!D34","v":1286.5999999999999},{"$f":"[4]CER_EmpIndPriv!E34","v":1185.9100000000001},{"$f":"[4]CER_EmpIndPriv!F34","v":1269.18},{"$f":"[4]CER_EmpIndPriv!G34","v":1317.85},{"$f":"[4]CER_EmpIndPriv!H34","v":1454.66},{"$f":"[4]CER_EmpIndPriv!I34","v":1387.51},{"$f":"[4]CER_EmpIndPriv!J34","v":1103.3499999999999},{"$f":"[4]CER_EmpIndPriv!K34","v":1169.94},{"$f":"[4]CER_EmpIndPriv!L34","v":1125.19},{"$f":"[4]CER_EmpIndPriv!M34","v":1169.45},{"$f":"[4]CER_EmpIndPriv!N34","v":1214.43},{"$f":"[4]CER_EmpIndPriv!O34","v":1431.18},{"$f":"[4]CER_EmpIndPriv!P34","v":1556.24},{"$f":"[4]CER_EmpIndPriv!Q34","v":1659.7}]
["L","Public Administration",{"$f":"[4]CER_EmpIndPriv!C35","v":0},{"$f":"[4]CER_EmpIndPriv!D35","v":0},{"$f":"[4]CER_EmpIndPriv!E35","v":0},{"$f":"[4]CER_EmpIndPriv!F35","v":0},{"$f":"[4]CER_EmpIndPriv!G35","v":0},{"$f":"[4]CER_EmpIndPriv!H35","v":0},{"$f":"[4]CER_EmpIndPriv!I35","v":0},{"$f":"[4]CER_EmpIndPriv!J35","v":0},{"$f":"[4]CER_EmpIndPriv!K35","v":0},{"$f":"[4]CER_EmpIndPriv!L35","v":0},{"$f":"[4]CER_EmpIndPriv!M35","v":0},{"$f":"[4]CER_EmpIndPriv!N35","v":0},{"$f":"[4]CER_EmpIndPriv!O35","v":0},{"$f":"[4]CER_EmpIndPriv!P35","v":0},{"$f":"[4]CER_EmpIndPriv!Q35","v":0}]
["M","Education",{"$f":"[4]CER_EmpIndPriv!C36","v":0},{"$f":"[4]CER_EmpIndPriv!D36","v":0},{"$f":"[4]CER_EmpIndPriv!E36","v":0},{"$f":"[4]CER_EmpIndPriv!F36","v":0},{"$f":"[4]CER_EmpIndPriv!G36","v":0},{"$f":"[4]CER_EmpIndPriv!H36","v":0},{"$f":"[4]CER_EmpIndPriv!I36","v":0},{"$f":"[4]CER_EmpIndPriv!J36","v":0},{"$f":"[4]CER_EmpIndPriv!K36","v":0},{"$f":"[4]CER_EmpIndPriv!L36","v":0},{"$f":"[4]CER_EmpIndPriv!M36","v":0},{"$f":"[4]CER_EmpIndPriv!N36","v":0},{"$f":"[4]CER_EmpIndPriv!O36","v":0},{"$f":"[4]CER_EmpIndPriv!P36","v":0},{"$f":"[4]CER_EmpIndPriv!Q36","v":0}]
["N","Health and Social Work",{"$f":"[4]CER_EmpIndPriv!C37","v":45.58},{"$f":"[4]CER_EmpIndPriv!D37","v":41.65},{"$f":"[4]CER_EmpIndPriv!E37","v":34.6},{"$f":"[4]CER_EmpIndPriv!F37","v":40.18},{"$f":"[4]CER_EmpIndPriv!G37","v":50.91},{"$f":"[4]CER_EmpIndPriv!H37","v":96.83},{"$f":"[4]CER_EmpIndPriv!I37","v":138.47999999999999},{"$f":"[4]CER_EmpIndPriv!J37","v":202.07},{"$f":"[4]CER_EmpIndPriv!K37","v":260.13},{"$f":"[4]CER_EmpIndPriv!L37","v":449.06},{"$f":"[4]CER_EmpIndPriv!M37","v":377.04},{"$f":"[4]CER_EmpIndPriv!N37","v":337.21},{"$f":"[4]CER_EmpIndPriv!O37","v":348.98},{"$f":"[4]CER_EmpIndPriv!P37","v":405.93},{"$f":"[4]CER_EmpIndPriv!Q37","v":338.19}]
["O","Community, Social & Personal Service Activities",{"$f":"[4]CER_EmpIndPriv!C38","v":241.97},{"$f":"[4]CER_EmpIndPriv!D38","v":291.36},{"$f":"[4]CER_EmpIndPriv!E38","v":343.8},{"$f":"[4]CER_EmpIndPriv!F38","v":400.29},{"$f":"[4]CER_EmpIndPriv!G38","v":473.42},{"$f":"[4]CER_EmpIndPriv!H38","v":473.05},{"$f":"[4]CER_EmpIndPriv!I38","v":436.32},{"$f":"[4]CER_EmpIndPriv!J38","v":463.19},{"$f":"[4]CER_EmpIndPriv!K38","v":429.96},{"$f":"[4]CER_EmpIndPriv!L38","v":452.35},{"$f":"[4]CER_EmpIndPriv!M38","v":446.35},{"$f":"[4]CER_EmpIndPriv!N38","v":553.12},{"$f":"[4]CER_EmpIndPriv!O38","v":592.91999999999996},{"$f":"[4]CER_EmpIndPriv!P38","v":666.19},{"$f":"[4]CER_EmpIndPriv!Q38","v":775.17}]
["P","Private Households With Employed Persons",{"$f":"[4]CER_EmpIndPriv!C39","v":18.77},{"$f":"[4]CER_EmpIndPriv!D39","v":17.66},{"$f":"[4]CER_EmpIndPriv!E39","v":21.87},{"$f":"[4]CER_EmpIndPriv!F39","v":19.72},{"$f":"[4]CER_EmpIndPriv!G39","v":21.24},{"$f":"[4]CER_EmpIndPriv!H39","v":17.420000000000002},{"$f":"[4]CER_EmpIndPriv!I39","v":23.76},{"$f":"[4]CER_EmpIndPriv!J39","v":27.59},{"$f":"[4]CER_EmpIndPriv!K39","v":14.18},{"$f":"[4]CER_EmpIndPriv!L39","v":7.14},{"$f":"[4]CER_EmpIndPriv!M39","v":31.93},{"$f":"[4]CER_EmpIndPriv!N39","v":74.930000000000007},{"$f":"[4]CER_EmpIndPriv!O39","v":57.14},{"$f":"[4]CER_EmpIndPriv!P39","v":37.64},{"$f":"[4]CER_EmpIndPriv!Q39","v":54.43}]
["Q","Extra-Territorial Organizations and Bodies",{"$f":"[4]CER_EmpIndPriv!C40","v":0},{"$f":"[4]CER_EmpIndPriv!D40","v":0},{"$f":"[4]CER_EmpIndPriv!E40","v":0},{"$f":"[4]CER_EmpIndPriv!F40","v":0},{"$f":"[4]CER_EmpIndPriv!G40","v":0},{"$f":"[4]CER_EmpIndPriv!H40","v":0},{"$f":"[4]CER_EmpIndPriv!I40","v":0},{"$f":"[4]CER_EmpIndPriv!J40","v":0},{"$f":"[4]CER_EmpIndPriv!K40","v":0},{"$f":"[4]CER_EmpIndPriv!L40","v":0},{"$f":"[4]CER_EmpIndPriv!M40","v":0},{"$f":"[4]CER_EmpIndPriv!N40","v":0},{"$f":"[4]CER_EmpIndPriv!O40","v":0},{"$f":"[4]CER_EmpIndPriv!P40","v":0},{"$f":"[4]CER_EmpIndPriv!Q40","v":0}]
[null,"Total",{"$f":"SUM(C26:C42)","v":14532.600000000002},{"$f":"SUM(D26:D42)","v":14977.75},15499.33,16434.95,18020.52,18329.89,16969.149999999998,17039.629999999997,16414.849999999999,17751.28,19157.900000000001,20025.93,20305.519999999997,20956.849999999999,21304.720000000001]
["(1) Includes Shore based fish processed and vessel support services"]
["Source: Social Security plus EPPSO 'non-reported' estimate. Wage Costs = Gross wages and salaries as per Social Security regulations."]
[]
["Table 3i     Employment in private sector by industry, average wage and salary rates, FY2004-FY2011"]
[null,null,"FY1997","FY1998","FY1999","FY2000","FY2001","FY2002","FY2003","FY2004","FY2005","FY2006","FY2007","FY2008","FY2009","FY2010","FY2011"]
["A","Agriculture, Hunting and Forestry",{"$f":"[4]CER_EmpIndPriv!C45","v":""},{"$f":"[4]CER_EmpIndPriv!D45","v":""},{"$f":"[4]CER_EmpIndPriv!E45","v":""},{"$f":"[4]CER_EmpIndPriv!F45","v":""},{"$f":"[4]CER_EmpIndPriv!G45","v":""},{"$f":"[4]CER_EmpIndPriv!H45","v":""},{"$f":"[4]CER_EmpIndPriv!I45","v":""},{"$f":"[4]CER_EmpIndPriv!J45","v":""},{"$f":"[4]CER_EmpIndPriv!K45","v":""},{"$f":"[4]CER_EmpIndPriv!L45","v":""},{"$f":"[4]CER_EmpIndPriv!M45","v":""},{"$f":"[4]CER_EmpIndPriv!N45","v":""},{"$f":"[4]CER_EmpIndPriv!O45","v":""},{"$f":"[4]CER_EmpIndPriv!P45","v":""},{"$f":"[4]CER_EmpIndPriv!Q45","v":""}]
["B","Fisheries (1)",{"$f":"[4]CER_EmpIndPriv!C46","v":5143.5582822085889},{"$f":"[4]CER_EmpIndPriv!D46","v":4925.4320987654319},{"$f":"[4]CER_EmpIndPriv!E46","v":8926.2222222222226},{"$f":"[4]CER_EmpIndPriv!F46","v":2663.7403100775196},{"$f":"[4]CER_EmpIndPriv!G46","v":2522.5783972125437},{"$f":"[4]CER_EmpIndPriv!H46","v":2243.0523255813951},{"$f":"[4]CER_EmpIndPriv!I46","v":2007.68779342723},{"$f":"[4]CER_EmpIndPriv!J46","v":2077.2530375066031},{"$f":"[4]CER_EmpIndPriv!K46","v":3724.1839080459772},{"$f":"[4]CER_EmpIndPriv!L46","v":3880.1498127340824},{"$f":"[4]CER_EmpIndPriv!M46","v":4263.5919234856528},{"$f":"[4]CER_EmpIndPriv!N46","v":3526.3012111902908},{"$f":"[4]CER_EmpIndPriv!O46","v":3027.2074159907302},{"$f":"[4]CER_EmpIndPriv!P46","v":2369.0310442144873},{"$f":"[4]CER_EmpIndPriv!Q46","v":2346.999059266228}]
["C","Mining and Quarrying",{"$f":"[4]CER_EmpIndPriv!C47","v":""},{"$f":"[4]CER_EmpIndPriv!D47","v":""},{"$f":"[4]CER_EmpIndPriv!E47","v":""},{"$f":"[4]CER_EmpIndPriv!F47","v":""},{"$f":"[4]CER_EmpIndPriv!G47","v":""},{"$f":"[4]CER_EmpIndPriv!H47","v":""},{"$f":"[4]CER_EmpIndPriv!I47","v":""},{"$f":"[4]CER_EmpIndPriv!J47","v":""},{"$f":"[4]CER_EmpIndPriv!K47","v":""},{"$f":"[4]CER_EmpIndPriv!L47","v":""},{"$f":"[4]CER_EmpIndPriv!M47","v":""},{"$f":"[4]CER_EmpIndPriv!N47","v":""},{"$f":"[4]CER_EmpIndPriv!O47","v":""},{"$f":"[4]CER_EmpIndPriv!P47","v":""},{"$f":"[4]CER_EmpIndPriv!Q47","v":""}]
["D","Manufacturing",{"$f":"[4]CER_EmpIndPriv!C48","v":4842.4657534246571},{"$f":"[4]CER_EmpIndPriv!D48","v":4400.6857142857143},{"$f":"[4]CER_EmpIndPriv!E48","v":4558.2278481012663},{"$f":"[4]CER_EmpIndPriv!F48","v":4197.5},{"$f":"[4]CER_EmpIndPriv!G48","v":4418.2022471910113},{"$f":"[4]CER_EmpIndPriv!H48","v":4614.4444444444443},{"$f":"[4]CER_EmpIndPriv!I48","v":4435.5555555555557},{"$f":"[4]CER_EmpIndPriv!J48","v":4517.954545454545},{"$f":"[4]CER_EmpIndPriv!K48","v":3810.9923664122134},{"$f":"[4]CER_EmpIndPriv!L48","v":3744.9724415313576},{"$f":"[4]CER_EmpIndPriv!M48","v":4202.4409657734141},{"$f":"[4]CER_EmpIndPriv!N48","v":3912.6242844230196},{"$f":"[4]CER_EmpIndPriv!O48","v":4163.2653061224491},{"$f":"[4]CER_EmpIndPriv!P48","v":4997.5634517766493},{"$f":"[4]CER_EmpIndPriv!Q48","v":3938.0582524271845}]
["E","Electricity, Gas and Water Supply",{"$f":"[4]CER_EmpIndPriv!C49","v":""},{"$f":"[4]CER_EmpIndPriv!D49","v":""},{"$f":"[4]CER_EmpIndPriv!E49","v":""},{"$f":"[4]CER_EmpIndPriv!F49","v":""},{"$f":"[4]CER_EmpIndPriv!G49","v":""},{"$f":"[4]CER_EmpIndPriv!H49","v":""},{"$f":"[4]CER_EmpIndPriv!I49","v":""},{"$f":"[4]CER_EmpIndPriv!J49","v":""},{"$f":"[4]CER_EmpIndPriv!K49","v":""},{"$f":"[4]CER_EmpIndPriv!L49","v":""},{"$f":"[4]CER_EmpIndPriv!M49","v":""},{"$f":"[4]CER_EmpIndPriv!N49","v":""},{"$f":"[4]CER_EmpIndPriv!O49","v":""},{"$f":"[4]CER_EmpIndPriv!P49","v":""},{"$f":"[4]CER_EmpIndPriv!Q49","v":""}]
["F","Construction",{"$f":"[4]CER_EmpIndPriv!C50","v":6395.7257566399012},{"$f":"[4]CER_EmpIndPriv!D50","v":5904.3874307808246},{"$f":"[4]CER_EmpIndPriv!E50","v":6239.3148450244689},{"$f":"[4]CER_EmpIndPriv!F50","v":6111.2448377581122},{"$f":"[4]CER_EmpIndPriv!G50","v":6148.6035805626598},{"$f":"[4]CER_EmpIndPriv!H50","v":5297.232704402516},{"$f":"[4]CER_EmpIndPriv!I50","v":5360.9773434029321},{"$f":"[4]CER_EmpIndPriv!J50","v":5280.8109039396604},{"$f":"[4]CER_EmpIndPriv!K50","v":5132.2207267833101},{"$f":"[4]CER_EmpIndPriv!L50","v":5547.2427983539101},{"$f":"[4]CER_EmpIndPriv!M50","v":5523.3391710449496},{"$f":"[4]CER_EmpIndPriv!N50","v":5910.631290027447},{"$f":"[4]CER_EmpIndPriv!O50","v":6426.2679955703206},{"$f":"[4]CER_EmpIndPriv!P50","v":6701.9957173447538},{"$f":"[4]CER_EmpIndPriv!Q50","v":7262.7405247813413}]
["G","Wholesale and Retail Trade",{"$f":"[4]CER_EmpIndPriv!C51","v":5504.1749302980652},{"$f":"[4]CER_EmpIndPriv!D51","v":5334.3558730297837},{"$f":"[4]CER_EmpIndPriv!E51","v":5464.9370074210428},{"$f":"[4]CER_EmpIndPriv!F51","v":5493.5095054339772},{"$f":"[4]CER_EmpIndPriv!G51","v":5421.7529716235713},{"$f":"[4]CER_EmpIndPriv!H51","v":5202.2526481335863},{"$f":"[4]CER_EmpIndPriv!I51","v":4741.8347199383816},{"$f":"[4]CER_EmpIndPriv!J51","v":4554.8933590331671},{"$f":"[4]CER_EmpIndPriv!K51","v":4508.0445578662493},{"$f":"[4]CER_EmpIndPriv!L51","v":4303.8868870951846},{"$f":"[4]CER_EmpIndPriv!M51","v":4495.8751626058647},{"$f":"[4]CER_EmpIndPriv!N51","v":4636.4729546547733},{"$f":"[4]CER_EmpIndPriv!O51","v":5076.0780503792494},{"$f":"[4]CER_EmpIndPriv!P51","v":5154.2285098543571},{"$f":"[4]CER_EmpIndPriv!Q51","v":5362.4005556625634}]
["H","Hotels and Restaurants",{"$f":"[4]CER_EmpIndPriv!C52","v":3835.0013344008539},{"$f":"[4]CER_EmpIndPriv!D52","v":3673.7688442211052},{"$f":"[4]CER_EmpIndPriv!E52","v":3724.5733788395901},{"$f":"[4]CER_EmpIndPriv!F52","v":3651.7715026823089},{"$f":"[4]CER_EmpIndPriv!G52","v":3310.0424328147101},{"$f":"[4]CER_EmpIndPriv!H52","v":3714.7673634524613},{"$f":"[4]CER_EmpIndPriv!I52","v":3266.0848484848484},{"$f":"[4]CER_EmpIndPriv!J52","v":3207.0941336971355},{"$f":"[4]CER_EmpIndPriv!K52","v":3708.4422986655936},{"$f":"[4]CER_EmpIndPriv!L52","v":3919.817991760438},{"$f":"[4]CER_EmpIndPriv!M52","v":3818.2582204013029},{"$f":"[4]CER_EmpIndPriv!N52","v":3379.9176954732511},{"$f":"[4]CER_EmpIndPriv!O52","v":3573.6820257368204},{"$f":"[4]CER_EmpIndPriv!P52","v":3753.8412698412699},{"$f":"[4]CER_EmpIndPriv!Q52","v":3806.312056737589}]
["I","Transport, Storage and Communications",{"$f":"[4]CER_EmpIndPriv!C53","v":6822.8912866921928},{"$f":"[4]CER_EmpIndPriv!D53","v":7241.3978856642652},{"$f":"[4]CER_EmpIndPriv!E53","v":6984.3567879271213},{"$f":"[4]CER_EmpIndPriv!F53","v":7284.639981051635},{"$f":"[4]CER_EmpIndPriv!G53","v":6968.6149647486927},{"$f":"[4]CER_EmpIndPriv!H53","v":6601.1618494357417},{"$f":"[4]CER_EmpIndPriv!I53","v":6575.0688093758317},{"$f":"[4]CER_EmpIndPriv!J53","v":6211.9099548216236},{"$f":"[4]CER_EmpIndPriv!K53","v":5656.6670011036422},{"$f":"[4]CER_EmpIndPriv!L53","v":5280.6824608810412},{"$f":"[4]CER_EmpIndPriv!M53","v":4833.3291977866556},{"$f":"[4]CER_EmpIndPriv!N53","v":5845.178550657206},{"$f":"[4]CER_EmpIndPriv!O53","v":5193.8941579213197},{"$f":"[4]CER_EmpIndPriv!P53","v":5904.3345008756569},{"$f":"[4]CER_EmpIndPriv!Q53","v":6747.0903622335563}]
["J","Financial Intermediation",{"$f":"[4]CER_EmpIndPriv!C54","v":11433.043478260868},{"$f":"[4]CER_EmpIndPriv!D54","v":11459.428571428571},{"$f":"[4]CER_EmpIndPriv!E54","v":12806.25},{"$f":"[4]CER_EmpIndPriv!F54","v":10989.176187612749},{"$f":"[4]CER_EmpIndPriv!G54","v":11741.818181818182},{"$f":"[4]CER_EmpIndPriv!H54","v":9770.9589041095896},{"$f":"[4]CER_EmpIndPriv!I54","v":10763.934426229509},{"$f":"[4]CER_EmpIndPriv!J54","v":10733.125},{"$f":"[4]CER_EmpIndPriv!K54","v":12179.682539682541},{"$f":"[4]CER_EmpIndPriv!L54","v":11177.837837837837},{"$f":"[4]CER_EmpIndPriv!M54","v":8940.6185567010307},{"$f":"[4]CER_EmpIndPriv!N54","v":11616.5},{"$f":"[4]CER_EmpIndPriv!O54","v":10961.411764705883},{"$f":"[4]CER_EmpIndPriv!P54","v":12206.666666666668},{"$f":"[4]CER_EmpIndPriv!Q54","v":12918.987341772152}]
["K","Real Estate, Renting and Businesss Activities",{"$f":"[4]CER_EmpIndPriv!C55","v":6756.5233983685539},{"$f":"[4]CER_EmpIndPriv!D55","v":5798.6298900306465},{"$f":"[4]CER_EmpIndPriv!E55","v":6379.9763288142894},{"$f":"[4]CER_EmpIndPriv!F55","v":6198.6813186813188},{"$f":"[4]CER_EmpIndPriv!G55","v":6090.4427396247338},{"$f":"[4]CER_EmpIndPriv!H55","v":6805.4269005847955},{"$f":"[4]CER_EmpIndPriv!I55","v":6587.4281916156287},{"$f":"[4]CER_EmpIndPriv!J55","v":4950.4217516152185},{"$f":"[4]CER_EmpIndPriv!K55","v":4854.5228215767629},{"$f":"[4]CER_EmpIndPriv!L55","v":5580.4691762138573},{"$f":"[4]CER_EmpIndPriv!M55","v":5552.1530646156771},{"$f":"[4]CER_EmpIndPriv!N55","v":5648.5116279069771},{"$f":"[4]CER_EmpIndPriv!O55","v":6135.8199356913192},{"$f":"[4]CER_EmpIndPriv!P55","v":6998.1113409479276},{"$f":"[4]CER_EmpIndPriv!Q55","v":7484.5546786922205}]
["L","Public Administration",{"$f":"[4]CER_EmpIndPriv!C56","v":""},{"$f":"[4]CER_EmpIndPriv!D56","v":""},{"$f":"[4]CER_EmpIndPriv!E56","v":""},{"$f":"[4]CER_EmpIndPriv!F56","v":""},{"$f":"[4]CER_EmpIndPriv!G56","v":""},{"$f":"[4]CER_EmpIndPriv!H56","v":""},{"$f":"[4]CER_EmpIndPriv!I56","v":""},{"$f":"[4]CER_EmpIndPriv!J56","v":""},{"$f":"[4]CER_EmpIndPriv!K56","v":""},{"$f":"[4]CER_EmpIndPriv!L56","v":""},{"$f":"[4]CER_EmpIndPriv!M56","v":""},{"$f":"[4]CER_EmpIndPriv!N56","v":""},{"$f":"[4]CER_EmpIndPriv!O56","v":""},{"$f":"[4]CER_EmpIndPriv!P56","v":""},{"$f":"[4]CER_EmpIndPriv!Q56","v":""}]
["M","Education",{"$f":"[4]CER_EmpIndPriv!C57","v":""},{"$f":"[4]CER_EmpIndPriv!D57","v":""},{"$f":"[4]CER_EmpIndPriv!E57","v":""},{"$f":"[4]CER_EmpIndPriv!F57","v":""},{"$f":"[4]CER_EmpIndPriv!G57","v":""},{"$f":"[4]CER_EmpIndPriv!H57","v":""},{"$f":"[4]CER_EmpIndPriv!I57","v":""},{"$f":"[4]CER_EmpIndPriv!J57","v":""},{"$f":"[4]CER_EmpIndPriv!K57","v":""},{"$f":"[4]CER_EmpIndPriv!L57","v":""},{"$f":"[4]CER_EmpIndPriv!M57","v":""},{"$f":"[4]CER_EmpIndPriv!N57","v":""},{"$f":"[4]CER_EmpIndPriv!O57","v":""},{"$f":"[4]CER_EmpIndPriv!P57","v":""},{"$f":"[4]CER_EmpIndPriv!Q57","v":""}]
["N","Health and Social Work",{"$f":"[4]CER_EmpIndPriv!C58","v":""},{"$f":"[4]CER_EmpIndPriv!D58","v":""},{"$f":"[4]CER_EmpIndPriv!E58","v":""},{"$f":"[4]CER_EmpIndPriv!F58","v":""},{"$f":"[4]CER_EmpIndPriv!G58","v":""},{"$f":"[4]CER_EmpIndPriv!H58","v":8607.1111111111113},{"$f":"[4]CER_EmpIndPriv!I58","v":9388.4745762711864},{"$f":"[4]CER_EmpIndPriv!J58","v":10103.5},{"$f":"[4]CER_EmpIndPriv!K58","v":9546.0550458715607},{"$f":"[4]CER_EmpIndPriv!L58","v":12136.756756756757},{"$f":"[4]CER_EmpIndPriv!M58","v":9606.114649681529},{"$f":"[4]CER_EmpIndPriv!N58","v":5994.844444444444},{"$f":"[4]CER_EmpIndPriv!O58","v":5228.1647940074918},{"$f":"[4]CER_EmpIndPriv!P58","v":8682.994652406418},{"$f":"[4]CER_EmpIndPriv!Q58","v":9140.27027027027}]
["O","Community, Social & Personal Service Activities",{"$f":"[4]CER_EmpIndPriv!C59","v":6011.6770186335407},{"$f":"[4]CER_EmpIndPriv!D59","v":5089.2576419213974},{"$f":"[4]CER_EmpIndPriv!E59","v":5248.8549618320612},{"$f":"[4]CER_EmpIndPriv!F59","v":4903.711870635796},{"$f":"[4]CER_EmpIndPriv!G59","v":5349.3785310734465},{"$f":"[4]CER_EmpIndPriv!H59","v":6286.3787375415286},{"$f":"[4]CER_EmpIndPriv!I59","v":5846.4424494171244},{"$f":"[4]CER_EmpIndPriv!J59","v":5976.6451612903229},{"$f":"[4]CER_EmpIndPriv!K59","v":5425.3627760252366},{"$f":"[4]CER_EmpIndPriv!L59","v":5592.8536102868447},{"$f":"[4]CER_EmpIndPriv!M59","v":6031.7567567567576},{"$f":"[4]CER_EmpIndPriv!N59","v":5822.3157894736842},{"$f":"[4]CER_EmpIndPriv!O59","v":6307.6595744680844},{"$f":"[4]CER_EmpIndPriv!P59","v":5869.5154185022038},{"$f":"[4]CER_EmpIndPriv!Q59","v":6282.7848922029498}]
["P","Private Households With Employed Persons",{"$f":"[4]CER_EmpIndPriv!C60","v":""},{"$f":"[4]CER_EmpIndPriv!D60","v":""},{"$f":"[4]CER_EmpIndPriv!E60","v":""},{"$f":"[4]CER_EmpIndPriv!F60","v":""},{"$f":"[4]CER_EmpIndPriv!G60","v":""},{"$f":"[4]CER_EmpIndPriv!H60","v":""},{"$f":"[4]CER_EmpIndPriv!I60","v":""},{"$f":"[4]CER_EmpIndPriv!J60","v":""},{"$f":"[4]CER_EmpIndPriv!K60","v":""},{"$f":"[4]CER_EmpIndPriv!L60","v":""},{"$f":"[4]CER_EmpIndPriv!M60","v":""},{"$f":"[4]CER_EmpIndPriv!N60","v":4834.1935483870975},{"$f":"[4]CER_EmpIndPriv!O60","v":3007.3684210526317},{"$f":"[4]CER_EmpIndPriv!P60","v":""},{"$f":"[4]CER_EmpIndPriv!Q60","v":""}]
["Q","Extra-Territorial Organizations and Bodies",{"$f":"[4]CER_EmpIndPriv!C61","v":""},{"$f":"[4]CER_EmpIndPriv!D61","v":""},{"$f":"[4]CER_EmpIndPriv!E61","v":""},{"$f":"[4]CER_EmpIndPriv!F61","v":""},{"$f":"[4]CER_EmpIndPriv!G61","v":""},{"$f":"[4]CER_EmpIndPriv!H61","v":""},{"$f":"[4]CER_EmpIndPriv!I61","v":""},{"$f":"[4]CER_EmpIndPriv!J61","v":""},{"$f":"[4]CER_EmpIndPriv!K61","v":""},{"$f":"[4]CER_EmpIndPriv!L61","v":""},{"$f":"[4]CER_EmpIndPriv!M61","v":""},{"$f":"[4]CER_EmpIndPriv!N61","v":""},{"$f":"[4]CER_EmpIndPriv!O61","v":""},{"$f":"[4]CER_EmpIndPriv!P61","v":""},{"$f":"[4]CER_EmpIndPriv!Q61","v":""}]
[null,"Total",{"$f":"[4]CER_EmpIndPriv!C62","v":5755.9866602238617},{"$f":"[4]CER_EmpIndPriv!D62","v":5511.2670459145002},{"$f":"[4]CER_EmpIndPriv!E62","v":5775.1864906959572},{"$f":"[4]CER_EmpIndPriv!F62","v":5149.5359606960901},{"$f":"[4]CER_EmpIndPriv!G62","v":5083.31946415122},{"$f":"[4]CER_EmpIndPriv!H62","v":4828.5346244626153},{"$f":"[4]CER_EmpIndPriv!I62","v":4411.3984599626674},{"$f":"[4]CER_EmpIndPriv!J62","v":4210.0083757266975},{"$f":"[4]CER_EmpIndPriv!K62","v":4726.5405668445192},{"$f":"[4]CER_EmpIndPriv!L62","v":4781.2706219513166},{"$f":"[4]CER_EmpIndPriv!M62","v":4865.4489859150635},{"$f":"[4]CER_EmpIndPriv!N62","v":4956.1037058302354},{"$f":"[4]CER_EmpIndPriv!O62","v":5024.3776908991913},{"$f":"[4]CER_EmpIndPriv!P62","v":4858.9622608699674},{"$f":"[4]CER_EmpIndPriv!Q62","v":5066.7858960516369}]
["(1) Includes Shore based fish processed and vessel support services"]
["Source: Social Security plus EPPSO 'non-reported' estimate. "]

{"sheet":"Pb_Dept","index":13,"n_rows":77,"n_cols":16,"rows_kept":77,"cut":false,"hidden":false,"merged":[]}
["Table 4a    National government employment by department, FY2004-FY2012"]
[null,null,"FY991","FY00","FY01","FY02","FY03","FY2004","FY2005","FY2006","FY2007","FY2008","FY2009","FY2010","FY2011","FY20122"]
[10,"President & Cabinet",23.5,22.5,22.25,23.25,22.557381324986959,22.25,26.25,27.25,32,32.5,29.75,28.25,27.25,25.5]
[11,"Chief Secretary Office",15,13.75,13.75,12.5,12.281298904538341,17.5,20.25,21.25,24.5,25,30.5,34,27,24]
[12,"Special Appropriations",0,1,2,2,2.0052164840897237,0,2,0,0,10.25,0,0,0,0]
[13,"Council of Iroij",17.25,17,17.25,15.25,13.786515388628064,14.75,15.25,15.75,15,14.75,16.75,16.25,17.25,17.5]
[14,"Nitijela",39,35,36.75,37,38.349113197704746,41.75,45,47.75,48.5,49.5,50.75,49.5,50.25,51]
[15,"Auditor General",7,6.75,7.5,11,11.02869066249348,11,10.25,10.75,9.75,7,7.25,8,9,9]
[16,"Foreign Affairs",29.75,55.75,34,33.75,33.086071987480437,31.5,35.75,33.5,36.75,36.75,39,37.25,35.25,30]
[17,"Public Service Commission",12,11,11.75,11,11.02869066249348,13,13,13.75,14.75,15,15.25,16,16,16]
[18,"Judiciary",21.5,21.25,21.5,21.5,20.052164840897234,29.5,35.25,40,40.25,36.75,35,34,40.5,39.5]
[19,"Attorney General Office",8.5,10.25,16,17.5,24.315206051121542,25.25,25,25.75,25,22.25,22.5,23.25,24.5,27.5]
[20,"Ministry of Education 3",471.5,474.25,478,671.25,706.07576943140327,719.75,799.5,1027.75,1032.25,1067,1072.5,1086,1091.5,1118]
[30,"Health & Environment",385.75,388.5,375.75,389,436.72065727699533,479.5,529.25,534.75,539.5,528.5,497,512.75,528.75,529.5]
[40,"Transport & Communications",33.25,23.5,40.75,84,92.495174752217011,107.5,108.25,100.25,53.75,18.25,18.5,17,17.25,19.5]
[45,"R & D",61,45,32.75,32.5,31.833463745435576,26.5,25.75,27.5,29,27.25,30.5,33,32.75,33]
[50,"Internal Affairs",50.5,54,55.75,52.75,54.390845070422536,69,60.75,63.5,62.5,101.75,78.5,93.5,87.75,100.5]
[55,"Justice",157.5,170.25,152.75,143.5,162.92775169535733,167.75,168,169.75,166.25,167,171.25,172.5,161.75,154]
[60,"Finance",89.25,86.25,93,99.25,104.01864893062077,106.75,112,121,120.75,127.75,115.5,114.75,112.75,112.5]
[70,"Public Works",52.25,49.5,110.75,113.75,115.29733959311424,98.75,99.75,99,90,91,91.5,89.75,83.5,78]
[75,"Epa",0,0,0,0,0,16.25,18,19.25,19,18.5,18.5,17.25,18.25,18.5]
[80,"Compact II Capital",0,0,0,0,0,1,1.5,3,3,3,5,5,8,7]
[null,"Total",1474.5,1485.5,1522.25,1770.75,1892.25,1999.25,2150.75,2401.5,2362.5,2399.75,2345.5,2388,2389.25,2410.5]
["1) Based on last 2 quarters of FY1999. "]
["2) Temporary election staff adjusted for full time equivalent basis."]
["3) Based on first two quarters of FY2012"]
["Table 4b    National government wage costs by department, FY2004-FY2012"]
[null,"(US$'000 1)","FY19992","FY2000","FY2001","FY2002","FY2003","FY2004","FY2005","FY2006","FY2007","FY2008","FY2009","FY2010","FY2011","FY20123"]
[10,"President & Cabinet",549.10933999999997,536.81967999999995,585.82320000000004,649.88990000000001,649.14187107795237,720.49764000000005,702.26985000000002,740.48056000000008,760.12279000000001,702.03165000000001,776.64324999999997,783.80369000000007,759.73304000000007,550.29434000000003]
[11,"Chief Secretary Office",248.75310999999999,224.77045999999999,243.91977,264.20258000000001,262.36635807843737,384.54557,455.25946999999996,464.70268999999996,473.37670999999995,542.86459000000002,582.72430000000008,593.52366999999992,528.65383999999995,439.54758000000004]
[12,"Special Appropriations",0,14.748539999999998,40.788199999999996,40.999729999999992,39.676391031896529,0,13.65784,0,0,189.31807000000001,0,0,0,0]
[13,"Council of Iroij",195.23015999999998,205.17092000000002,204.19158999999999,186.93838,180.01904874864857,248.08941000000002,248.57951,251.99557999999999,248.36260999999999,239.67464000000001,267.66283999999996,248.69195000000002,263.49501000000004,254.87594000000001]
[14,"Nitijela",814.7953500000001,628.03342000000009,791.97584999999992,819.29933999999992,797.72633282722643,790.70393000000001,907.45983000000001,918.92560000000014,1022.49505,869.75979000000007,996.91918999999996,965.93042000000003,1098.79448,907.83126000000004]
[15,"Auditor General",98.023409999999984,108.67010000000001,123.67685,167.18621999999996,164.8759397092677,175.78027,164.07969,166.53811999999999,158.15242999999998,132.29278999999997,107.09792999999999,112.32202000000001,153.29786999999999,154.06988000000001]
[16,"Foreign Affairs",596.38098000000002,788.30843999999991,743.24728000000005,781.30693999999994,756.19113357152412,723.19878000000006,799.64132000000006,762.31344000000001,840.74298999999996,825.52617000000009,866.32337000000007,879.19331000000011,818.1021199999999,712.97997999999995]
[17,"Public Service Commission",269.52255999999994,266.60798,249.92717999999999,256.98633999999998,258.46210307398536,330.72909999999996,323.44458000000003,333.98054000000002,341.88046999999995,346.33328999999998,341.67209000000003,370.47057000000007,372.28421000000003,372.66217999999998]
[18,"Judiciary",358.93203000000005,344.63690000000003,375.97762999999998,479.83906000000002,479.46081737026105,546.62344000000007,520.36940000000004,529.31988999999999,577.63553000000002,574.22077999999999,516.02427,457.07997999999998,517.00211999999999,525.05485999999996]
[19,"Attorney General Office",170.76706000000001,263.02780999999999,320.55338,356.75097999999997,441.99168663622021,458.64249000000007,473.98408999999998,479.32686999999999,461.68506000000002,424.19690000000003,421.84613999999993,443.30851999999999,522.99238000000003,551.09821999999997]
[20,"Ministry of Education 3",3882.8309100000001,4086.9311000000002,4289.5059000000001,5775.33565,5952.73903336688,8015.4550899999995,8009.8299900000002,10444.432060000001,10500.015160000001,10857.323779999999,11139.336519999999,11405.256820000001,11631.70873,12311.67398]
[30,"Health & Environment",3948.3736600000002,4054.0690099999997,4145.1553000000004,4501.92299,5026.3830169371677,5971.0916699999998,6704.4918800000005,6805.0046900000007,7092.65787,7249.1436899999999,7027.07816,7109.81646,7240.2263899999989,7568.0832199999995]
[40,"Transport & Communications",487.76801,428.14845999999994,494.22682000000003,918.60221000000001,1093.9782526373021,1412.2107100000001,1398.3103600000002,1240.7994300000003,722.97228000000007,324.29111999999998,334.39593000000002,316.39356000000004,312.24260000000004,364.94433999999995]
[45,"R & D",635.23240999999996,444.58326,386.58976000000001,431.31,415.1825304760232,360.92971999999997,319.65667000000002,368.55113,397.94910999999996,362.97914000000003,437.89545000000004,474.64133999999996,502.03,540.5521]
[50,"Internal Affairs",549.15468999999996,589.40857999999992,676.89357000000007,704.25446999999997,688.82752382523711,1074.1849499999998,894.76377999999988,957.6158099999999,853.50350000000003,968.12900000000002,1081.4084399999999,1199.9165500000001,1234.97426,1258.37592]
[55,"Justice",1507.3207500000001,1930.9134299999998,1728.4461200000001,1630.0311000000002,1825.2201564476193,2147.0332100000001,2156.7267400000001,2123.5107199999998,2059.5423100000003,2123.5128600000003,2224.8993100000002,2228.2938100000001,2061.1762899999999,2015.0801800000002]
[60,"Finance",1266.3921699999999,1259.14852,1329.40527,1414.8371200000001,1471.7407504938583,1641.19922,1848.1625499999998,1933.2232200000001,1914.8669400000001,2020.9360699999997,1837.6696299999999,1917.4096199999999,1944.8151799999998,1999.4022600000001]
[70,"Public Works",458.64305999999999,434.40161000000001,1172.2967100000001,1229.6332100000002,1267.0873836904923,1172.36844,1156.3680899999999,1200.1448500000001,1117.22783,1165.72594,1174.1326099999999,1105.7717799999998,1038.9940100000001,1054.1001200000001]
[75,"Epa",0,0,0,0,0,223.42248999999998,273.77244000000002,287.89137000000005,282.44846999999999,294.99789000000004,286.52767,280.82623999999998,304.15186,305.69916000000001]
[80,"Compact II Capital",0,0,0,0,0,41.536799999999992,51.225349999999999,98.325310000000002,96.306080000000009,91.271850000000001,132.02500000000001,133.93210999999999,161.80958000000001,165.79694000000001]
[null,"Total",16037.229660000001,16608.398219999999,17902.600380000003,20609.326220000003,21771.070329999999,26438.24293,27422.053430000011,30107.081879999998,29921.943189999998,30304.530009999999,30552.2821,31026.582419999995,31466.483970000001,32052.122459999995]
["1) Sum of gross galary and wages, does not include benefits."]
["2) Based on last 2 quarters of FY1999. "]
["3) Based on first two quarters of FY2012"]
["Table 4c    National government average wage and salary rates by department, FY2004-FY2012"]
[null,"(US$ per annum)","FY19991","FY2000","FY2001","FY2002","FY2003","FY2004","FY2005","FY2006","FY2007","FY2008","FY2009","FY2010","FY2011","FY20122"]
[10,"President & Cabinet",23366.354893617023,23858.65244444444,26329.132584269664,27952.253763440862,28777.359469420931,32381.916404494383,26753.13714285714,27173.598532110096,23753.837187500001,21600.973846153844,26105.655462184874,27745.263362831862,27880.111559633027,21580.170196078434]
[11,"Chief Secretary Office",16583.540666666668,16346.942545454545,17739.619636363634,21136.206400000003,21363.078947739348,21974.032571428568,22481.949135802468,21868.36188235294,19321.498367346936,21714.583600000002,19105.714754098364,17456.57852941176,19579.771851851849,18314.482500000002]
[12,"Special Appropriations","",14748.54,20394.099999999999,20499.864999999998,19786.587307009791,"",6828.92,"","",18470.055609756098,"","","",""]
[13,"Council of Iroij",11317.690434782608,12068.877647058825,11837.193623188405,12258.254426229507,13057.617800734402,16819.621016949153,16300.295737704917,15999.719365079365,16557.507333333335,16249.128135593221,15979.871044776117,15304.12,15275.073043478264,14564.339428571429]
[14,"Nitijela",20892.188461538462,17943.812000000002,21550.363265306121,22143.225405405403,20801.689173740047,18939.016287425151,20165.773999999998,19244.515183246076,21082.372164948454,17570.90484848485,19643.727881773397,19513.745858585859,21866.556815920398,17800.61294117647]
[15,"Auditor General",14003.344285714282,16099.274074074074,16490.246666666666,15198.747272727269,14949.729279286074,15980.024545454546,16007.774634146341,15491.918139534884,16220.762051282047,18898.969999999994,14772.128275862067,14040.252500000001,17033.096666666665,17118.875555555558]
[16,"Foreign Affairs",20046.41949579832,14140.061704035872,21860.214117647061,23149.83525925926,22855.270757364677,22958.69142857143,22367.589370629372,22755.625074626867,22877.360272108843,22463.297142857144,22213.419743589748,23602.504966442957,23208.570780141839,23765.999333333333]
[17,"Public Service Commission",22460.21333333333,24237.089090909092,21270.39829787234,23362.394545454546,23435.429552210288,25440.7,24880.352307692308,24289.493818181822,23178.336949152537,23088.885999999999,22404.727213114758,23154.410625000004,23267.763125000001,23291.38625]
[18,"Judiciary",16694.513023255815,16218.207058823531,17487.331627906977,22318.095813953492,23910.676037949805,18529.608135593222,14762.252482269505,13232.99725,14351.193291925465,15625.055238095238,14743.550571428572,13443.52882352941,12765.484444444444,13292.528101265822]
[19,"Attorney General Office",20090.242352941179,25661.249756097561,20034.58625,20385.770285714283,18177.583431000094,18164.059009900993,18959.363600000001,18614.635728155339,18467.402400000003,19065.029213483147,18748.71733333333,19067.033118279567,21346.627755102039,20039.935272727271]
[20,"Ministry of Education 3",8235.0602545068923,8617.6723247232476,8973.8617154811727,8603.8519925512101,8430.7368855902951,11136.443334491143,10018.549080675422,10162.42477256142,10171.969154759023,10175.561180880974,10386.327757575757,10502.078103130756,10656.627329363262,11012.230751341682]
[30,"Health & Environment",10235.576565132858,10435.184066924066,11031.684098469728,11573.066812339333,11509.377752536959,12452.745922836288,12667.910968351442,12725.58146797569,13146.724504170528,13716.449744560075,14138.990261569417,13866.04867869332,13693.099555555553,14292.886156751651]
[40,"Transport & Communications",14669.714586466165,18219.083404255318,12128.265521472393,10935.740595238096,11827.408895306515,13136.843813953488,12917.416720554273,12377.051670822946,13450.647069767443,17769.376438356161,18075.455675675676,18611.385882352944,18101.020289855074,18715.094358974358]
[45,"R & D",10413.64606557377,9879.6280000000006,11804.267480916033,13271.076923076922,13042.329725603735,13619.989433962264,12413.851262135922,13401.859272727273,13722.383103448276,13320.335412844039,14357.22786885246,14383.070909090908,15329.16030534351,16380.366666666667]
[50,"Internal Affairs",10874.350297029701,10914.973703703701,12141.58869955157,13350.795639810427,12664.401939947391,15567.897826086954,14728.621893004114,15080.563937007872,13656.056,9514.7813267813272,13775.903694267514,12833.3320855615,14073.780740740742,12521.153432835821]
[55,"Justice",9570.2904761904774,11341.635418502203,11315.522880523731,11359.101742160281,11202.635140147395,12799.005722801789,12837.659166666666,12509.636053019145,12388.224421052633,12715.645868263475,12992.112759124089,12917.64527536232,12742.975517774343,13084.936233766235]
[60,"Finance",14189.26801120448,14598.823420289855,14294.680322580645,14255.285843828717,14148.816251934712,15374.231569086651,16501.451339285712,15977.051404958678,15858.111304347827,15819.460430528374,15910.559567099566,16709.45202614379,17248.915121951217,17772.464533333336]
[70,"Public Works",8777.8576076555019,8775.7901010101014,10585.071873589164,10809.962285714286,10989.736520912447,11872.085468354429,11592.662556390977,12122.675252525254,12413.642555555556,12810.175164835166,12832.05038251366,12320.576935933144,12443.042035928145,13514.104102564103]
[75,"Epa","","","","","",13749.076307692307,15209.58,14955.395844155846,14865.708947368419,15945.831891891894,15487.982162162161,16279.782028985504,16665.855342465755,16524.278918918921]
[80,"Compact II Capital","","","","","",41536.800000000003,34150.23333333333,32775.103333333333,32102.026666666668,30423.95,26405,26786.421999999999,20226.197500000002,23685.277142857143]
[null,"Total",10876.384984740591,11180.342120498148,11760.617756610283,11638.755453903714,11505.38794028273,13224.080495185694,12749.995782866448,12536.781961274202,12665.372778835979,12628.202941973123,13025.914346621188,12992.706206030149,13170.02572773883,13296.877187305538]
["1) Based on last 2 quarters of FY99. "]
["2) Based on first two quarters of FY2012"]

{"sheet":"Pb_Fnd","index":14,"n_rows":114,"n_cols":8,"rows_kept":114,"cut":false,"hidden":false,"merged":[[112,0,112,7],[113,0,113,7],[0,0,0,7],[38,0,38,7],[76,0,76,7],[36,0,36,7],[37,0,37,7],[74,0,74,7],[75,0,75,7]]}
["Table 4d    National government employment, by fund, FY2004 - FY2012 Qtr 1"]
[null,null,null,"Employment numbers 1"]
["Fund","General Fund","Compact II","Special Revenue","Federal Grant","ROC","UNDP","Total "]
["2004q1",855,892,67,166,36,0,2016]
["2004q2",804,881,71,167,36,0,1959]
["2004q3",817,891,70,164,36,2,1980]
["2004q4",838,925,73,169,35,2,2042]
["2005q1",870,938,74,176,34,1,2093]
["2005q2",863,936,74,179,33,2,2087]
["2005q3",871,934,76,182,33,2,2098]
["2005q4",861,1117,71,243,30,3,2325]
["2006q1",881,1207,74,183,30,1,2376]
["2006q2",890,1202,78,210,31,3,2414]
["2006q3",851,1158,79,270,30,3,2391]
["2006q4",858,1184,78,271,28,6,2425]
["2007q1",897,1110,79,283,27,4,2400]
["2007q2",893,1122,79,289,27,5,2415]
["2007q3",812,1103,80,284,26,6,2311]
["2007q4",816,1117,78,283,26,4,2324]
["2008q1",998,1128,93,234,26,4,2483]
["2008q2",859,1152,88,233,26,5,2363]
["2008q3",866,1139,82,225,73,5,2390]
["2008q4",908,1120,84,220,25,6,2363]
["2009q1",911,1099,81,216,27,6,2340]
["2009q2",927,1107,51,218,31,5,2339]
["2009q3",932,1101,56,220,27,7,2343]
["2009q4",930,1119,52,224,26,9,2360]
["2010q1",925,1117,48,227,26,9,2352]
["2010q2",970,1128,43,229,26,10,2406]
["2010q3",931,1129,40,230,26,7,2363]
["2010q4",942,1144,51,233,26,8,2404]
["2011q1",950,1134,54,238,27,8,2411]
["2011q2",934,1129,62,233,26,8,2392]
["2011q3",925,1131,61,234,26,8,2385]
["2011q4",928,1125,36,232,24,8,2353]
["2012q1",927,1165,32,234,31,14,2403]
["1) For 2008 Q1, Q2 and Q3, temporary election staff are adjusted for full time equivalent basis"]
["2) Sum of gross galary and wages, does not include benefits.Quarter on quarter changes may reflect the number of pay days per quarter"]
["Table 4e    National government wage costs,  by fund, FY2004 - FY2012 Qtr 1"]
[null,null,null,"Wage costs $US000 2"]
["Fund","General Fund","Compact II","Special Revenue","Federal Grant","ROC","UNDP","Total "]
["2004q1",3215.4177400000003,3086.5689900000002,268.16109,448.13134000000002,106.71592,0,7124.9950799999997]
["2004q2",2669.2581600000003,2303.1975299999999,237.80848999999998,351.25746000000004,99.601649999999992,0,5661.1232900000005]
["2004q3",3132.54801,2737.3441699999998,294.49919,423.08343000000002,100.84128999999999,10.94069,6699.2567799999997]
["2004q4",3286.57213,2824.8061299999999,295.92051000000004,437.99958000000004,97.535269999999997,10.03416,6952.8677799999996]
["2005q1",2962.36706,2566.3947200000002,261.74169000000001,413.89364,82.506509999999992,2.8491999999999997,6289.7528200000006]
["2005q2",3015.9016900000001,2559.8433,224.00292000000002,412.54908,80.58032,12.557919999999999,6305.43523]
["2005q3",3481.3203800000001,3005.2273399999999,262.47726,482.89053000000001,94.60560000000001,8.8810900000000004,7335.4021999999995]
["2005q4",3445.8000200000001,3104.0189700000001,254.60389000000001,597.25967000000003,83.750749999999996,6.0298800000000004,7491.4631800000006]
["2006q1",3007.52043,3195.18984,226.50785999999999,446.02941999999996,75.732559999999992,3.4615200000000002,6954.4416299999993]
["2006q2",3521.4401600000001,3676.0534500000003,251.66004000000001,529.30961000000002,84.367519999999999,7.4458299999999999,8070.2766099999999]
["2006q3",2965.9188100000001,3162.6769300000001,233.67214000000001,561.17696999999998,70.846220000000002,8.4285899999999998,7002.7196600000007]
["2006q4",3458.27718,3603.2083399999997,268.24840999999998,650.40038000000004,81.498779999999996,18.01089,8079.6439799999998]
["2007q1",3125.2990399999999,2959.9853399999997,241.02132,635.90581999999995,68.806460000000001,9.2495100000000008,7040.2674899999984]
["2007q2",3626.1417700000002,3453.4493299999999,276.78452000000004,750.19216000000006,81.888809999999992,15.73072,8204.1873099999993]
["2007q3",2928.9106099999999,2951.6732099999999,243.13489999999999,653.05710999999997,65.783360000000002,12.92342,6855.48261]
["2007q4",3370.0358200000001,3331.7028999999998,287.25900000000001,742.03994999999998,78.171979999999991,12.79613,7822.0057799999995]
["2008q1",3120.4550099999997,3066.7860299999998,274.91497999999996,548.21944999999994,69.141229999999993,12.407680000000001,7091.9243799999986]
["2008q2",3444.3467700000001,3603.8857499999999,262.18901,630.79335000000003,73.360320000000002,15.21294,8029.7881399999997]
["2008q3",3100.0673500000003,3080.5163900000002,218.83098000000001,525.91104000000007,126.50683000000001,18.31513,7070.1477199999999]
["2008q4",3772.30825,3412.4239700000003,250.20089999999999,573.62594999999999,79.706869999999995,24.403830000000003,8112.6697699999995]
["2009q1",3293.1868599999998,2950.7159900000001,163.16629,498.24759,72.844759999999994,16.609950000000001,6994.7714400000004]
["2009q2",3897.9078300000001,3498.6828300000002,182.56854000000001,608.07037000000003,105.28952000000001,17.254860000000001,8309.7739499999989]
["2009q3",3316.93318,3008.0668900000001,165.17222000000001,524.6956899999999,71.127549999999999,25.93028,7111.9258099999997]
["2009q4",3836.1799100000003,3412.6931199999999,143.37985,616.75693999999999,86.288600000000002,40.512480000000004,8135.8109000000013]
["2010q1",3498.556,3161.24757,116.56460000000001,596.63765000000001,80.750910000000005,38.097709999999999,7491.8544399999992]
["2010q2",3883.3609100000003,3467.3010099999997,140.21010000000001,644.18506000000002,83.531840000000003,42.195209999999996,8260.78413]
["2010q3",3274.9931000000001,3044.2925399999999,118.52095,572.65671999999995,74.461780000000005,30.461580000000001,7115.3866699999999]
["2010q4",3789.3763300000001,3411.74854,143.66460000000001,659.24427000000003,81.24991,31.170830000000002,8116.4544799999994]
["2011q1",4166.8063700000002,3747.4975299999996,158.30347,740.48203000000001,93.620260000000002,34.139589999999998,8940.8492499999993]
["2011q2",3286.5597400000001,3034.8719000000001,135.0806,604.71650999999997,71.802679999999995,26.98366,7160.0150900000008]
["2011q3",3801.8065000000001,3521.1983500000001,154.23445000000001,721.92196999999999,87.813639999999992,33.537839999999996,8320.5127500000017]
["2011q4",3300.8161700000001,2916.1291699999997,87.387199999999993,614.16594999999995,65.676789999999997,29.022130000000001,7013.1974100000007]
["2012q1",3914.9952799999996,3914.6865699999998,96.659360000000007,777.01493000000005,102.07155999999999,35.909819999999996,8841.3375199999991]
["1) For 2008 Q1, Q2 and Q3, temporary election staff are adjusted for full time equivalent basis"]
["2) Sum of gross galary and wages, does not include benefits.Quarter on quarter changes may reflect the number of pay days per quarter"]
["Table 4f     National government  wage rates, by fund, FY2004 - FY2012 Qtr 1"]
[null,null,null," Average wage rates (US$)"]
["Fund","General Fund","Compact II","Special Revenue","Federal Grant","ROC","UNDP","Total "]
["2004q1",15042.890011695908,13841.116547085203,16009.617313432838,10798.345542168676,11857.324444444444,"",14136.894999999999]
["2004q2",13279.891343283583,10457.196503972758,13397.661408450704,8413.3523353293422,11066.849999999999,"",11559.210393057683]
["2004q3",15336.832362301102,12288.862716049382,16828.525142857143,10319.108048780488,11204.587777777777,21881.38,13533.852080808079]
["2004q4",15687.695131264916,12215.377859459459,16214.822465753425,10366.853964497042,11146.887999999999,20068.32,13619.721410381977]
["2005q1",13620.078436781609,10944.113944562901,14148.199459459458,9406.6736363636373,9706.6482352941166,11396.8,12020.550062111803]
["2005q2",13978.686859791425,10939.501282051282,12108.265945945946,9218.9738547486031,9767.3115151515158,25115.84,12085.165749880211]
["2005q3",15987.69405281286,12870.352633832976,13814.592631578947,10612.978681318682,11467.345454545455,17762.18,13985.514204003812]
["2005q4",16008.362462253195,11115.555846016114,14343.881126760565,9831.4348971193413,11166.766666666666,8039.84,12888.538804301075]
["2006q1",13655.030329171395,10588.864424192214,12243.668108108106,9749.2769398907094,10097.674666666666,13846.08,11707.814191919191]
["2006q2",15826.697348314607,12233.122961730449,12905.643076923077,10082.087809523809,10886.131612903226,9927.7733333333326,13372.455028997514]
["2006q3",13940.863971797886,10924.618065630399,11831.500759493672,8313.7328888888896,9446.1626666666671,11238.12,11715.131175240487]
["2006q4",16122.504335664335,12173.001148648647,13756.328717948718,9600.0056088560887,11642.682857142858,12007.26,13327.247802061855]
["2007q1",13936.67353400223,10666.613837837836,12203.611139240506,8988.0681272084803,10193.54962962963,9249.51,11733.779149999997]
["2007q2",16242.516326987683,12311.762317290553,14014.40607594937,10383.282491349481,12131.675555555556,12584.576000000001,13588.716041407868]
["2007q3",14428.131083743843,10704.163952855846,12156.744999999999,9197.9874647887318,10120.516923076924,8615.6133333333346,11865.82883600173]
["2007q4",16519.783431372547,11930.896687555953,14731.23076923077,10488.197173144876,12026.458461538461,12796.13,13463.0047848537]
["2008q1",12506.833707414828,10875.127765957446,11824.300215053763,9371.2726495726492,10637.112307692307,12407.68,11424.767426500201]
["2008q2",16038.867380675203,12513.492187499998,11917.682272727272,10829.070386266094,11286.203076923077,12170.351999999999,13592.531764705882]
["2008q3",14319.017782909932,10818.319192273926,10674.681951219514,9349.5296000000017,6931.8810958904114,14652.103999999999,11832.883213389121]
["2008q4",16618.098017621149,12187.228464285716,11914.328571428572,10429.562727272727,12753.099199999999,16269.220000000001,13732.830757511638]
["2009q1",14459.656904500549,10739.639636032758,8057.5945679012357,9226.8072222222218,10791.816296296294,11073.300000000001,11956.874256410258]
["2009q2",16819.451262135924,12642.033712737128,14319.101176470589,11157.254495412844,13585.744516129032,13803.888000000001,14210.814792646428]
["2009q3",14235.764721030042,10928.490063578565,11798.015714285715,9539.9216363636351,10537.414814814814,14817.302857142859,12141.572018779343]
["2009q4",16499.698537634409,12199.081751563896,11029.219230769231,11013.516785714286,13275.169230769232,18005.546666666669,13789.510000000002]
["2010q1",15128.89081081081,11320.492641002686,9713.716666666669,10513.438766519825,12423.216923076923,16932.315555555553,12741.249047619047]
["2010q2",16013.859422680414,12295.393652482267,13042.800000000001,11252.140786026201,12851.052307692309,16878.083999999999,13733.639451371571]
["2010q3",14070.861868958109,10785.801736049601,11852.095000000001,9959.247304347824,11455.658461538462,17406.617142857143,12044.666390181972]
["2010q4",16090.769978768578,11929.1906993007,11267.811764705883,11317.498197424893,12499.986153846154,15585.415000000001,13504.915940099832]
["2011q1",17544.447873684214,13218.686172839505,11726.182962962965,12445.076134453782,13869.668148148148,17069.794999999998,14833.428867689754]
["2011q2",14075.202312633834,10752.424800708592,8714.8774193548379,10381.399313304721,11046.566153846154,13491.83,11973.269381270904]
["2011q3",16440.244324324325,12453.398231653404,10113.73442622951,12340.546495726496,13509.790769230769,16768.919999999998,13954.738364779876]
["2011q4",14227.655905172414,10368.459271111111,9709.688888888888,10589.068103448275,10946.131666666666,14511.065000000001,11922.137543561412]
["2012q1",16893.183516720601,13440.983931330471,12082.42,13282.306495726496,13170.52387096774,10259.948571428569,14717.166075738658]
["1) For 2008 Q1, Q2 and Q3, temporary election staff are adjusted for full time equivalent basis"]
["2) Sum of gross galary and wages, does not include benefits.Quarter on quarter changes may reflect the number of pay days per quarter"]

{"sheet":"Real_Cp&Fsh","index":15,"n_rows":80,"n_cols":11,"rows_kept":80,"cut":false,"hidden":false,"merged":[[22,0,23,0],[22,1,22,3],[22,8,23,8],[22,9,22,10],[22,4,23,4],[22,5,23,5],[64,2,64,5],[45,2,45,5],[33,0,34,0],[33,1,33,3],[33,9,33,10],[33,8,34,8],[46,8,46,9],[45,8,45,9],[60,8,60,9]]}
["Table 5a    Copra production, average producer price and income to producers:  1951-2011"]
[null,"Total Production (Short Tons)1","Average Producer Price Per S.Ton","Total Producer Income ($,000)"]
[1951,4980,84,418]
[1961,6060,126,764]
[1971,5344,154,823]
[1981,5760,171,985]
[1991,4213,155,653]
[2001,5256,187,949]
[2002,2653,180,478]
[2003,4283,240,1027]
[2004,4868,240,1186]
[2005,4908,240,1178]
[2006,4646,240,1115]
[2007,6053,299,1810]
[2008,7182,439,3152.8980000000001]
[2009,6567,440,2889]
[2010,5405,379,2048]
[2011,4036,460,1857]
["1 Short Ton=0.984, Metric Ton=907.2 Kgs."]
["Source: Tobolar Processing Plant and EPPSO"]
[]
["Table 5b    Tuna loining plant achievements, Majuro:  2008 to 2011"]
["Calendar Year","Employment",null,null,"Employment Cost","Local Purchases","Fish processed","Exports","Export Value  ($ million)","Animal feed produced"]
[null,"Daily average","Total persons ","Total Person days",null,null,"(M. Tonne)","(M.Tonne)",null,"(M.Tonne)","($ million)"]
["2008 1",187,520,19124,1219097.8700000001,568900.53,425,{"$f":"149+24","v":173},0.52500000000000002,28]
[2009,420,1798,48294,1997635.81,819398.68,2990,1231.2,1.506,241.11,0.2061036]
[2010,473,3072,102514,2173480,1486829,3919,1380,4.9829999999999997,418,0.314]
[2011,251,7067,60235,1933638,1334382.74,2817,2098,8.4719999999999995,300,0.22500000000000001]
["1) Plant reopened  by Pan Pacific Foods during 2008."]
["Source: Pan Pacific Foods Tuna Loining Plant, Majuro"]
[]
[]
["Table 5c    Tuna loining plant achievements, Majuro:  FY1999 to FY2003"]
["Fiscal Year","Number of employees",null,null,null,null,"Fish processed",null,"Export Value  ($ million)","Animal feed produced"]
[null,"Male","Female","Total",null,null,"(Short Tons)",null,null,"(S.Tons)","($ million)"]
["FY1999",20,80,{"$f":"B36+C36","v":100},null,null,300,null,0.06,50,1.4999999999999999E-2]
["FY2000",60,240,{"$f":"B37+C37","v":300},null,null,10000,null,2.5,1600,0.48]
["FY2001",80,320,{"$f":"B38+C38","v":400},null,null,9700,null,2.4500000000000002,1400,0.42]
["FY2002",100,400,{"$f":"B39+C39","v":500},null,null,10200,null,2.5499999999999998,1750,0.52500000000000002]
["FY2003",110,420,{"$f":"B40+C40","v":530},null,null,12400,null,3.35,1300,0.4]
["FY2004 1","n.a.","n.a.","n.a.",null,null,"n.a.",null,"n.a.","n.a.","n.a."]
["1) Loining plant operated by PM&O was closed down towards the end of year 2004."]
["Source: PM&O Tuna Loining Plant, Majuro"]
[]
["Table 5d    Total fish catch in RMI EEZ, by method, and fishing license fees recieved:  1998-2011"]
[null,null,"Method of catch (metric tons)",null,null,null,null,"Fishing license","of which"]
[null,null,"Long Line","Purse-Seine","Pole and Line","Total",null,"Fees (US $)","Vessel Day Scheme"]
[1998,null,2146.5,65551.3,18392,{"$f":"SUM(C48:E48)","v":86089.8},null,3843000]
[1999,null,4828.6000000000004,23742.9,3943.8,{"$f":"SUM(C49:E49)","v":32515.3},null,4789400]
[2000,null,2110.1,20403.099999999999,8207.5,30720.699999999997,null,2750699.9999999995]
[2001,null,4176.3999999999996,36324.400000000001,16242.5,56743.3,null,898400]
[2002,null,2090,28915,7316.3,38321.300000000003,null,1086018]
[2003,null,3100,3381,94,6575,null,1178802]
[2004,null,2232,16425,1171,{"$f":"SUM(C54:E54)","v":19828},null,855340]
[2005,null,4526,19637,655,24818,null,1354000]
[2006,null,4768,14618,987,20373,null,1614222]
[2007,null,3836,9580,4400,17816,null,751799]
[2008,null,4473,16177,2467,23117,null,1730986.0000000002]
[2009,null,4930,15614,419,{"$f":"SUM(C59:E59)","v":20963},null,1382000]
[2010,null,6183,18248,4719,29150,null,1029152.0000000001]
["2011 1",null,4812,28598,293,33703,null,2473445,1064500]
[" 1) 2011 data are provisional."]
[]
["Table 5e    Total fish catch by Marshall Islands and domestically based vessels:  2001-2011"]
[null,null,"Method of catch (metric tons)  1"]
[null,null,null,"Domestic based Long Line",null,"Marshall Islands Purse-Seine"]
[2001,null,null,"n.a.",null,35774]
[2002,null,null,"n.a.",null,38952]
[2003,null,null,"n.a.",null,37875]
[2004,null,null,2016,null,46672]
[2005,null,null,3175,null,56164]
["2006",null,null,4543,null,42689]
[2007,null,null,3683,null,59485]
[2008,null,null,4473,null,32878]
[2009,null,null,4930,null,43439]
[2010,null,null,5542,null,56834]
["2011 2",null,null,4343,null,90182]
["1) Includes fish caught outside RMI EEZ"]
["2) 2010 data are provisional."]
["Source: Marshall Islands Marine Resources Authority"]

{"sheet":"Real_trsm","index":16,"n_rows":39,"n_cols":15,"rows_kept":39,"cut":false,"hidden":false,"merged":[]}
["Table 5f     Visitors to Majuro, by year and purpose of visit: 2004-2011"]
["Purpose",1991,1996,null,2001,"2002**","2003**",2004,2005,"2006 1",2007,2008,2009,2010,2011]
["Transit/Stop Over",1633,1447,null,676,997,1988,1779,1590,965,1415,1325,773,172,313]
["Business",2271,2513,null,1892,2165,2245,2999,3061,2033,2218,2147,2119,2257,2031]
["Holiday/Vacation",947,1113,null,1483,1445,1380,2683,2727,1255,2060,1385,1430,934,1123]
["Visiting Friends/Relatives",606,634,null,662,763,769,810,931,661,718,587,511,562,498]
["Other/Not Stated",415,409,null,731,632,813,736,864,866,548,{"$f":"572+6","v":578},539,638,594]
["Total",{"$f":"SUM(B3:B7)","v":5872},{"$f":"SUM(C3:C7)","v":6116},null,{"$f":"SUM(E3:E7)","v":5444},6002,7195,9007,9173,5780,6959,6022,5372,4563,4559]
["Memo: Total excluding Transit",{"$f":"B8-B3","v":4239},{"$f":"C8-C3","v":4669},null,4768,5005,5207,7228,7583,4815,5544,4697,4599,4391,4246]
["** Does not include those who arrived at Kwajalein airport"]
[]
[]
["Table 5g    Length of stay, visitors to Majuro, by year and purpose of visit: 2004-2011"]
["Purpose",null,null,null,2001,2002,2003,2004,2005,"2006 1",2007,2008,2009,2010,2011]
["Transit/Stop Over",null,null,null,1.5,1.1000000000000001,0.8,0.7,0.9,2.4,1.1399999999999999,1.0543396226415094,1.1642949547218628,6.9476744186046515,2.1054313099041533]
["Business",null,null,null,6.2,7.9,6.8,4.8,6.4,6.3,5.41,4.7908709827666511,5.2505899008966495,5.988037217545414,8.3559822747415069]
["Holiday/Vacation",null,null,null,5.4,5.4,6.2,3.7,5.6,6.6,4.92,4.0483754512635377,4.3265734265734261,6.8211991434689505,6.8869100623330368]
["Visiting Friends/Relatives",null,null,null,8.9,9.1,12.9,9.1,10.7,11.5,7.13,6.2385008517887561,8.1663405088062628,11.798932384341636,10.311244979919678]
["Other",null,null,null,9,9.8000000000000007,11.8,10.3,8.8000000000000007,9.5,6.81,5.5454545454545459,10.238747553816047,13.253968253968255,11.927868852459016]
["Not Stated",null,null,null,0.8,1,0.5,1,1,1.5,0.12,2,1.0714285714285714,0.75126903553299496,1.3287197231833909]
["Total",null,null,null,5.6,6.1,5.6,4.2,5.5,6.3,4.6399999999999997,4.0079707738292925,5.15,7.386587771203156,7.5720552752796664]
["Prior to 2004 only visitors travelling by air were included"]
[]
[]
["Table 5h    Visitors to Majuro by usual residence:  2004 to 2011"]
["Usual residence",1998,1999,2000,2001,2002,2003,2004,2005,"2006 1",2007,2008,2009,2010,2011]
["USA/Canada & other America",1975,2071,2022,1994,2156,2189,2099,2554,1831,{"$f":"60+1499+91+22+18","v":1690},1480,1547,1332,1615]
["Australia/ New Zealand",229,223,202,222,263,279,277,578,293,{"$f":"329+167","v":496},275,271,274,313]
["Other Pacific Island countries",1318,864,1181,1070,1072,1650,1669,2024,1236,{"$f":"132+92+334+199+193+59+15","v":1024},965,665,1279,1061]
["European Countries",89,91,129,115,147,196,160,404,180,{"$f":"33+34+168+40","v":275},177,153,144,137]
["Japan",104,100,856,940,828,961,984,1565,907,1600,1427,1349,557,435]
["Taiwan",670,585,211,353,347,209,321,476,228,311,375,255,404,378]
["People's China",165,85,83,80,159,57,87,142,58,157,61,89,79,83]
["Philippines",211,280,170,180,239,245,192,532,204,255,236,196,216,194]
["Other Asian Countries",240,223,181,228,489,1021,936,731,565,{"$f":"245+75","v":320},324,207,85,70]
["Others & Not Stated",43,100,211,262,302,388,2282,167,278,{"$f":"4+827","v":831},702,640,153,273]
["Total",5044,4622,5246,5444,6002,7195,9007,{"$f":"SUM(I27:I36)","v":9173},5780,6959,6022,5372,4523,4559]
["1) In 2006 some visitors arrving by sea were not included"]
["Source: Marshall Islands Visitors Authority (MIVA), EPPSO"]

{"sheet":"M&Ba","index":17,"n_rows":28,"n_cols":21,"rows_kept":28,"cut":false,"hidden":false,"merged":[]}
["Table 6a    Assets and liabilities of Deposit Money Banks, FY2004-FY2011"]
["(US$ millions)",1992,1993,1994,1995,1996,"CY1997","CY1998","CY1999","CY2000","FY2001","FY2002","FY2003","FY2004","FY2005","FY2006","FY2007","FY2008","FY2009","FY2010","FY2011"]
["Assets 1",55.15,56.95,57.5,53.1,51.837999999999994,55.05,52.661500000000004,60.6785,71.817919696969682,70.61418066666667,83.296245709956708,89.065425809523816,94.282511333333332,95.584828000000016,98.322333333333319,109.3,113.9,122,133.60000000000002,132]
["Foreign assets",16.600000000000001,16.2,18.399999999999999,17.7,20.077999999999999,18.8,18.127500000000001,23.45,33.006242424242423,31.067133333333331,38.30782481962482,48.298073015873022,50.975266666666663,53.592800000000004,57.575333333333333,60.744399999999985,57.1,63.6,71.8,71.900000000000006]
["Claims on central and local governments",1.25,1.5,1.35,1.1499999999999999,2.2130000000000001,2.85,3.08,4.3324999999999996,2.8899318181818181,2.5810333333333331,2.3346969696969682,1.3617999999999986,1.2915333333333343,0.48873333333333285,0.26439999999999858,0.49373333333333141,2.9,1.7,3.7,5.2]
["Claims on public enterprises",1.4,1.1000000000000001,0.65,0.1,null,null,null,null,null,null,null,null,null,null,null,1.4,0,0,0,0]
["Claims on private sector",34.35,35.450000000000003,35.549999999999997,32.25,29.458500000000001,31.95,31.716500000000003,33.636499999999998,36.991174242424243,38.119173333333329,40.066070735930737,40.404571428571437,43.414999999999999,43.574933333333334,43.216866666666668,49.895933333333332,58.2,62,63.3,60.2]
["Consumer",null,null,null,null,19.741,21.2255,23.210500000000003,22.847000000000001,26.406287878787875,29.482933333333339,34.500524963924967,36.928841269841271,38.534866666666659,38.175599999999996,35.218200000000003,38.478400000000001,43.9,46.1,48.6,49]
["Commercial ",null,null,null,null,9.7174999999999994,11.074499999999997,8.5060000000000002,10.789500000000002,10.584886363636365,8.636239999999999,5.5655457720057733,3.4757301587301592,4.8801333333333332,5.3993333333333329,7.9986666666666659,11.417533333333333,14.3,15.9,14.7,11.2]
["Unclassified assets",1.55,2.7,1.55,1.9,6.7999999999994287E-2,1.45,-0.26250000000000639,-0.74050000000000438,-1.0694287878787989,-1.1531593333333205,2.5876531847041804,-0.99901863492063825,-1.3992886666666635,-2.071638666666658,-2.7342666666666844,-3.237646666666663,-4.3,-5.3,-5.2,-5.3]
["Liabilities 1",55.15,56.95,57.5,53.1,51.837999999999994,55.05,52.661500000000004,60.6785,71.817919696969682,70.61418066666667,83.296245709956708,89.065425809523816,94.282511333333332,95.584828000000016,98.322333333333319,108.78108666666665,113.9,122.00000000000001,133.6,132.00000000000003]
["Deposits",48.35,46.45,49.85,45.6,48.6,45,46.432000000000002,54.333000000000006,61.449404545454541,59.590834666666666,66.194060135642133,72.236798158730153,74.860284666666658,74.276728000000006,75.497399999999985,85.517753333333317,89,93.3,102.1,98.2]
["Demand deposits",16.850000000000001,15.15,15.35,13.85,15.05,16.75,13.919499999999999,15.939,20.549416666666669,19.607839999999999,20.649446608946608,23.638192698412698,26.987459999999999,26.079033333333335,25.692666666666664,25.603259999999999,24.7,24.2,23.5,28.4]
["Time deposits",9.1,9,9.1999999999999993,11.1,12.25,11.45,11.920500000000001,16.645,19.790333333333333,19.870833333333337,21.900021336219336,22.019279365079363,20.008699999999997,17.715599999999998,16.167566666666666,18.979266666666668,20.6,19,22.2,23.6]
["Savings deposits",11.4,11.1,11.85,9.5500000000000007,9.5500000000000007,8.1,8.1859999999999999,12.047499999999999,14.483113636363637,14.817941333333332,16.635602695526693,17.603094984126983,18.073935333333335,22.692066666666665,26.6068,33.255666666666663,35.700000000000003,41.3,47.9,39.4]
["Central government deposits 2",11,11.2,13.45,12.05,9.5500000000000007,9.4,9.8915000000000006,8.0545000000000009,6.6265409090909086,5.2942200000000001,7.0089894949494944,8.9762311111111099,9.7901893333333323,7.7900280000000004,7.0303666666666658,7.6795600000000004,8,8.8000000000000007,8.5,6.8]
["Foreign liabilities",1.8,4.2,2.75,1.1499999999999999,1.5,2.2999999999999998,2.7614999999999998,1.6305000000000001,2.5828333333333329,2.7109053333333333,2.7080345757575754,3.4630740000000007,4.08,3.8037333333333336,3.6836666666666669,2.2086666666666668,1.6,2.4,2.8,2.9]
["Capital accounts",3,3.65,3.8,4.3499999999999996,3.2869999999999999,5.65,5.3815,5.9384999999999994,7.1128863636363633,7.3594399999999993,10.03953292929293,12.905688888888889,14.793733333333334,16.984266666666667,18.574133333333332,20.397333333333332,22.5,25.6,27.4,29.1]
["Unclassified liabilities",1.9,2.65,1.1000000000000001,1.05,0.45299999999999996,1.4,0.60099999999999998,0.42349999999999999,0.67279545454545453,0.95300066666666661,4.3546180692640695,0.45986476190476183,0.54849333333333328,0.52010000000000001,0.56713333333333338,0.65733333333333321,0.8,0.7,1.3,1.8]
["Memorandum items:"]
["Loan/deposit ratio (in percent)",73.940020682523269,78.68675995694295,72.617853560682022,70.942982456140342,65.16769547325103,77.333333333333329,74.940773604410751,69.882023816097032,64.900720121878038,68.299440500089432,64.055245468765335,57.818691433133196,59.719961702523406,59.323650695365401,57.593065015042477,60.534876851691543,68.7,68.3,65.599999999999994,66.599999999999994]
["Deposits (12-month percent change)",null,-3.9296794208893426,7.3196986006458742,-8.5255767301905863,6.578947368421062,-7.4074074074074066,3.1822222222222201,17.016281874569273,13.097757431863766,{"$f":"(K12/J12-1)*100","v":-3.0245531141202209},11.080941399649703,9.1288221491558232,3.6317868106110707,-0.77952771521652142,1.6434111098700743,13.272448234420441,4.0999999999999996,4.8,4.8,21.3]
["Loans (12-month percent change)",null,2.2377622377622419,-0.95759233926130394,-10.63535911602208,-2.0973724884080336,9.8779659946639509,-1.005747126435752E-2,9.1172962797982482,5.0359663425585621,{"$f":"(SUM(K5:K7)/SUM(J5:J7)-1)*100","v":2.0538562917884917},4.1782614346128177,-1.4961905441444934,7.0395435471097834,-1.4379702892045487,-1.3217238692498023,17.922814269440156,18,4.3,4.3,10.4]
["Consumer loans (in percent of total loans)",null,null,null,null,62.330486399444297,60.992816091954026,66.70354777060912,60.172772524954567,66.21252639949121,72.439271807137445,81.367689385835888,88.417643206082019,86.195157158237862,86.637365630035319,80.996260458526976,75.044174148209308,84.7,72.400000000000006,76.8,75]
["Commercial loans (in percent of total loans)",0,0,0,0,30.68215903888354,31.823275862068961,24.444987283203769,28.416603018251735,26.541105323284782,21.219155152529119,13.126049534398119,8.3218389336845533,10.91592876805478,12.253481704503329,18.395661579929438,22.267541264960379,27.6,25,23.2,10.199999999999999]
["1) Calendar-year basis 4 quarter average to 2000. Fiscal-year basis 5 quarter average from FY2001."]
["2) Includes deposits of Social Security administration and other trust funds"]
["Source: Banking Commision and IMF"]

{"sheet":"M&Bbc","index":18,"n_rows":44,"n_cols":16,"rows_kept":44,"cut":false,"hidden":false,"merged":[]}
["Table 6b    Income and expense of Deposit Money Banks, 2004-2011"]
["(US$ '000)",1997,1998,1999,2000,2001,2002,2003,2004,2005,2006,2007,2008,2009,2010,2011]
["Interest Income:"]
["Interest and fees on loans",5030,5467,5632,6686,6781,7488,7342,7552,7156,7231,8514,9132,8852,8919,8400]
["Deposit with banks",1218,1133,1038,1504,1431,2022,369,510,1429,2410,2521,833,111,120,127]
["Other interest income",91,91,195,236,106,95,56,59,46,122,158,115,52,35,25]
["Total interest income",{"$f":"SUM(B4:B6)","v":6339},{"$f":"SUM(C4:C6)","v":6691},6865,8426,8318,9605,7767,8121,8631,{"$f":"SUM(K4:K6)","v":9763},{"$f":"SUM(L4:L6)","v":11193},{"$f":"SUM(M4:M6)","v":10080},{"$f":"SUM(N4:N6)","v":9015},{"$f":"SUM(O4:O6)","v":9074},8552]
["Interest Expense:"]
["Deposits",1610,1509,1554,1941,2085,2228,1578,1241,1136,1370,1669,1447,1428,1553,1340]
["Other interest expense",0,0,10,13,32,0,0,0,0,0,0,0,0,0,10]
["Total interest expense",{"$f":"SUM(B9:B10)","v":1610},{"$f":"SUM(C9:C10)","v":1509},1564,1954,2117,2228,1578,1241,1136,{"$f":"SUM(K9:K10)","v":1370},{"$f":"SUM(L9:L10)","v":1669},{"$f":"SUM(M9:M10)","v":1447},{"$f":"SUM(N9:N10)","v":1428},{"$f":"SUM(O9:O10)","v":1553},1350]
["Net interest income",{"$f":"B7-B11","v":4729},{"$f":"C7-C11","v":5182},5301,6472,6201,7377,6189,6880,7495,{"$f":"K7-K11","v":8393},{"$f":"L7-L11","v":9524},{"$f":"M7-M11","v":8633},{"$f":"N7-N11","v":7587},{"$f":"O7-O11","v":7521},7202]
["Provision for loans losses",865,1124,656,732,2327,630,930,988,648,448,422,260,267,302,12]
["Net interest income after loan loss provisions",{"$f":"B12-B13","v":3864},{"$f":"C12-C13","v":4058},4645,5740,3874,6747,5259,5892,6847,{"$f":"K12-K13","v":7945},{"$f":"L12-L13","v":9102},{"$f":"M12-M13","v":8373},{"$f":"N12-N13","v":7320},{"$f":"O12-O13","v":7219},7190]
["Noninterest Income:"]
["Service charges and fees",646,712,854,918,985,630,634,640,631,661,613,783,730,704,838]
["Other noninterest income",159,119,287,457,866,1269,773,767,645,724,911,824,966,1071,926]
["Total noninterest income",{"$f":"SUM(B16:B17)","v":805},{"$f":"SUM(C16:C17)","v":831},1141,1375,1851,1899,1407,1407,1276,{"$f":"SUM(K16:K17)","v":1385},{"$f":"SUM(L16:L17)","v":1524},{"$f":"SUM(M16:M17)","v":1607},{"$f":"SUM(N16:N17)","v":1696},{"$f":"SUM(O16:O17)","v":1775},1764]
["Noninterest Expense:"]
["Salaries and employee benefits",1209,1320,1426,1510,1750,2091,1634,1888,2240,2449,2625,2665,2733,2895,2913]
["Occupancy",358,392,371,393,398,467.5,248,261,281,306,333,351,350,355,421]
["Furniture and equipment",171,200,337,394,393,465.5,276,180,144,93,109,87,96,126,124]
["Other operating expense",1216,1272,1204,1744,2043,{"$f":"483+1131","v":1614},1783,1917,1751,1818,1978,2154,2215,2420,2229]
["Total noninterest expense",{"$f":"SUM(B20:B23)","v":2954},{"$f":"SUM(C20:C23)","v":3184},3338,4041,4584,4638,3941,4246,4416,{"$f":"SUM(K20:K23)","v":4666},{"$f":"SUM(L20:L23)","v":5045},{"$f":"SUM(M20:M23)","v":5257},{"$f":"SUM(N20:N23)","v":5394},{"$f":"SUM(O20:O23)","v":5796},5687]
["Net Income (Loss)",{"$f":"B14+B18-B24","v":1715},{"$f":"C14+C18-C24","v":1705},2448,3074,1141,4008,2725,3053,{"$f":"J14+J18-J24","v":3707},{"$f":"K14+K18-K24","v":4664},{"$f":"L14+L18-L24","v":5581},{"$f":"M14+M18-M24","v":4723},{"$f":"N14+N18-N24","v":3622},{"$f":"O14+O18-O24","v":3198},3267]
["Source: Banking Commision and EPPSO"]
[]
[]
["Table 6c    Interest rates of Deposit Money Banks, 2004-2011"]
["(Percent1)",1997,1998,1999,2000,2001,2002,2003,2004,2005,2006,2007,2008,2009,2010,2011]
["Deposit rates"]
["Savings accounts2",2.8,2.8533333333333335,3.05,2.5,2.6722222222222229,{"$f":"(H32+F32)/2","v":2.0871527777777783},1.5020833333333337,1.1145833333333333,1.2291666666666701,1.7,1.7,1.1000000000000001,1.1000000000000001,0.5,0.5]
["Time deposits3"]
["Three months",4.3,3.6964666666666672,4.3499999999999996,4.25,3.4525000000000001,{"$f":"(H34+F34)/2","v":2.629375},1.8062499999999999,1.3483333333333332,2.23,2.5,2.8,1.8,2.5,2,2]
["Six months",5,4.1935999999999991,4.55,4.75,3.7702777777777787,{"$f":"(H35+F35)/2","v":2.8863888888888893},2.0024999999999999,1.55375,2.895,3.2,3.1,2.4,3,2.1,2.1]
["One year or more",5.4,5.1321000000000003,5,6.75,4.3554166666666667,{"$f":"(H36+F36)/2","v":3.4856250000000002},2.6158333333333337,2.0983333333333332,3.5350000000000001,4,4.0999999999999996,3.6,6,3.5,3.5]
["Loan rates4"]
["Consumer loans",18,18.666666666666668,20.5,18.333333333333336,19.166666666666664,{"$f":"(H38+F38)/2","v":18.447916666666664},17.729166666666664,17.385416666666668,18.5,18.5,18.5,18.5,13.9,14,14]
["Commercial loans",11,11.5,12.5,13.333333333333334,11.763888888888891,{"$f":"(H39+F39)/2","v":10.788194444444446},9.8125,9.6516666666666673,11,11,9.5,9.4,8.9,8.9,8.9]
["1 year average"]
["2 average of rates offered by deposit money banks."]
["3 average of minimum rates offered by deposit money banks."]
["4 average of maximum rates charged by deposit money banks."]
["Source: Banking Commision"]

{"sheet":"CpiMajOld","index":19,"n_rows":43,"n_cols":6,"rows_kept":43,"cut":false,"hidden":false,"merged":[]}
["Table 7a    Majuro Consumer Price Index (CPI) by major groups, 1982-2001"]
[null,"Base 1982=100"]
[null," All Groups","Food","Household & Personal","Apparel","Durables & Fuel"]
["Weights",100,57.71,14.76,11.95,15.58]
["FY1983",102.31666666666668,104.22,99.706666666666663,98.133333333333326,100.94]
["FY1984",107.25,108.4975,104.745,101.83,109.1575]
["FY1985",108.1075,104.95,110.0575,108.4,117.5475]
["FY1986",110.24250000000001,108.22750000000001,109.2225,109.4575,119.19750000000001]
["FY1987",112.765,104.71250000000001,119.71250000000001,129.0975,119.0175]
["FY1988",113.6525,107.9875,128.85499999999999,127.705,109.955]
["FY1989",116.4525,113.5,125.83,123.9675,112.73]
["FY1990",117.7925,117.69,130.21250000000001,114.53749999999999,110.7925]
["FY1991",121.625,121.625,129.75,125.02500000000001,111.3]
["FY1992",131.26499999999999,129.26750000000001,152.245,128.505,120.97]
["FY1993",141.23750000000001,135.57249999999999,162.9325,151.41749999999999,133.91499999999999]
["FY1994",148.09,137.21250000000001,183.3175,157.25,147.995]
["FY1995",158.22999999999999,139.1275,212.11,174.95500000000001,165.11500000000001]
["FY1996",174.845,155.5625,244.41749999999999,189.44749999999999,173.67]
["FY1997",184.95,167.2225,254.57749999999999,194.99,177.93]
["FY1998",191.9325,173.065,270.47500000000002,200.22499999999999,181.04750000000001]
["FY1999",194.79499999999999,175.67,273.70749999999998,206.0675,182.23750000000001]
["FY2000",196.6225,174.27250000000001,279.55250000000001,219.2225,183.51]
["FY2001",199.7,175.3425,288.53500000000003,232.13749999999999,180.9075]
["Percent change year-on-year"]
["FY1984",{"$f":"B6/B5-1","v":4.8216321876527024E-2},4.1042985991172509E-2,5.0531559240438728E-2,3.7669836956521818E-2,8.140974836536552E-2]
["FY1985",7.9953379953379144E-3,-3.2696605912578613E-2,5.0718411380018091E-2,6.4519296867328046E-2,7.6861415844078573E-2]
["FY1986",1.974886108734375E-2,3.1229156741305442E-2,-7.5869431887877203E-3,9.7555350553504283E-3,1.4036878708607148E-2]
["FY1987",{"$f":"B9/B8-1","v":2.2881375150237027E-2},-3.2477882238802547E-2,9.6042482089313097E-2,0.17943037251901428,-1.5100987856289105E-3]
["FY1988",7.8703498425929386E-3,3.1276113167004738E-2,7.6370470919912226E-2,-1.0786421115823286E-2,-7.6144264498918202E-2]
["FY1989",2.4636501616770445E-2,5.1047574950804586E-2,-2.3476000155213117E-2,-2.9266669276848956E-2,2.52375971988541E-2]
["FY1990",1.1506837551791493E-2,3.6916299559471399E-2,3.4828737185091052E-2,-7.6068324359207073E-2,-1.7187084183447165E-2]
["FY1991",3.2536027336205642E-2,3.3435296116917312E-2,-3.5518863396372113E-3,9.1563898286587397E-2,4.580634970778652E-3]
["FY1992",7.9260020554984489E-2,6.2836587872559191E-2,0.17337186897880552,2.7834433113377299E-2,8.688230008984732E-2]
["FY1993",7.5972269835828499E-2,4.877482739280925E-2,7.0199349732339211E-2,0.17830045523520477,0.10701000247995363]
["FY1994",{"$f":"B16/B15-1","v":4.851756792636519E-2},1.2096848549669081E-2,0.12511316035781683,3.8519325705417273E-2,0.10514132098719342]
["FY1995",6.8471875211020272E-2,1.3956454404664198E-2,0.15706356458057757,0.11259141494435609,0.11567958376972198]
["FY1996",0.10500537192694193,0.11812905428473885,0.15231483664136514,8.2835586293618313E-2,5.1812373194440209E-2]
["FY1997",5.7794046155166034E-2,7.4953796705504283E-2,4.156821831497326E-2,2.9256126367463331E-2,2.4529279668336512E-2]
["FY1998",3.7753446877534458E-2,3.4938480168637653E-2,6.2446602704480991E-2,2.6847530642597039E-2,1.7520935199235588E-2]
["FY1999",1.4914097404035154E-2,1.505214803686461E-2,1.1951196968296385E-2,2.9179672868023587E-2,6.5728607133486161E-3]
["FY2000",{"$f":"B22/B21-1","v":9.3816576400831408E-3},-7.9552570159957536E-3,2.1354913548222276E-2,6.3838305409635199E-2,6.9826462720350424E-3]
["FY2001",1.5651820112143833E-2,6.1398097806595331E-3,3.2131710501605237E-2,5.8912748463319176E-2,-1.4181788458394573E-2]
["Source: EPPSO"]

{"sheet":"CpiMaj","index":20,"n_rows":92,"n_cols":11,"rows_kept":92,"cut":false,"hidden":false,"merged":[]}
["Table 7b    Majuro Consumer Price Index (CPI) by major groups, 2007-2011"]
["Base 2003 1st qtr=100","All","Food","Alcoholic Beverages","Housing, Utilities, Appliances","Apparel","Transport","Medical Care","Recreation","Education and Comm.","Other Goods and Services"]
["Weights",{"$f":"SUM(C3:K3)","v":100},35.909999999999997,1.68,17.07,4.33,13.73,2.23,2.3199999999999998,6.56,16.170000000000002]
["2003 q1",100,100,100,100,100,100,100,100,100,100]
["2003 q2",100.5,102.27,100,99.3,99.7,98.08,100,100.15,100,100.5]
["2003 q3",100.99,103.1,103.79,99.24,102.08,97.65,100,100.1,100,101.08]
["2003 q4",101.97,105.72,101.52,98.97,102.75,97.78,100,99.08,100,101.69]
["2004 q1",102.22,106.3,102.27,99.02,105.73,97.95,100,99.62,100,100.82]
["2004 q2",102.46,106.64,102.27,99.44,103.71,99.19,100,100.93,100,100.36]
["2004 q3",103.44,105.79,102.27,100.37,103.6,102.15,100,96.74,111.08,100.98]
["2004 q4",104.38758385545306,106.26269432410389,120.26515151515153,98.902477302785371,102.42824227812532,106.88823713227606,100,94.180077086702823,111.07924148556263,102.12580267806925]
["2005 q1",105.08,105.34,120.3,104.75,102.81,107.05,100,92.58,111.08,102.44]
["2005 q2",106.66,106.68,123.45,105.91,102.38,110.71,100,95.2,111.08,104.16]
["2005 q3",108.26,107.31,126.36,107.12,103.81,118.44,100,94.47,113.84,103.07]
["2005 q4",110.84,107.12,128.6,119.47,103.49,121.74,100,90.25,115.9,103.28]
["2006 q1",111.28,110.03,131.69,119.45,104.04,121.29,100,91.34,115.9,99.29]
["2006 q2",111.6,110.19,133.44,120.93,109.95,123.11,100,89.97,115.9,96.25]
["2006 q3",112.96,108.07557994584063,135.60606060606065,128.44914620294867,106.05318577840617,131.25444673558235,100,83.733146125601792,115.89501845128719,96.424510558468285]
["2006 q4",113.6939433548327,110.33615201081162,130.55555555555557,127.70550110476921,104.2582787946035,131.73622591130859,100,84.90849527350737,115.89501845128719,96.940378782348304]
["2007 q1",113.21615734323893,110.62000507193022,133.08080808080811,127.94760501436191,105.8235938058119,126.30169167673336,100,85.560361611272924,115.89501845128719,96.940378782348304]
["2007 q2",115.13273066498161,112.02282212513248,134.34343434343438,129.86313708575415,102.85691723998507,138.50101816562278,100,85.509430138640951,115.89501845128719,96.771823252316892]
["2007 q3",116.41482208639488,109.19674941655997,136.23737373737376,142.28195871223883,103.10552192011895,138.60193573124866,100,85.638585571804796,115.89501845128719,94.69112165342851]
["2007 q4",118.6139318505613,112.60099016144855,136.23737373737376,143.46330615034807,105.32834291224735,141.52600626029039,100,83.735842676204527,115.89501845128719,96.677450045153734]
["2008 q1",121.97503887279288,113.30196984100165,136.969696969697,148.42473187738327,113.12941064924034,152.96599821434197,100,83.73555946808996,115.89501845128719,98.72872195846567]
["2008 q2",134.51351859228245,126.02833726560038,138.25757575757578,192.2557043509519,104.02430217340736,159.43336047188171,100,83.735842676204527,115.89501845128719,98.565796751000306]
["2008 q3",150.63397561684727,142.95167256832588,134.46969696969703,230.26154901038285,108.11713917780135,196.92830318021944,100,85.613217728969389,117.12604528301638,87.23141628131323]
["2008 q4",138.32051262247126,138.77796650548507,143.78787878787881,197.00863449649418,108.42425314272417,158.21659714212257,100,83.0057523779071,117.12604528301638,87.66376298323172]
["2009 q1",129.64210031687799,137.28341627163542,143.78787878787881,157.50934478598131,105.74195010640248,147.98354771382688,100,82.953603070885848,117.12604528301638,88.435108803699919]
["2009 q2",130.21187944843533,135.35545376853372,142.6767676767677,157.10993874669896,102.0322996206033,156.89124318088912,100.21974139631955,84.038981973774426,117.12604528301638,90.049688426663337]
["2009 q3",130.07298930522001,133.65466670011335,142.6767676767677,157.96559802128459,103.80018339915796,158.51479037338038,100.21974139631955,85.276915624716324,117.12604528301638,90.05]
["2009 q4",130.26313444472515,134.3941643352581,143.18181818181819,158.81802261974232,104.74897333938181,156.54494113863285,100.21974139631955,85.276915624716324,117.12604528301638,90.05]
["2010 q1",133.24834835762115,131.76,143.18181818181819,180.3178360791822,104.74897333938181,158.4422024884033,100.21974139631955,85.276915624716324,117.12604528301638,90.05]
["2010 q2",137.32458200471243,137.66999999999999,143.18181818181819,192.5090652839317,100.74826899340015,158.77825725913556,100.21974139631955,85.276915624716324,117.12604528301638,90.05]
["2010 q3",136.7442355664445,133.22144072466432,144.94949494949495,193.99243315473032,103.03088850294704,155.51149286052777,100.21974139631955,85.276915624716324,117.12604528301638,91.05]
["2010 q4",137.08545143550282,137.89756886689176,145.7070707070707,203.98586395309749,103.58682588301072,140.95205232700806,100.21974139631955,85.276915624716324,117.12604528301638,90.045456318006927]
["2011 q1",137.88699904719346,138.08792612326172,145.7070707070707,204.04647883960152,106.98464953538563,144.21129825476257,100.21974139631955,85.329569192054436,117.12604528301638,90.830508536278913]
["2011 q2",144.80744712176502,141.89950644199268,145.07575757575756,234.36904158245056,100.83803167891259,151.18200800571495,100.21974139631955,85.277196120653002,117.12604528301638,88.945230697640127]
["2011 q3",146.89117769426571,145.49770374880708,145.7070707070707,232.0230370007485,94.569118747765941,157.53867190101874,100.21974139631955,85.277196120653002,117.12604528301638,92.530604444609878]
["2011 q4",145.80802152571755,144.53461201954138,145.7070707070707,231.51936557903318,93.816249283302852,153.03332973172266,100.21974139631955,85.277196120653002,117.12604528301638,92.530604444609878]
["2012 q1",145.53952793690553,142.78855918677243,146.33838383838383,231.1936634783624,98.524615048719681,153.03332973172266,100.21974139631955,85.329569192054436,117.12604528301638,93.758499574820064]
["FY2003",{"$f":"AVERAGE(B4:B6)","v":100.49666666666667},101.79,101.26333333333334,99.513333333333335,100.59333333333332,98.576666666666668,100,100.08333333333333,100,100.52666666666666]
["FY2004",{"$f":"AVERAGE(B7:B10)","v":102.52249999999999},106.1125,102.0825,99.45,103.94749999999999,99.267500000000013,100,99.092500000000001,102.77,100.96250000000001]
["FY2005",{"$f":"AVERAGE(B11:B14)","v":106.09689596386326},106.39817358102597,122.59378787878788,104.17061932569635,102.85706056953133,110.77205928306901,100,94.107519271675699,111.76981037139066,102.94895066951732]
["FY2006",{"$f":"AVERAGE(B15:B18)","v":111.67},108.85389498646016,132.33401515151516,122.07478655073717,105.88329644460154,124.34861168389558,100,88.823286531400441,115.8987546128218,98.811127639617069]
["FY2007",{"$f":"AVERAGE(B19:B22)","v":114.61441336236203},110.54393215610857,133.55429292929296,131.94955047928102,104.01107794012987,133.78521787122835,100,85.404218148806507,115.89501845128719,96.335925617610499]
["FY2008",{"$f":"AVERAGE(B23:B26)","v":131.43411623312096},123.72074245909411,136.48358585858588,178.60132284726652,107.6497987281741,162.71341703168338,100,84.205115637367101,116.20277515921948,95.300846258983242]
["FY2009",{"$f":"AVERAGE(B27:B30)","v":132.06187042325115},136.26787581144188,143.23232323232324,167.39837901261475,104.99967156722198,155.40154460255474,100.10987069815977,83.818813261820921,117.12604528301638,89.049640053398747]
["FY2010",{"$f":"AVERAGE(B31:B34)","v":134.39507509337579},134.26140126498058,143.62373737373738,181.40933928439662,103.31927604377771,157.31922343667486,100.21974139631955,85.276915624716324,117.12604528301638,90.3]
["FY2011",{"$f":"AVERAGE(B35:B38)","v":141.66776882468176},{"$f":"AVERAGE(C35:C38)","v":140.84567629523832},145.54924242424241,218.60610534397449,101.49465646126873,148.47100762212608,100.21974139631955,85.290219264519195,117.12604528301638,90.587949999133954]
["Percent change year-on-year"]
["2004 q1",{"$f":"B8/B4-1","v":2.2199999999999998E-2},6.2999999999999945E-2,2.2699999999999942E-2,-9.8000000000000309E-3,5.7300000000000129E-2,-2.0499999999999963E-2,0,-3.7999999999999146E-3,0,8.1999999999999851E-3]
["2004 q2",{"$f":"B9/B5-1","v":1.9502487562188975E-2},4.2730028356311678E-2,2.2699999999999942E-2,1.4098690835850913E-3,4.0220661985957751E-2,1.1317292006525204E-2,0,7.7883175237143387E-3,0,-1.3930348258706093E-3]
["2004 q3",{"$f":"B10/B6-1","v":2.4259827705713555E-2},2.6091173617846852E-2,-1.4644956161479983E-2,1.1386537686416842E-2,1.4890282131661436E-2,4.6082949308755783E-2,0,-3.3566433566433518E-2,0.11080000000000001,-9.8931539374746968E-4]
["2004 q4",{"$f":"B11/B7-1","v":2.3708775673757509E-2},5.1333174811190041E-3,0.18464491248179216,-6.8225419030643053E-4,-3.1314620133788829E-3,9.3150308164001494E-2,0,-4.9454207845147091E-2,0.1107924148556263,4.2856001383542175E-3]
["2005 q1",{"$f":"B12/B8-1","v":2.7978869105850013E-2},-9.0310442144871939E-3,0.17629803461425642,5.7867097556049352E-2,-2.761751631514231E-2,9.2904543134252116E-2,0,-7.0668540453724171E-2,0.11080000000000001,1.6068240428486424E-2]
["2005 q2",{"$f":"B13/B9-1","v":4.0991606480577758E-2},3.7509377344346895E-4,0.20709885596949262,6.5064360418342737E-2,-1.2824221386558698E-2,0.11614073999395091,0,-5.6772020212028207E-2,0.11080000000000001,3.7863690713431541E-2]
["2005 q3",{"$f":"B14/B10-1","v":4.6597061098221371E-2},1.4368087720956657E-2,0.23555294807861538,6.7251170668526372E-2,2.0270270270270618E-3,0.15947136563876652,0,-2.3464957618358429E-2,2.4846957148001447E-2,2.0697167755991286E-2]
["2005 q4",{"$f":"B15/B11-1","v":6.181210356857858E-2},8.0677953946970415E-3,6.930393700787385E-2,0.207957608930746,1.0365868809811829E-2,0.13894665368411507,0,-4.172938914760882E-2,4.3399274697639489E-2,1.1301720933045045E-2]
["2006 q1",{"$f":"B16/B12-1","v":5.9002664636467417E-2},4.4522498576039515E-2,9.4679966749792177E-2,0.14033412887828156,1.1963816749343437E-2,0.13302195235871106,0,-1.3393821559732122E-2,4.3392149801944502E-2,-3.0749707145646177E-2]
["2006 q2",{"$f":"B17/B13-1","v":4.63153947121695E-2},3.2902137232845741E-2,8.092345078979335E-2,0.1418185251628743,7.3940222699746094E-2,0.11200433565170265,0,-5.4936974789915993E-2,4.3392149801944502E-2,-7.5940860215053752E-2]
["2006 q3",{"$f":"B18/B14-1","v":4.3414003325327855E-2},7.1342833458263311E-3,7.3172369468666121E-2,0.19911450898943861,2.1608571220558481E-2,0.10819357257330586,0,-0.11365358181854779,1.8051813521496651E-2,-6.4475496667621091E-2]
["2006 q4",{"$f":"B19/B15-1","v":2.574831608474093E-2},3.0023823849996356E-2,1.5206497321583079E-2,6.893363275106057E-2,7.4237007885158413E-3,8.2111269190969338E-2,0,-5.9185647938976516E-2,-4.2981438419520401E-5,-6.1382854547363475E-2]
["2007 q1",{"$f":"B20/B16-1","v":1.7398969655274321E-2},5.3622200484433336E-3,1.0561227737930778E-2,7.1139430844386009E-2,1.7143346845558405E-2,4.1319908291972629E-2,0,-6.3276093592370075E-2,-4.2981438419520401E-5,-2.3664228196713655E-2]
["2007 q2",{"$f":"B21/B17-1","v":3.1655292696967763E-2},1.6633289092771397E-2,6.7703413027158099E-3,7.3870314113571034E-2,-6.4511894133832959E-2,0.12501842389426354,0,-4.9578413486262574E-2,-4.2981438419520401E-5,5.4215402838118099E-3]
["2007 q3",{"$f":"B22/B18-1","v":3.0584473144430691E-2},1.037393897197858E-2,4.6554934823088701E-3,0.10769096500987585,-2.7794203791730032E-2,5.5978971976988534E-2,0,2.2756095218789518E-2,0,-1.7976641986569453E-2]
["2007 q4",{"$f":"B23/B19-1","v":4.3273971775027453E-2},2.0526709599361537E-2,4.3520309477756314E-2,0.12339174827442401,1.0263588944835256E-2,7.4313502464939063E-2,0,-1.3810780576495874E-2,0,-2.7122726411550335E-3]
["2008 q1",{"$f":"B24/B20-1","v":7.7364236122230645E-2},2.4244844025522294E-2,2.9222011385199309E-2,0.16004306497744003,6.9037693586883275E-2,0.21111598889629568,0,-2.1327658144709605E-2,0,1.8447866601930318E-2]
["2008 q2",{"$f":"B25/B21-1","v":0.16833430263802152},0.12502376636095969,2.913533834586457E-2,0.48044863742970634,1.1349600636956225E-2,0.15113493448277437,0,-2.0741425355786047E-2,0,1.8538180209810795E-2]
["2008 q3",{"$f":"B26/B22-1","v":0.29394155243442577},0.30912021953143309,-1.2974976830398277E-2,0.61834677491388912,4.8606681430361842E-2,0.42081928467482976,0,-2.9621977833971247E-4,1.0621913246828818E-2,-7.8779353775298544E-2]
["2008 q4",{"$f":"B27/B23-1","v":0.16614052383608513},0.23247554312358787,5.5421686746987886E-2,0.37323361480343387,2.9392945382764823E-2,0.11793303098750174,0,-8.7189699770573448E-3,1.0621913246828818E-2,-9.3234638043433349E-2]
["2009 q1",{"$f":"B28/B24-1","v":6.2857626568014746E-2},0.21165957188817885,4.9778761061946897E-2,6.1206867573141643E-2,-6.5300972580355832E-2,-3.2572274614476648E-2,0,-9.3384029696738091E-3,1.0621913246828818E-2,-0.10426158619875769]
["2009 q2",{"$f":"B29/B25-1","v":-3.1979232934093549E-2},7.4008089809808109E-2,3.1963470319634757E-2,-0.18280740081499136,-1.9149395969832339E-2,-1.5944701180910847E-2,2.1974139631955047E-3,3.6201856681863376E-3,1.0621913246828818E-2,-8.640023826774923E-2]
["2009 q3",{"$f":"B30/B26-1","v":-0.1364963397363036},-6.5036006233287535E-2,6.1032863849765029E-2,-0.31397318093190763,-3.9928505429135064E-2,-0.19506344281900834,2.1974139631955047E-3,-3.9281563428408273E-3,0,3.2311566621790133E-2]
["2009 q4",{"$f":"B31/B27-1","v":-5.8251506049126101E-2},-3.1588603584659869E-2,-4.2149631190728787E-3,-0.19385247745286749,-3.3897211157216001E-2,-1.0565617221485968E-2,2.1974139631955047E-3,2.7361516301534383E-2,0,2.7220335239598548E-2]
["2010 q1",{"$f":"B32/B28-1","v":2.7816951684125568E-2},-4.0233674406139008E-2,-4.2149631190728787E-3,0.14480722603596852,-9.3905660527491275E-3,7.0674442775230162E-2,2.1974139631955047E-3,2.8007373613960551E-2,0,1.826074754863094E-2]
["2010 q2",{"$f":"B33/B29-1","v":5.4624067991382974E-2},1.7099763378757515E-2,3.5398230088494742E-3,0.22531436788544057,-1.2584550499966096E-2,1.2027529644027313E-2,0,1.4730469382984834E-2,0,3.4600157101660756E-6]
["2010 q3",{"$f":"B34/B30-1","v":5.1288482696205451E-2},-3.2413830818274203E-3,1.5929203539822856E-2,0.22806760196350728,-7.4113057512878999E-3,-1.8946481308011465E-2,0,0,0,1.110494169905607E-2]
["2010 q4",{"$f":"B35/B31-1","v":5.2373351983731053E-2},2.6068129884673441E-2,1.7636684303350858E-2,0.28439997292687891,-1.1094595195752288E-2,-9.9606468904134493E-2,0,0,0,-5.045732363206934E-5]
["2011 q1",{"$f":"B36/B32-1","v":3.481206894304445E-2},4.8026154548130862E-2,1.7636684303350858E-2,0.13159343122329537,2.1343180030608311E-2,-8.981763703191592E-2,0,6.1744221108828157E-4,0,8.6675017909929597E-3]
["2011 q2",{"$f":"B37/B33-1","v":5.4490354223658333E-2},3.0722063209070116E-2,1.3227513227513032E-2,0.21744418236502039,8.9096007712363701E-4,-4.7841873217080888E-2,0,3.2892364203451763E-6,0,-1.2268398693613181E-2]
["2011 q3",{"$f":"B38/B34-1","v":7.4203801613931697E-2},9.214930387605369E-2,5.2264808362367798E-3,0.19604168692334811,-8.212847504405496E-2,1.3035557714754065E-2,0,3.2892364203451763E-6,0,1.6261443653046381E-2]
["2011 q4",{"$f":"B39/B35-1","v":6.3628707487742409E-2},4.8130240490723564E-2,0,0.13497749840286222,-9.4322579308903642E-2,8.5711965205629514E-2,0,3.2892364203451763E-6,0,2.7598817621916849E-2]
["2012 q1",{"$f":"B40/B36-1","v":5.5498552746752416E-2},3.404086943354323E-2,4.3327556325822858E-3,0.13304412207034932,-7.9077087445781236E-2,6.117434336784866E-2,0,0,0,3.2235766216938799E-2]
["FY2004",{"$f":"B42/B41-1","v":2.0158214202792735E-2},{"$f":"C42/C41-1","v":4.2464878671775175E-2},8.0894696994633364E-3,-6.364306290613797E-4,3.3343826628669859E-2,7.0080816961417547E-3,0,-9.9000832639466463E-3,2.7700000000000058E-2,4.3354997015718766E-3]
["FY2005",3.4864502561518407E-2,{"$f":"C43/C42-1","v":2.692176520447509E-3},0.200928541902754,4.7467263204588717E-2,-1.049029010287561E-2,0.1158945201910897,0,-5.0306337294187764E-2,8.7572349629178481E-2,1.9675133534899691E-2]
["FY2006",5.2528436251659594E-2,2.3080484587116201E-2,7.9451230288746233E-2,0.17187348353053622,2.9421761212245379E-2,0.12256296839379677,0,-5.6151015149176198E-2,3.6941498135421469E-2,-4.0192959743546308E-2]
["FY2007",2.6367093779547046E-2,{"$f":"C45/C44-1","v":1.5525739063894983E-2},9.2211951430676287E-3,8.0891101328607773E-2,-1.7681906092253397E-2,7.5888311574570766E-2,0,-3.8492928106023672E-2,-3.2236425206666475E-5,-2.5049830733984702E-2]
["FY2008",0.14675032901474783,{"$f":"C46/C45-1","v":0.11919976109025532},2.1933349090049514E-2,0.35355764531619882,3.498397343924009E-2,0.21622866577306876,0,-1.4040319523212719E-2,2.6554783117072045E-3,-1.0744479299818366E-2]
["FY2009",4.7761890757249681E-3,{"$f":"C47/C46-1","v":0.10141495357172015},4.9447245478514201E-2,-6.2725984645881527E-2,-2.4618041020624148E-2,-4.4937120506201911E-2,1.0987069815977524E-3,-4.5876354734765146E-3,7.9453362669854588E-3,-6.5594445914956889E-2]
["FY2010",{"$f":"B48/B47-1","v":1.7667511921850343E-2},{"$f":"C48/C47-1","v":-1.4724486857325969E-2},2.7327221438646632E-3,8.3698303140235408E-2,-1.6003816948784166E-2,1.2340152982550201E-2,1.0975011494225306E-3,1.7395884123780236E-2,0,1.4041156661065424E-2]
["FY2011",{"$f":"B49/B48-1","v":5.4114287493444158E-2},4.9040714369299021E-2,1.3406593406593226E-2,0.20504328060676213,-1.7660011300658529E-2,-5.6243703860580196E-2,0,1.5600517098213196E-4,0,3.1888150513172953E-3]
["Source: EPPSO"]

{"sheet":"CpiEbeye","index":21,"n_rows":73,"n_cols":12,"rows_kept":73,"cut":false,"hidden":false,"merged":[]}
["Table 7c    Ebeye Consumer Price Index (CPI) by major groups, 2005-2010"]
[null,"Base 2006 4th quarter=100"]
[null,"All","Food ","Alcoholic Beverages","Housing, Utilities and Major Appliance","Apparel","Transport","Medical Care","Recreation","Education and Comm.","Other Goods and Service","Other   (old CPI)"]
["Weights (old)",{"$f":"SUM(C4:L4)","v":100.00000000000001},73.400000000000006,0,1.9,2.4,9,0,0,0,null,13.3]
["2005 q1",100,100,null,100,100,100,null,null,null,null,100]
["2005 q2",103.08,102.64,null,110.11,100,109.97,null,null,null,null,100.04]
["2005 q3",101.18,98.43,null,120.53,100,117.11,null,null,null,null,103.07]
["2005 q4",101.85746202954985,99.61,null,123.64,105.03,117.33,null,null,null,null,100.13]
["2006 q1",101.71381841863476,100.5,null,121.05,95.83,111.77,null,null,null,null,99.92]
["2006 q2",104.92697613918736,105.16087847875528,null,139.37383143172616,95.833333333333329,122.05882352941175,null,null,null,null,88.763115946850561]
["2006 q3",106.86192067358797,106.66249551389959,null,144.0081339712919,87.083333333333329,132.66666666666666,null,null,null,null,88.763115946850561]
["2006 q4",107.81457505521723,108.78397223574321,null,142.68536375904796,86.494974874371849,125,null,null,null,null,89.701038539660672]
["2007 q1",107.0712290535453,107.62888849716268,null,142.68568273831431,86.532663316582926,125,null,null,null,null,90.479797030089628]
[]
["Weights (new)",{"$f":"SUM(C15:K15)","v":100.04},46.7,1.45,15.9,6.1,12.3,0.89,2.2000000000000002,4.4000000000000004,10.1,{"$f":"B15-C15-E15-F15-G15","v":19.040000000000003}]
["Old Ebeye CPI (1)"]
["2005 q1",{"$f":"(C17*C$15+E17*E$15+F17*F$15+G17*G$15+L17*L$15)/100","v":92.191014593111035},{"$f":"C$25/C$12*C5","v":91.925306591390438},"n.a.",{"$f":"E$25/E$12*E5","v":70.084273092557339},115.61365286855485,80,"n.a.","n.a.","n.a.","n.a.",{"$f":"$K$25/$L$12*L5","v":111.48142945500649}]
["2005 q2",{"$f":"(C18*C$15+E18*E$15+F18*F$15+G18*G$15+L18*L$15)/100","v":95.440479420217812},94.352134685403158,"n.a.",77.169793102214882,115.61365286855485,87.975999999999999,"n.a.","n.a.","n.a.","n.a.",111.52602202678851]
["2005 q3",96.140031508956824,90.482079277905626,"n.a.",84.472574358459354,115.61365286855485,93.688000000000002,"n.a.","n.a.","n.a.","n.a.",114.90390933927519]
["2005 q4",96.745493910025232,91.566797895684019,"n.a.",86.652195251637892,121.42901960784316,93.864000000000004,"n.a.","n.a.","n.a.","n.a.",111.62635531329801]
["2006 q1",95.598446462136963,92.384933124347398,"n.a.",84.837012578540651,110.79256354393611,89.415999999999997,"n.a.","n.a.","n.a.","n.a.",111.3922443114425]
["2006 q2",98.28570616631383,96.669459955795318,"n.a.",97.679136640171478,110.79641733236505,97.647058823529406,"n.a.","n.a.","n.a.","n.a.",98.95439048635383]
["2006 q3",99.873479852829149,98.049826019180273,"n.a.",100.92705388793605,100.68022270636651,106.13333333333333,"n.a.","n.a.","n.a.","n.a.",98.95439048635383]
["New Ebeye CPI"]
["2006 q4",100,100,100,100,100,100,100,100,100,100]
["2007 q1",100.41,100.1,101.48,100,101.8,101.9,100,100,100,100.5]
["2007 q2",102.16,102.28,101.48,100,101.73,105.07,100,100,100,101.08]
["2007 q3",104.33,106.25,101.52,99.52,97.09,110.49,100,100,100,103.59]
["2007 q4",107.02,108.33,101.52,103.1,101.17,120.07,100,100,100,101.45]
["2008 q1",111.52054225117695,111.82621061086702,101.52,103.41600449546355,101.19897224468883,135.37518965306342,100,107.85255545623018,100.00467081381107,108.1830065359477]
["2008 q2",118.90541180128892,116.55805375253779,102.75822173256903,120.63985802877788,115.26901529296536,145.52567566742508,100,107.85255545623018,100.00467081381107,111.35138499844382]
["2008 q3",128.4918854257175,126.07310157958491,94.602807309349259,143.51452347739649,129.90673755490798,149.74725945112448,100,108.02852786122988,100.00467081381107,113.48397136632431]
["2008 q4",119.89651274727052,125.81358885094751,97.510389842844987,118.14600825903223,118.24634919565702,119.89893837263075,100,108.02852786122988,100.00467081381107,112.48054777466541]
["2009 q1",114.2528363776925,125.59873911513561,97.510389842844987,91.42717057612029,114.51224778482201,109.01761736523505,100,108.02852786122988,100.00467081381107,115.09492685963272]
["2009 q2",116.49745084381878,126.69621735537022,98.857806138855224,92.224488941016418,114.51224778482201,119.42950543634099,100,107.76256722251789,100.00467081381107,118.17366946778711]
["2009 q3",118.51297932031244,129.64154394907536,100.20522243486548,93.021807305912546,114.51224778482201,121.72100469595763,100,107.76256722251789,100.00467081381107,120.29007158418921]
["2009 q4",120.98412095145883,135.57935902356996,100.41797237634076,93.42641662541206,114.51224778482201,122.99957350860957,100,107.76256722251789,100.00467081381107,115.09492685963272]
["2010 q1",125.99569741664945,139.74087610104701,100.41797237634076,109.51231703757887,122.30730996865526,124.78605904713721,100,107.76256722251789,99.999999999999957,113.31362174499429]
["2010 q2",127.69210404929217,139.96226857260567,100.41797237634076,117.59412245756408,122.69519105035975,126.41013680943509,100,107.76256722251789,100.00467081381106,114.17968668949059]
["2010 q3",127.02,139.16999999999999,123.32,117.59412245756408,132.51,126.41013680943509,100,107.76256722251789,84.12,108.86]
["FY2006",{"$f":"AVERAGE(B20:B23)","v":97.62578159782629},{"$f":"AVERAGE(C20:C23)","v":94.667754248751748},"n.a.",{"$f":"AVERAGE(E20:E23)","v":92.523849589571512},{"$f":"AVERAGE(F20:F23)","v":110.9245557976277},{"$f":"AVERAGE(G20:G23)","v":96.765098039215687},"n.a.","n.a.","n.a.","n.a."]
["FY2007",{"$f":"AVERAGE(B25:B28)","v":101.72499999999999},102.1575,101.12,99.88,100.155,104.36500000000001,100,100,100,101.29249999999999]
["FY2008",{"$f":"AVERAGE(B29:B32)","v":116.48445986954583},115.69684148574743,100.10025726047957,117.66759650040949,111.88618127314055,137.67953119290326,100,105.93340969342255,100.0035031103583,108.61709072517897]
["FY2009",{"$f":"AVERAGE(B33:B36)","v":117.28994482227355},{"$f":"AVERAGE(C33:C36)","v":126.93752231763217},98.520952064852679,98.704868770520378,115.44577313753076,117.5167664675411,100,107.89554754187388,100.00467081381107,116.5098039215686]
["FY2010",{"$f":"AVERAGE(B37:B40)","v":125.4229806043501},{"$f":"AVERAGE(C37:C40)","v":138.61312592430565},106.14347928225557,109.53174464452978,123.00618720095926,125.15147654365424,100,107.76256722251789,96.032335406905531,112.86205882352941]
[]
["Percent change year-on-year"]
[]
["2006 q1",{"$f":"B21/B17-1","v":3.6960563717242545E-2},5.0000000000001155E-3,"n.a.",{"$f":"E21/E17-1","v":0.21049999999999991},-4.170000000000007E-2,0.11769999999999992,"n.a.","n.a.","n.a.","n.a."]
["2006 q2",2.9811530321098623E-2,2.4560390478909566E-2,"n.a.",0.26576906213537521,-4.1666666666666741E-2,0.10992837618815821,"n.a.","n.a.","n.a.","n.a."]
["2006 q3",3.8833442066476653E-2,8.3638072883262859E-2,"n.a.",0.19479079043633885,-0.12916666666666676,0.13283807246748069,"n.a.","n.a.","n.a.","n.a."]
["2006 q4",{"$f":"B25/B20-1","v":3.3639872602247545E-2},9.2098908099018217E-2,"n.a.",{"$f":"E25/E20-1","v":0.15403885279074703},-0.176473627778998,6.5371175317480601E-2,"n.a.","n.a.","n.a.","n.a."]
["2007 q1",5.0330875824103671E-2,8.3510012019690993E-2,"n.a.",0.17873080346177583,-8.116576831774458E-2,0.13961707077033214,"n.a.","n.a.","n.a.","n.a."]
["2007 q2",3.9418690517726951E-2,5.8038392339941236E-2,"n.a.",2.3760072413191669E-2,-8.1829517150972308E-2,7.601807228915658E-2,"n.a.","n.a.","n.a.","n.a."]
["2007 q3",4.4621656857634751E-2,8.3632723419780675E-2,"n.a.",-1.3941295556871958E-2,-3.5659661946094157E-2,4.1048994974874464E-2,"n.a.","n.a.","n.a.","n.a."]
["2007 q4",{"$f":"B29/B25-1","v":7.020000000000004E-2},8.329999999999993E-2,1.519999999999988E-2,3.0999999999999917E-2,1.1700000000000044E-2,0.20069999999999988,0,0,0,1.4499999999999957E-2]
["2008 q1",{"$f":"B30/B26-1","v":0.11065175033539432},0.11714496114752282,3.9416633819455704E-4,3.4160044954635538E-2,-5.9040054549230891E-3,0.32851020267971931,0,7.8525554562301814E-2,4.6708138110806985E-5,7.6447826228335236E-2]
["2008 q2",{"$f":"B31/B27-1","v":0.16391358458583527},0.13959770974323216,1.2595799493190896E-2,0.2063985802877788,0.13308773511221239,0.38503545890763391,0,7.8525554562301814E-2,4.6708138110806985E-5,0.10161639294067881]
["2008 q3",{"$f":"B32/B28-1","v":0.23159096545305768},0.18657036780785807,-6.81362558180727E-2,0.44206715712818023,0.33800327072724246,0.35530147027897985,0,8.0285278612298727E-2,4.6708138110806985E-5,9.5510873311364985E-2]
["2008 q4",{"$f":"B33/B29-1","v":0.12031875114250168},0.16139193991458978,-3.9495765929422832E-2,0.14593606458809161,0.16878866458097286,-1.4246824966206439E-3,0,8.0285278612298727E-2,4.6708138110806985E-5,0.10872890857235484]
["2009 q1",{"$f":"B34/B30-1","v":2.4500366222768521E-2},0.12316011093494228,-3.9495765929422832E-2,-0.11592822578897033,0.13155544216341486,-0.19470016888158737,0,1.6316016273820733E-3,0,6.3890998642086139E-2]
["2009 q2",{"$f":"B35/B31-1","v":-2.025106276486599E-2},8.6979520302874924E-2,-3.7957211870255358E-2,-0.23553881405416732,-6.5652292267784906E-3,-0.17932347753342559,0,-8.3436348199283916E-4,0,6.1268070167592725E-2]
["2009 q3",{"$f":"B36/B32-1","v":-7.7661761070304869E-2},2.8304549699983639E-2,5.9220389805097806E-2,-0.35183000959088673,-0.11850416737299052,-0.18715704619832618,0,-2.461948190700447E-3,0,5.9974110316380447E-2]
["2009 q4",{"$f":"B37/B33-1","v":9.0712246692352672E-3},7.7620949070867473E-2,2.9818181818182188E-2,-0.20922917327365875,-3.1578999573647404E-2,2.5860405255152763E-2,0,-2.461948190700447E-3,0,2.3242944106253383E-2]
["2010 q1",{"$f":"B38/B34-1","v":0.10277960190097923},0.112597762410237,2.9818181818182188E-2,0.19780932022173081,6.807186422958722E-2,0.14464122462953966,0,-2.461948190700447E-3,-4.6705956562864692E-5,-1.5476834324860134E-2]
["2010 q2",{"$f":"B39/B35-1","v":9.609354646292978E-2},0.10470755555412903,1.5781922525107683E-2,0.27508565032844157,7.1459109604713911E-2,5.8449805578529856E-2,0,0,0,-3.3797569257889792E-2]
["2010 q3",7.1781341828350387E-2,7.3498477113690619E-2,0.23067438007195062,0.26415650118302625,0.15716879690456564,3.852360671184285E-2,0,0,-0.15883928905066036,-9.5020905995466753E-2]
["FY2007",{"$f":"B42/B41-1","v":4.1989096886933197E-2},7.9116123654607629E-2,"n.a.",7.9505451222142032E-2,-9.7089014422341524E-2,7.8539701966760189E-2,"n.a.","n.a.","n.a.","n.a."]
["FY2008",0.14509176573650362,0.13253399393825638,-1.0084481205700491E-2,0.17808967261122843,0.11713026082712341,0.3192117203363507,0,5.9334096934225533E-2,3.5031103583049727E-5,7.2311283907288137E-2]
["FY2009",6.9149563266190928E-3,9.7156332770497178E-2,-1.5777234133547147E-2,-0.16115505282563602,3.181440124138657E-2,-0.14644707568848436,0,1.852237036577864E-2,1.167662548273718E-5,7.2665481497379059E-2]
["FY2010",6.9341287476947233E-2,9.1979135826032232E-2,7.7369605730010171E-2,0.10968938015794216,6.548887722742136E-2,6.4966985610703354E-2,0,-1.2324912601642257E-3,-3.9721498751805751E-2,-3.130848199259495E-2]
["Source: EPPSO"]
["(1) Data prior to 2006 q4, are old Ebeye CPI series, using the new CPI weights"]

{"sheet":"BOPsum","index":22,"n_rows":57,"n_cols":19,"rows_kept":57,"cut":false,"hidden":false,"merged":[[54,0,54,18]]}
["Table 8a    Marshall Islands: Balance of Payments (summary), FY2004-FY2011"]
["(US$ millions)",null,"FY1995","FY1996","FY1997","FY1998","FY1999","FY2000","FY2001","FY2002","FY2003","FY2004","FY2005","FY2006","FY2007","FY2008","FY2009","FY2010","FY2011"]
["Current account balance",null,{"$f":"[5]BoP_Sum!C3","v":-28.536055692990313},{"$f":"[5]BoP_Sum!D3","v":-42.258711838328466},{"$f":"[5]BoP_Sum!E3","v":-26.93560958458102},{"$f":"[5]BoP_Sum!F3","v":-21.613978651562871},{"$f":"[5]BoP_Sum!G3","v":-25.635674663412207},{"$f":"[5]BoP_Sum!H3","v":-24.805819670142945},{"$f":"[5]BoP_Sum!I3","v":-19.864602545700606},{"$f":"[5]BoP_Sum!J3","v":-5.7306382742451518},{"$f":"[5]BoP_Sum!K3","v":-15.500333831450845},{"$f":"[5]BoP_Sum!L3","v":-6.8886783133214848},{"$f":"[5]BoP_Sum!M3","v":-1.9625990437195853},{"$f":"[5]BoP_Sum!N3","v":-5.0651688814505178},{"$f":"[5]BoP_Sum!O3","v":-6.2899266517578596},{"$f":"[5]BoP_Sum!P3","v":-2.7065921980534853},{"$f":"[5]BoP_Sum!Q3","v":-25.567247094208916},{"$f":"[5]BoP_Sum!R3","v":-45.911706004429185},{"$f":"[5]BoP_Sum!S3","v":-10.567195286640249}]
["Goods and services balance",null,{"$f":"[5]BoP_Sum!C4","v":-87.123135917428755},{"$f":"[5]BoP_Sum!D4","v":-87.649317056519934},{"$f":"[5]BoP_Sum!E4","v":-78.276969215334688},{"$f":"[5]BoP_Sum!F4","v":-83.278025601010285},{"$f":"[5]BoP_Sum!G4","v":-87.151756917983846},{"$f":"[5]BoP_Sum!H4","v":-95.795296370059503},{"$f":"[5]BoP_Sum!I4","v":-99.951589163410233},{"$f":"[5]BoP_Sum!J4","v":-81.264212425548408},{"$f":"[5]BoP_Sum!K4","v":-91.972785479541443},{"$f":"[5]BoP_Sum!L4","v":-90.185963010906207},{"$f":"[5]BoP_Sum!M4","v":-101.07082098315979},{"$f":"[5]BoP_Sum!N4","v":-101.1366047729381},{"$f":"[5]BoP_Sum!O4","v":-112.42379149327513},{"$f":"[5]BoP_Sum!P4","v":-108.94452007846034},{"$f":"[5]BoP_Sum!Q4","v":-127.13794075692921},{"$f":"[5]BoP_Sum!R4","v":-142.35792264182541},{"$f":"[5]BoP_Sum!S4","v":-110.49245216359088}]
["Goods balance",null,{"$f":"[5]BoP_Sum!C5","v":-57.674146353437528},{"$f":"[5]BoP_Sum!D5","v":-56.95585045477381},{"$f":"[5]BoP_Sum!E5","v":-48.493247644215032},{"$f":"[5]BoP_Sum!F5","v":-50.552509850635623},{"$f":"[5]BoP_Sum!G5","v":-53.914130307742866},{"$f":"[5]BoP_Sum!H5","v":-62.46824615234214},{"$f":"[5]BoP_Sum!I5","v":-64.736298163395787},{"$f":"[5]BoP_Sum!J5","v":-49.264322423645282},{"$f":"[5]BoP_Sum!K5","v":-57.877043773937913},{"$f":"[5]BoP_Sum!L5","v":-53.202657671085504},{"$f":"[5]BoP_Sum!M5","v":-61.664834268964597},{"$f":"[5]BoP_Sum!N5","v":-64.064827247332332},{"$f":"[5]BoP_Sum!O5","v":-69.601890459612321},{"$f":"[5]BoP_Sum!P5","v":-69.7770083152284},{"$f":"[5]BoP_Sum!Q5","v":-73.5231755948206},{"$f":"[5]BoP_Sum!R5","v":-100.8480043999358},{"$f":"[5]BoP_Sum!S5","v":-68.594727191882868}]
["Exports of goods",null,{"$f":"[5]BoP_Sum!C6","v":11.818265883004592},{"$f":"[5]BoP_Sum!D6","v":12.050222173762084},{"$f":"[5]BoP_Sum!E6","v":13.582283603288541},{"$f":"[5]BoP_Sum!F6","v":11.783797431321526},{"$f":"[5]BoP_Sum!G6","v":10.074539674090229},{"$f":"[5]BoP_Sum!H6","v":15.470667017063654},{"$f":"[5]BoP_Sum!I6","v":13.879962269601394},{"$f":"[5]BoP_Sum!J6","v":15.105184960899209},{"$f":"[5]BoP_Sum!K6","v":17.538197037660407},{"$f":"[5]BoP_Sum!L6","v":18.803067846782771},{"$f":"[5]BoP_Sum!M6","v":23.464153896766252},{"$f":"[5]BoP_Sum!N6","v":17.904703810168328},{"$f":"[5]BoP_Sum!O6","v":18.327299818359684},{"$f":"[5]BoP_Sum!P6","v":20.232770622973803},{"$f":"[5]BoP_Sum!Q6","v":20.786745710433447},{"$f":"[5]BoP_Sum!R6","v":32.26872906276072},{"$f":"[5]BoP_Sum!S6","v":50.094709684425247}]
["Fish 1/",null,{"$f":"[5]BoP_Sum!C7","v":0.34899999999999998},{"$f":"[5]BoP_Sum!D7","v":0.3},{"$f":"[5]BoP_Sum!E7","v":4.5999999999999999E-2},{"$f":"[5]BoP_Sum!F7","v":0.95899999999999985},{"$f":"[5]BoP_Sum!G7","v":0.47299999999999998},{"$f":"[5]BoP_Sum!H7","v":0.38840041192800218},{"$f":"[5]BoP_Sum!I7","v":0.39558764396136847},{"$f":"[5]BoP_Sum!J7","v":0.39398550537755561},{"$f":"[5]BoP_Sum!K7","v":0.39024613870883063},{"$f":"[5]BoP_Sum!L7","v":0.39819781231888596},{"$f":"[5]BoP_Sum!M7","v":0.41208078096646877},{"$f":"[5]BoP_Sum!N7","v":0.43372674000000006},{"$f":"[5]BoP_Sum!O7","v":0.67921344000000006},{"$f":"[5]BoP_Sum!P7","v":0.79794879000000007},{"$f":"[5]BoP_Sum!Q7","v":2.8431059414285715},{"$f":"[5]BoP_Sum!R7","v":8.7861866964285724},{"$f":"[5]BoP_Sum!S7","v":19.018629753297592}]
["Other",null,{"$f":"[5]BoP_Sum!C8","v":11.469265883004592},{"$f":"[5]BoP_Sum!D8","v":11.750222173762083},{"$f":"[5]BoP_Sum!E8","v":13.536283603288542},{"$f":"[5]BoP_Sum!F8","v":10.824797431321526},{"$f":"[5]BoP_Sum!G8","v":9.6015396740902279},{"$f":"[5]BoP_Sum!H8","v":15.082266605135652},{"$f":"[5]BoP_Sum!I8","v":13.484374625640026},{"$f":"[5]BoP_Sum!J8","v":14.711199455521653},{"$f":"[5]BoP_Sum!K8","v":17.147950898951574},{"$f":"[5]BoP_Sum!L8","v":18.404870034463883},{"$f":"[5]BoP_Sum!M8","v":23.052073115799782},{"$f":"[5]BoP_Sum!N8","v":17.470977070168328},{"$f":"[5]BoP_Sum!O8","v":17.648086378359682},{"$f":"[5]BoP_Sum!P8","v":19.434821832973803},{"$f":"[5]BoP_Sum!Q8","v":17.943639769004875},{"$f":"[5]BoP_Sum!R8","v":23.482542366332147},{"$f":"[5]BoP_Sum!S8","v":31.076079931127655}]
["Imports of goods f.o.b.",null,{"$f":"[5]BoP_Sum!C9","v":69.492412236442121},{"$f":"[5]BoP_Sum!D9","v":69.00607262853589},{"$f":"[5]BoP_Sum!E9","v":62.075531247503569},{"$f":"[5]BoP_Sum!F9","v":62.336307281957147},{"$f":"[5]BoP_Sum!G9","v":63.988669981833098},{"$f":"[5]BoP_Sum!H9","v":77.938913169405794},{"$f":"[5]BoP_Sum!I9","v":78.61626043299718},{"$f":"[5]BoP_Sum!J9","v":64.369507384544491},{"$f":"[5]BoP_Sum!K9","v":75.415240811598323},{"$f":"[5]BoP_Sum!L9","v":72.005725517868271},{"$f":"[5]BoP_Sum!M9","v":85.128988165730846},{"$f":"[5]BoP_Sum!N9","v":81.96953105750066},{"$f":"[5]BoP_Sum!O9","v":87.929190277971998},{"$f":"[5]BoP_Sum!P9","v":90.009778938202203},{"$f":"[5]BoP_Sum!Q9","v":94.309921305254051},{"$f":"[5]BoP_Sum!R9","v":133.11673346269652},{"$f":"[5]BoP_Sum!S9","v":118.68943687630812}]
["Services balance",null,{"$f":"[5]BoP_Sum!C10","v":-29.448989563991233},{"$f":"[5]BoP_Sum!D10","v":-30.693466601746124},{"$f":"[5]BoP_Sum!E10","v":-29.783721571119656},{"$f":"[5]BoP_Sum!F10","v":-32.725515750374669},{"$f":"[5]BoP_Sum!G10","v":-33.237626610240987},{"$f":"[5]BoP_Sum!H10","v":-33.327050217717364},{"$f":"[5]BoP_Sum!I10","v":-35.215291000014439},{"$f":"[5]BoP_Sum!J10","v":-31.999890001903125},{"$f":"[5]BoP_Sum!K10","v":-34.095741705603523},{"$f":"[5]BoP_Sum!L10","v":-36.983305339820703},{"$f":"[5]BoP_Sum!M10","v":-39.405986714195201},{"$f":"[5]BoP_Sum!N10","v":-37.071777525605768},{"$f":"[5]BoP_Sum!O10","v":-42.821901033662812},{"$f":"[5]BoP_Sum!P10","v":-39.167511763231943},{"$f":"[5]BoP_Sum!Q10","v":-53.614765162108611},{"$f":"[5]BoP_Sum!R10","v":-41.509918241889601},{"$f":"[5]BoP_Sum!S10","v":-41.897724971708016}]
["Exports of services",null,{"$f":"[5]BoP_Sum!C11","v":7.0169326265978089},{"$f":"[5]BoP_Sum!D11","v":6.8249534981740902},{"$f":"[5]BoP_Sum!E11","v":6.709692117014157},{"$f":"[5]BoP_Sum!F11","v":7.0198879837536881},{"$f":"[5]BoP_Sum!G11","v":6.7397171185283584},{"$f":"[5]BoP_Sum!H11","v":9.5177816854670692},{"$f":"[5]BoP_Sum!I11","v":9.099943211528986},{"$f":"[5]BoP_Sum!J11","v":10.435907087312616},{"$f":"[5]BoP_Sum!K11","v":11.780040146462639},{"$f":"[5]BoP_Sum!L11","v":10.771020067810692},{"$f":"[5]BoP_Sum!M11","v":10.248582292651156},{"$f":"[5]BoP_Sum!N11","v":10.205157143720561},{"$f":"[5]BoP_Sum!O11","v":9.9810249244814795},{"$f":"[5]BoP_Sum!P11","v":10.211964261719228},{"$f":"[5]BoP_Sum!Q11","v":10.624742311236032},{"$f":"[5]BoP_Sum!R11","v":11.988416292643315},{"$f":"[5]BoP_Sum!S11","v":15.192216583399086}]
["Fish processing",null,{"$f":"[5]BoP_Sum!C12","v":0},{"$f":"[5]BoP_Sum!D12","v":0},{"$f":"[5]BoP_Sum!E12","v":0},{"$f":"[5]BoP_Sum!F12","v":0},{"$f":"[5]BoP_Sum!G12","v":0.06},{"$f":"[5]BoP_Sum!H12","v":2.5},{"$f":"[5]BoP_Sum!I12","v":2.5257343251412681},{"$f":"[5]BoP_Sum!J12","v":3.2340061886659139},{"$f":"[5]BoP_Sum!K12","v":4.2988449562577422},{"$f":"[5]BoP_Sum!L12","v":3.6792354224826407},{"$f":"[5]BoP_Sum!M12","v":1.9802742239864828},{"$f":"[5]BoP_Sum!N12","v":2.2562699388752767},{"$f":"[5]BoP_Sum!O12","v":2.3466676124892798},{"$f":"[5]BoP_Sum!P12","v":3.002202038633242},{"$f":"[5]BoP_Sum!Q12","v":3.2634140765000028},{"$f":"[5]BoP_Sum!R12","v":3.6870201957336159},{"$f":"[5]BoP_Sum!S12","v":4.2173244092376834}]
["Travel",null,{"$f":"[5]BoP_Sum!C13","v":2.6324680861328278},{"$f":"[5]BoP_Sum!D13","v":2.444379020215349},{"$f":"[5]BoP_Sum!E13","v":2.2790729324537993},{"$f":"[5]BoP_Sum!F13","v":2.3917859671950383},{"$f":"[5]BoP_Sum!G13","v":2.3708568866785864},{"$f":"[5]BoP_Sum!H13","v":2.6049391144335745},{"$f":"[5]BoP_Sum!I13","v":2.4331208989243605},{"$f":"[5]BoP_Sum!J13","v":2.8037148972187476},{"$f":"[5]BoP_Sum!K13","v":3.0520425728518386},{"$f":"[5]BoP_Sum!L13","v":2.9597656634402356},{"$f":"[5]BoP_Sum!M13","v":3.1283907587582922},{"$f":"[5]BoP_Sum!N13","v":3.1472265417721799},{"$f":"[5]BoP_Sum!O13","v":2.9396230869787248},{"$f":"[5]BoP_Sum!P13","v":2.702677735522633},{"$f":"[5]BoP_Sum!Q13","v":2.8609138966788352},{"$f":"[5]BoP_Sum!R13","v":3.5232677431971662},{"$f":"[5]BoP_Sum!S13","v":4.4774652059512237}]
["Other",null,{"$f":"[5]BoP_Sum!C14","v":4.3844645404649807},{"$f":"[5]BoP_Sum!D14","v":4.3805744779587412},{"$f":"[5]BoP_Sum!E14","v":4.4306191845603582},{"$f":"[5]BoP_Sum!F14","v":4.6281020165586497},{"$f":"[5]BoP_Sum!G14","v":4.3088602318497724},{"$f":"[5]BoP_Sum!H14","v":4.4128425710334946},{"$f":"[5]BoP_Sum!I14","v":4.141087987463357},{"$f":"[5]BoP_Sum!J14","v":4.3981860014279546},{"$f":"[5]BoP_Sum!K14","v":4.4291526173530578},{"$f":"[5]BoP_Sum!L14","v":4.1320189818878159},{"$f":"[5]BoP_Sum!M14","v":5.1399173099063811},{"$f":"[5]BoP_Sum!N14","v":4.801660663073104},{"$f":"[5]BoP_Sum!O14","v":4.6947342250134749},{"$f":"[5]BoP_Sum!P14","v":4.5070844875633522},{"$f":"[5]BoP_Sum!Q14","v":4.5004143380571939},{"$f":"[5]BoP_Sum!R14","v":4.7781283537125319},{"$f":"[5]BoP_Sum!S14","v":6.4974269682101786}]
["Imports of services",null,{"$f":"[5]BoP_Sum!C15","v":36.46592219058904},{"$f":"[5]BoP_Sum!D15","v":37.518420099920213},{"$f":"[5]BoP_Sum!E15","v":36.493413688133813},{"$f":"[5]BoP_Sum!F15","v":39.745403734128359},{"$f":"[5]BoP_Sum!G15","v":39.977343728769348},{"$f":"[5]BoP_Sum!H15","v":42.844831903184435},{"$f":"[5]BoP_Sum!I15","v":44.315234211543427},{"$f":"[5]BoP_Sum!J15","v":42.43579708921574},{"$f":"[5]BoP_Sum!K15","v":45.875781852066162},{"$f":"[5]BoP_Sum!L15","v":47.754325407631399},{"$f":"[5]BoP_Sum!M15","v":49.654569006846359},{"$f":"[5]BoP_Sum!N15","v":47.27693466932633},{"$f":"[5]BoP_Sum!O15","v":52.802925958144293},{"$f":"[5]BoP_Sum!P15","v":49.379476024951167},{"$f":"[5]BoP_Sum!Q15","v":64.239507473344645},{"$f":"[5]BoP_Sum!R15","v":53.498334534532916},{"$f":"[5]BoP_Sum!S15","v":57.089941555107103}]
["Transport",null,{"$f":"[5]BoP_Sum!C16","v":18.562524608659558},{"$f":"[5]BoP_Sum!D16","v":17.863835451979153},{"$f":"[5]BoP_Sum!E16","v":15.742302325924076},{"$f":"[5]BoP_Sum!F16","v":17.474684180445259},{"$f":"[5]BoP_Sum!G16","v":17.460379950218623},{"$f":"[5]BoP_Sum!H16","v":20.804648437911133},{"$f":"[5]BoP_Sum!I16","v":20.602026743314237},{"$f":"[5]BoP_Sum!J16","v":18.951960562962583},{"$f":"[5]BoP_Sum!K16","v":21.635249136766738},{"$f":"[5]BoP_Sum!L16","v":22.480683177495671},{"$f":"[5]BoP_Sum!M16","v":25.517512548241122},{"$f":"[5]BoP_Sum!N16","v":26.010796461181343},{"$f":"[5]BoP_Sum!O16","v":27.248430386685701},{"$f":"[5]BoP_Sum!P16","v":28.026294383604469},{"$f":"[5]BoP_Sum!Q16","v":25.967279028543338},{"$f":"[5]BoP_Sum!R16","v":26.853782481862424},{"$f":"[5]BoP_Sum!S16","v":28.566117982387588}]
["Freight and postal services",null,{"$f":"[5]BoP_Sum!C17","v":12.187449548220298},{"$f":"[5]BoP_Sum!D17","v":11.921866596176047},{"$f":"[5]BoP_Sum!E17","v":10.118456172077922},{"$f":"[5]BoP_Sum!F17","v":11.145281926406927},{"$f":"[5]BoP_Sum!G17","v":11.01056329004329},{"$f":"[5]BoP_Sum!H17","v":13.763400061138528},{"$f":"[5]BoP_Sum!I17","v":13.200647382415584},{"$f":"[5]BoP_Sum!J17","v":10.911587080501697},{"$f":"[5]BoP_Sum!K17","v":12.795329421946615},{"$f":"[5]BoP_Sum!L17","v":12.211689177495671},{"$f":"[5]BoP_Sum!M17","v":14.417915548241124},{"$f":"[5]BoP_Sum!N17","v":13.771159461181341},{"$f":"[5]BoP_Sum!O17","v":14.381592956685701},{"$f":"[5]BoP_Sum!P17","v":15.102748253604469},{"$f":"[5]BoP_Sum!Q17","v":13.733174648543338},{"$f":"[5]BoP_Sum!R17","v":15.923660481862425},{"$f":"[5]BoP_Sum!S17","v":17.490319982387586}]
["Passenger services",null,{"$f":"[5]BoP_Sum!C18","v":6.3750750604392605},{"$f":"[5]BoP_Sum!D18","v":5.9419688558031085},{"$f":"[5]BoP_Sum!E18","v":5.6238461538461539},{"$f":"[5]BoP_Sum!F18","v":6.3294022540383335},{"$f":"[5]BoP_Sum!G18","v":6.4498166601753315},{"$f":"[5]BoP_Sum!H18","v":7.0412483767726073},{"$f":"[5]BoP_Sum!I18","v":7.4013793608986544},{"$f":"[5]BoP_Sum!J18","v":8.0403734824608861},{"$f":"[5]BoP_Sum!K18","v":8.839919714820125},{"$f":"[5]BoP_Sum!L18","v":10.268993999999999},{"$f":"[5]BoP_Sum!M18","v":11.099596999999999},{"$f":"[5]BoP_Sum!N18","v":12.239637},{"$f":"[5]BoP_Sum!O18","v":12.86683743},{"$f":"[5]BoP_Sum!P18","v":12.92354613},{"$f":"[5]BoP_Sum!Q18","v":12.23410438},{"$f":"[5]BoP_Sum!R18","v":10.930122000000001},{"$f":"[5]BoP_Sum!S18","v":11.075798000000001}]
["Construction services",null,{"$f":"[5]BoP_Sum!C19","v":0},{"$f":"[5]BoP_Sum!D19","v":0},{"$f":"[5]BoP_Sum!E19","v":0},{"$f":"[5]BoP_Sum!F19","v":0},{"$f":"[5]BoP_Sum!G19","v":0},{"$f":"[5]BoP_Sum!H19","v":0},{"$f":"[5]BoP_Sum!I19","v":0},{"$f":"[5]BoP_Sum!J19","v":0},{"$f":"[5]BoP_Sum!K19","v":0},{"$f":"[5]BoP_Sum!L19","v":0},{"$f":"[5]BoP_Sum!M19","v":0},{"$f":"[5]BoP_Sum!N19","v":0},{"$f":"[5]BoP_Sum!O19","v":0},{"$f":"[5]BoP_Sum!P19","v":0},{"$f":"[5]BoP_Sum!Q19","v":12.945344800000001},{"$f":"[5]BoP_Sum!R19","v":1.8279167999999992},{"$f":"[5]BoP_Sum!S19","v":0}]
["Other",null,{"$f":"[5]BoP_Sum!C20","v":17.903397581929482},{"$f":"[5]BoP_Sum!D20","v":19.654584647941061},{"$f":"[5]BoP_Sum!E20","v":20.751111362209738},{"$f":"[5]BoP_Sum!F20","v":22.270719553683101},{"$f":"[5]BoP_Sum!G20","v":22.516963778550725},{"$f":"[5]BoP_Sum!H20","v":22.040183465273302},{"$f":"[5]BoP_Sum!I20","v":23.713207468229189},{"$f":"[5]BoP_Sum!J20","v":23.483836526253157},{"$f":"[5]BoP_Sum!K20","v":24.240532715299423},{"$f":"[5]BoP_Sum!L20","v":25.273642230135728},{"$f":"[5]BoP_Sum!M20","v":24.137056458605237},{"$f":"[5]BoP_Sum!N20","v":21.266138208144987},{"$f":"[5]BoP_Sum!O20","v":25.554495571458592},{"$f":"[5]BoP_Sum!P20","v":21.353181641346698},{"$f":"[5]BoP_Sum!Q20","v":25.326883644801306},{"$f":"[5]BoP_Sum!R20","v":24.816635252670491},{"$f":"[5]BoP_Sum!S20","v":28.523823572719515}]
["Primary income balance",null,{"$f":"[5]BoP_Sum!C21","v":33.306567371664961},{"$f":"[5]BoP_Sum!D21","v":25.14206032726235},{"$f":"[5]BoP_Sum!E21","v":26.826224012556473},{"$f":"[5]BoP_Sum!F21","v":32.19453117210611},{"$f":"[5]BoP_Sum!G21","v":35.889912570108535},{"$f":"[5]BoP_Sum!H21","v":37.214536737111942},{"$f":"[5]BoP_Sum!I21","v":38.189086014326278},{"$f":"[5]BoP_Sum!J21","v":37.463170619231242},{"$f":"[5]BoP_Sum!K21","v":36.631839251879583},{"$f":"[5]BoP_Sum!L21","v":37.462884143116071},{"$f":"[5]BoP_Sum!M21","v":41.534172440276585},{"$f":"[5]BoP_Sum!N21","v":41.63755568735354},{"$f":"[5]BoP_Sum!O21","v":43.986841828951405},{"$f":"[5]BoP_Sum!P21","v":44.025176718349115},{"$f":"[5]BoP_Sum!Q21","v":41.357250355731225},{"$f":"[5]BoP_Sum!R21","v":35.611487959329594},{"$f":"[5]BoP_Sum!S21","v":39.132493918164094}]
["Primary income, inflows",null,{"$f":"[5]BoP_Sum!C22","v":43.972051452011144},{"$f":"[5]BoP_Sum!D22","v":37.805716867987343},{"$f":"[5]BoP_Sum!E22","v":38.661853762752962},{"$f":"[5]BoP_Sum!F22","v":43.579121801390926},{"$f":"[5]BoP_Sum!G22","v":46.282576714912686},{"$f":"[5]BoP_Sum!H22","v":45.966896476329012},{"$f":"[5]BoP_Sum!I22","v":46.178310332244735},{"$f":"[5]BoP_Sum!J22","v":45.1204427316679},{"$f":"[5]BoP_Sum!K22","v":44.435001866155019},{"$f":"[5]BoP_Sum!L22","v":47.230678630506347},{"$f":"[5]BoP_Sum!M22","v":52.059556117003424},{"$f":"[5]BoP_Sum!N22","v":56.037062459536664},{"$f":"[5]BoP_Sum!O22","v":57.691955730806228},{"$f":"[5]BoP_Sum!P22","v":56.958002028573489},{"$f":"[5]BoP_Sum!Q22","v":53.749098081829146},{"$f":"[5]BoP_Sum!R22","v":52.290861813370718},{"$f":"[5]BoP_Sum!S22","v":56.465392343035106}]
["Compensation of employees",null,{"$f":"[5]BoP_Sum!C23","v":14.1},{"$f":"[5]BoP_Sum!D23","v":14.1},{"$f":"[5]BoP_Sum!E23","v":15.021586693557229},{"$f":"[5]BoP_Sum!F23","v":15.174865575762366},{"$f":"[5]BoP_Sum!G23","v":16.629654013693191},{"$f":"[5]BoP_Sum!H23","v":19.18224783488013},{"$f":"[5]BoP_Sum!I23","v":20.128547937035513},{"$f":"[5]BoP_Sum!J23","v":19.099540735988914},{"$f":"[5]BoP_Sum!K23","v":20.392630873256952},{"$f":"[5]BoP_Sum!L23","v":20.642831907652852},{"$f":"[5]BoP_Sum!M23","v":21.231102615885774},{"$f":"[5]BoP_Sum!N23","v":23.323336380073325},{"$f":"[5]BoP_Sum!O23","v":22.314952378147641},{"$f":"[5]BoP_Sum!P23","v":19.88242366262044},{"$f":"[5]BoP_Sum!Q23","v":20.074290549255007},{"$f":"[5]BoP_Sum!R23","v":19.085924944410763},{"$f":"[5]BoP_Sum!S23","v":18.934102266023135}]
["Ship registration fees",null,{"$f":"[5]BoP_Sum!C24","v":0.77864299999999997},{"$f":"[5]BoP_Sum!D24","v":0.77864299999999997},{"$f":"[5]BoP_Sum!E24","v":0.77864299999999997},{"$f":"[5]BoP_Sum!F24","v":0.76634100000000005},{"$f":"[5]BoP_Sum!G24","v":0.94005000000000005},{"$f":"[5]BoP_Sum!H24","v":1.064921},{"$f":"[5]BoP_Sum!I24","v":0.97660599999999997},{"$f":"[5]BoP_Sum!J24","v":1.0944739999999999},{"$f":"[5]BoP_Sum!K24","v":1},{"$f":"[5]BoP_Sum!L24","v":1},{"$f":"[5]BoP_Sum!M24","v":1},{"$f":"[5]BoP_Sum!N24","v":1},{"$f":"[5]BoP_Sum!O24","v":1.75},{"$f":"[5]BoP_Sum!P24","v":2},{"$f":"[5]BoP_Sum!Q24","v":3.25},{"$f":"[5]BoP_Sum!R24","v":3},{"$f":"[5]BoP_Sum!S24","v":3.75}]
["Fishing licence fees",null,{"$f":"[5]BoP_Sum!C25","v":2.150271},{"$f":"[5]BoP_Sum!D25","v":2.0334984999999999},{"$f":"[5]BoP_Sum!E25","v":1.9167259999999999},{"$f":"[5]BoP_Sum!F25","v":3.843},{"$f":"[5]BoP_Sum!G25","v":4.7893999999999997},{"$f":"[5]BoP_Sum!H25","v":2.7506999999999997},{"$f":"[5]BoP_Sum!I25","v":0.89839999999999998},{"$f":"[5]BoP_Sum!J25","v":1.0860179999999999},{"$f":"[5]BoP_Sum!K25","v":1.1788019999999999},{"$f":"[5]BoP_Sum!L25","v":0.85533999999999999},{"$f":"[5]BoP_Sum!M25","v":1.3540000000000001},{"$f":"[5]BoP_Sum!N25","v":1.614222},{"$f":"[5]BoP_Sum!O25","v":0.751799},{"$f":"[5]BoP_Sum!P25","v":1.7309860000000001},{"$f":"[5]BoP_Sum!Q25","v":1.3819999999999999},{"$f":"[5]BoP_Sum!R25","v":1.3448659999999999},{"$f":"[5]BoP_Sum!S25","v":2.4804520000000001}]
["Dividends and interest",null,{"$f":"[5]BoP_Sum!C26","v":15.026347026022137},{"$f":"[5]BoP_Sum!D26","v":8.9398333495810878},{"$f":"[5]BoP_Sum!E26","v":9.2818303735255867},{"$f":"[5]BoP_Sum!F26","v":11.15607199450103},{"$f":"[5]BoP_Sum!G26","v":10.925661591646659},{"$f":"[5]BoP_Sum!H26","v":10.621931021071628},{"$f":"[5]BoP_Sum!I26","v":12.245901353941129},{"$f":"[5]BoP_Sum!J26","v":11.667369023145163},{"$f":"[5]BoP_Sum!K26","v":9.9609914422634667},{"$f":"[5]BoP_Sum!L26","v":9.0029262557734935},{"$f":"[5]BoP_Sum!M26","v":12.444970557037646},{"$f":"[5]BoP_Sum!N26","v":13.739608729603333},{"$f":"[5]BoP_Sum!O26","v":16.218360177648584},{"$f":"[5]BoP_Sum!P26","v":16.226442107213046},{"$f":"[5]BoP_Sum!Q26","v":10.909210018784137},{"$f":"[5]BoP_Sum!R26","v":10.785881183509954},{"$f":"[5]BoP_Sum!S26","v":13.253209050301972}]
["Other",null,{"$f":"[5]BoP_Sum!C27","v":11.916790425989007},{"$f":"[5]BoP_Sum!D27","v":11.953742018406253},{"$f":"[5]BoP_Sum!E27","v":11.663067695670147},{"$f":"[5]BoP_Sum!F27","v":12.638843231127527},{"$f":"[5]BoP_Sum!G27","v":12.997811109572837},{"$f":"[5]BoP_Sum!H27","v":12.347096620377258},{"$f":"[5]BoP_Sum!I27","v":11.928855041268093},{"$f":"[5]BoP_Sum!J27","v":12.173040972533819},{"$f":"[5]BoP_Sum!K27","v":11.902577550634604},{"$f":"[5]BoP_Sum!L27","v":15.729580467079998},{"$f":"[5]BoP_Sum!M27","v":16.029482944080002},{"$f":"[5]BoP_Sum!N27","v":16.359895349860004},{"$f":"[5]BoP_Sum!O27","v":16.656844175010008},{"$f":"[5]BoP_Sum!P27","v":17.118150258740002},{"$f":"[5]BoP_Sum!Q27","v":18.133597513790001},{"$f":"[5]BoP_Sum!R27","v":18.074189685450001},{"$f":"[5]BoP_Sum!S27","v":18.047629026709998}]
["Primary income, outflows",null,{"$f":"[5]BoP_Sum!C28","v":10.665484080346184},{"$f":"[5]BoP_Sum!D28","v":12.663656540724993},{"$f":"[5]BoP_Sum!E28","v":11.835629750196487},{"$f":"[5]BoP_Sum!F28","v":11.384590629284814},{"$f":"[5]BoP_Sum!G28","v":10.392664144804153},{"$f":"[5]BoP_Sum!H28","v":8.7523597392170664},{"$f":"[5]BoP_Sum!I28","v":7.9892243179184543},{"$f":"[5]BoP_Sum!J28","v":7.6572721124366598},{"$f":"[5]BoP_Sum!K28","v":7.8031626142754336},{"$f":"[5]BoP_Sum!L28","v":9.7677944873902796},{"$f":"[5]BoP_Sum!M28","v":10.525383676726838},{"$f":"[5]BoP_Sum!N28","v":14.39950677218312},{"$f":"[5]BoP_Sum!O28","v":13.705113901854823},{"$f":"[5]BoP_Sum!P28","v":12.932825310224377},{"$f":"[5]BoP_Sum!Q28","v":12.39184772609792},{"$f":"[5]BoP_Sum!R28","v":16.67937385404112},{"$f":"[5]BoP_Sum!S28","v":17.332898424871011}]
["Secondary income balance",null,{"$f":"[5]BoP_Sum!C29","v":25.28051285277348},{"$f":"[5]BoP_Sum!D29","v":20.248544890929118},{"$f":"[5]BoP_Sum!E29","v":24.515135618197196},{"$f":"[5]BoP_Sum!F29","v":29.469515777341304},{"$f":"[5]BoP_Sum!G29","v":25.626169684463104},{"$f":"[5]BoP_Sum!H29","v":33.774939962804616},{"$f":"[5]BoP_Sum!I29","v":41.897900603383349},{"$f":"[5]BoP_Sum!J29","v":38.070403532072014},{"$f":"[5]BoP_Sum!K29","v":39.840612396211014},{"$f":"[5]BoP_Sum!L29","v":45.834400554468651},{"$f":"[5]BoP_Sum!M29","v":57.574049499163621},{"$f":"[5]BoP_Sum!N29","v":54.433880204134041},{"$f":"[5]BoP_Sum!O29","v":62.14702301256586},{"$f":"[5]BoP_Sum!P29","v":62.212751162057742},{"$f":"[5]BoP_Sum!Q29","v":60.21344330698907},{"$f":"[5]BoP_Sum!R29","v":60.834728678066632},{"$f":"[5]BoP_Sum!S29","v":60.792762958786533}]
["Secondary income, inflows",null,{"$f":"[5]BoP_Sum!C30","v":28.43274870128521},{"$f":"[5]BoP_Sum!D30","v":23.166567873463947},{"$f":"[5]BoP_Sum!E30","v":27.282331755535289},{"$f":"[5]BoP_Sum!F30","v":32.316522106058073},{"$f":"[5]BoP_Sum!G30","v":28.461356715493572},{"$f":"[5]BoP_Sum!H30","v":36.730719668572291},{"$f":"[5]BoP_Sum!I30","v":44.942160978164516},{"$f":"[5]BoP_Sum!J30","v":41.293029887663153},{"$f":"[5]BoP_Sum!K30","v":43.150773263095012},{"$f":"[5]BoP_Sum!L30","v":49.224900642064952},{"$f":"[5]BoP_Sum!M30","v":61.155203347903878},{"$f":"[5]BoP_Sum!N30","v":58.145100402508447},{"$f":"[5]BoP_Sum!O30","v":66.029519146598176},{"$f":"[5]BoP_Sum!P30","v":66.317955617032311},{"$f":"[5]BoP_Sum!Q30","v":64.645913607226461},{"$f":"[5]BoP_Sum!R30","v":66.161594526044993},{"$f":"[5]BoP_Sum!S30","v":66.775514577331691}]
["Government grants",null,{"$f":"[5]BoP_Sum!C31","v":22.194368999999998},{"$f":"[5]BoP_Sum!D31","v":16.867531},{"$f":"[5]BoP_Sum!E31","v":20.784552999999999},{"$f":"[5]BoP_Sum!F31","v":25.711071},{"$f":"[5]BoP_Sum!G31","v":21.638183999999999},{"$f":"[5]BoP_Sum!H31","v":29.528748},{"$f":"[5]BoP_Sum!I31","v":37.635221999999999},{"$f":"[5]BoP_Sum!J31","v":33.956423999999998},{"$f":"[5]BoP_Sum!K31","v":35.87283},{"$f":"[5]BoP_Sum!L31","v":41.366838000000001},{"$f":"[5]BoP_Sum!M31","v":52.634169999999997},{"$f":"[5]BoP_Sum!N31","v":49.585728000000003},{"$f":"[5]BoP_Sum!O31","v":53.792574000000002},{"$f":"[5]BoP_Sum!P31","v":57.248904999999993},{"$f":"[5]BoP_Sum!Q31","v":54.448877999999993},{"$f":"[5]BoP_Sum!R31","v":56.178115776271298},{"$f":"[5]BoP_Sum!S31","v":56.120088315632927}]
["Compact current grants",null,{"$f":"[5]BoP_Sum!C32","v":14.155899999999999},{"$f":"[5]BoP_Sum!D32","v":6.9589599999999994},{"$f":"[5]BoP_Sum!E32","v":7.5611179999999996},{"$f":"[5]BoP_Sum!F32","v":7.4234639999999992},{"$f":"[5]BoP_Sum!G32","v":7.973082999999999},{"$f":"[5]BoP_Sum!H32","v":8.0718999999999994},{"$f":"[5]BoP_Sum!I32","v":8.059099999999999},{"$f":"[5]BoP_Sum!J32","v":13.409667000000001},{"$f":"[5]BoP_Sum!K32","v":13.470667000000001},{"$f":"[5]BoP_Sum!L32","v":18.092524000000001},{"$f":"[5]BoP_Sum!M32","v":22.859694999999999},{"$f":"[5]BoP_Sum!N32","v":26.013247},{"$f":"[5]BoP_Sum!O32","v":27.964244000000001},{"$f":"[5]BoP_Sum!P32","v":30.328389999999999},{"$f":"[5]BoP_Sum!Q32","v":34.305484},{"$f":"[5]BoP_Sum!R32","v":32.255412},{"$f":"[5]BoP_Sum!S32","v":32.181789000000002}]
["Other budget and off-budget grants",null,{"$f":"[5]BoP_Sum!C33","v":8.0384689999999992},{"$f":"[5]BoP_Sum!D33","v":9.9085709999999985},{"$f":"[5]BoP_Sum!E33","v":13.223435},{"$f":"[5]BoP_Sum!F33","v":18.287607000000001},{"$f":"[5]BoP_Sum!G33","v":13.665101},{"$f":"[5]BoP_Sum!H33","v":21.456848000000001},{"$f":"[5]BoP_Sum!I33","v":29.576121999999998},{"$f":"[5]BoP_Sum!J33","v":20.546756999999999},{"$f":"[5]BoP_Sum!K33","v":22.402163000000002},{"$f":"[5]BoP_Sum!L33","v":23.274314},{"$f":"[5]BoP_Sum!M33","v":29.774474999999999},{"$f":"[5]BoP_Sum!N33","v":23.572481},{"$f":"[5]BoP_Sum!O33","v":25.828329999999998},{"$f":"[5]BoP_Sum!P33","v":26.920514999999998},{"$f":"[5]BoP_Sum!Q33","v":20.143393999999997},{"$f":"[5]BoP_Sum!R33","v":23.922703776271298},{"$f":"[5]BoP_Sum!S33","v":23.938299315632928}]
["College of Marshall Islands",null,{"$f":"[5]BoP_Sum!C34","v":2.8642334023437499},{"$f":"[5]BoP_Sum!D34","v":2.8660771953124997},{"$f":"[5]BoP_Sum!E34","v":2.8623896093749996},{"$f":"[5]BoP_Sum!F34","v":2.8697647812499998},{"$f":"[5]BoP_Sum!G34","v":2.8550144374999999},{"$f":"[5]BoP_Sum!H34","v":2.8845151250000001},{"$f":"[5]BoP_Sum!I34","v":2.8255137499999998},{"$f":"[5]BoP_Sum!J34","v":2.9435164999999999},{"$f":"[5]BoP_Sum!K34","v":2.7075109999999998},{"$f":"[5]BoP_Sum!L34","v":3.179522},{"$f":"[5]BoP_Sum!M34","v":3.3236940000000001},{"$f":"[5]BoP_Sum!N34","v":2.865945},{"$f":"[5]BoP_Sum!O34","v":3.2512460000000001},{"$f":"[5]BoP_Sum!P34","v":3.189629},{"$f":"[5]BoP_Sum!Q34","v":3.8707750000000001},{"$f":"[5]BoP_Sum!R34","v":4.3524820000000002},{"$f":"[5]BoP_Sum!S34","v":4.5645210000000001}]
["Other 3/",null,{"$f":"[5]BoP_Sum!C35","v":3.3741462989414615},{"$f":"[5]BoP_Sum!D35","v":3.4329596781514478},{"$f":"[5]BoP_Sum!E35","v":3.6353891461602901},{"$f":"[5]BoP_Sum!F35","v":3.7356863248080732},{"$f":"[5]BoP_Sum!G35","v":3.9681582779935733},{"$f":"[5]BoP_Sum!H35","v":4.3174565435722911},{"$f":"[5]BoP_Sum!I35","v":4.4814252281645173},{"$f":"[5]BoP_Sum!J35","v":4.3930893876631547},{"$f":"[5]BoP_Sum!K35","v":4.5704322630950109},{"$f":"[5]BoP_Sum!L35","v":4.6785406420649505},{"$f":"[5]BoP_Sum!M35","v":5.1973393479038812},{"$f":"[5]BoP_Sum!N35","v":5.6934274025084441},{"$f":"[5]BoP_Sum!O35","v":8.9856991465981739},{"$f":"[5]BoP_Sum!P35","v":5.8794216170323175},{"$f":"[5]BoP_Sum!Q35","v":6.3262606072264678},{"$f":"[5]BoP_Sum!R35","v":5.6309967497736952},{"$f":"[5]BoP_Sum!S35","v":6.0909052616987642}]
["Secondary income, outflows 3/",null,{"$f":"[5]BoP_Sum!C36","v":3.1522358485117303},{"$f":"[5]BoP_Sum!D36","v":2.9180229825348287},{"$f":"[5]BoP_Sum!E36","v":2.7671961373380922},{"$f":"[5]BoP_Sum!F36","v":2.8470063287167702},{"$f":"[5]BoP_Sum!G36","v":2.8351870310304697},{"$f":"[5]BoP_Sum!H36","v":2.955779705767672},{"$f":"[5]BoP_Sum!I36","v":3.0442603747811678},{"$f":"[5]BoP_Sum!J36","v":3.2226263555911365},{"$f":"[5]BoP_Sum!K36","v":3.3101608668839999},{"$f":"[5]BoP_Sum!L36","v":3.3905000875963016},{"$f":"[5]BoP_Sum!M36","v":3.581153848740255},{"$f":"[5]BoP_Sum!N36","v":3.7112201983744053},{"$f":"[5]BoP_Sum!O36","v":3.8824961340323161},{"$f":"[5]BoP_Sum!P36","v":4.1052044549745697},{"$f":"[5]BoP_Sum!Q36","v":4.4324703002373917},{"$f":"[5]BoP_Sum!R36","v":5.3268658479783619},{"$f":"[5]BoP_Sum!S36","v":5.9827516185451612}]
["Capital account balance",null,{"$f":"[5]BoP_Sum!C37","v":28.544537000000002},{"$f":"[5]BoP_Sum!D37","v":72.871282999999991},{"$f":"[5]BoP_Sum!E37","v":28.219876000000003},{"$f":"[5]BoP_Sum!F37","v":29.096918000000002},{"$f":"[5]BoP_Sum!G37","v":28.194851000000003},{"$f":"[5]BoP_Sum!H37","v":28.224100000000004},{"$f":"[5]BoP_Sum!I37","v":28.579710000000002},{"$f":"[5]BoP_Sum!J37","v":20.600518999999998},{"$f":"[5]BoP_Sum!K37","v":19.239332999999998},{"$f":"[5]BoP_Sum!L37","v":9.6138960000000004},{"$f":"[5]BoP_Sum!M37","v":22.670218999999999},{"$f":"[5]BoP_Sum!N37","v":35.559258999999997},{"$f":"[5]BoP_Sum!O37","v":34.694148000000006},{"$f":"[5]BoP_Sum!P37","v":30.136500999999999},{"$f":"[5]BoP_Sum!Q37","v":38.743563999999999},{"$f":"[5]BoP_Sum!R37","v":32.229189000000005},{"$f":"[5]BoP_Sum!S37","v":30.244124751996008}]
["Capital inflows",null,{"$f":"[5]BoP_Sum!C38","v":28.544537000000002},{"$f":"[5]BoP_Sum!D38","v":72.871282999999991},{"$f":"[5]BoP_Sum!E38","v":28.219876000000003},{"$f":"[5]BoP_Sum!F38","v":29.096918000000002},{"$f":"[5]BoP_Sum!G38","v":28.194851000000003},{"$f":"[5]BoP_Sum!H38","v":28.224100000000004},{"$f":"[5]BoP_Sum!I38","v":28.579710000000002},{"$f":"[5]BoP_Sum!J38","v":20.600518999999998},{"$f":"[5]BoP_Sum!K38","v":19.239332999999998},{"$f":"[5]BoP_Sum!L38","v":9.6138960000000004},{"$f":"[5]BoP_Sum!M38","v":22.670218999999999},{"$f":"[5]BoP_Sum!N38","v":35.559258999999997},{"$f":"[5]BoP_Sum!O38","v":34.694148000000006},{"$f":"[5]BoP_Sum!P38","v":30.136500999999999},{"$f":"[5]BoP_Sum!Q38","v":38.743563999999999},{"$f":"[5]BoP_Sum!R38","v":32.229189000000005},{"$f":"[5]BoP_Sum!S38","v":30.244124751996008}]
["National Gov't, Compact capital grants",null,{"$f":"[5]BoP_Sum!C39","v":22.220839999999999},{"$f":"[5]BoP_Sum!D39","v":27.60324},{"$f":"[5]BoP_Sum!E39","v":22.848690000000001},{"$f":"[5]BoP_Sum!F39","v":23.501135999999999},{"$f":"[5]BoP_Sum!G39","v":22.951516999999999},{"$f":"[5]BoP_Sum!H39","v":23.024100000000001},{"$f":"[5]BoP_Sum!I39","v":23.379709999999999},{"$f":"[5]BoP_Sum!J39","v":19.300519000000001},{"$f":"[5]BoP_Sum!K39","v":19.239332999999998},{"$f":"[5]BoP_Sum!L39","v":2.4513470000000002},{"$f":"[5]BoP_Sum!M39","v":4.71652},{"$f":"[5]BoP_Sum!N39","v":9.4965890000000002},{"$f":"[5]BoP_Sum!O39","v":16.582664000000001},{"$f":"[5]BoP_Sum!P39","v":11.289527},{"$f":"[5]BoP_Sum!Q39","v":13.218273},{"$f":"[5]BoP_Sum!R39","v":13.307975000000001},{"$f":"[5]BoP_Sum!S39","v":12.245974751996005}]
["Other capital grants to government",null,{"$f":"[5]BoP_Sum!C40","v":6.3236970000000028},{"$f":"[5]BoP_Sum!D40","v":45.268042999999992},{"$f":"[5]BoP_Sum!E40","v":5.3711860000000016},{"$f":"[5]BoP_Sum!F40","v":5.5957820000000034},{"$f":"[5]BoP_Sum!G40","v":5.2433340000000044},{"$f":"[5]BoP_Sum!H40","v":5.2000000000000028},{"$f":"[5]BoP_Sum!I40","v":5.2000000000000028},{"$f":"[5]BoP_Sum!J40","v":1.2999999999999972},{"$f":"[5]BoP_Sum!K40","v":0},{"$f":"[5]BoP_Sum!L40","v":7.1625490000000003},{"$f":"[5]BoP_Sum!M40","v":17.953699},{"$f":"[5]BoP_Sum!N40","v":26.062669999999997},{"$f":"[5]BoP_Sum!O40","v":18.111484000000004},{"$f":"[5]BoP_Sum!P40","v":18.846973999999999},{"$f":"[5]BoP_Sum!Q40","v":25.525290999999999},{"$f":"[5]BoP_Sum!R40","v":18.921214000000006},{"$f":"[5]BoP_Sum!S40","v":17.998150000000003}]
["Net lending/Borrowing (Curr + Cap)",null,{"$f":"[5]BoP_Sum!C41","v":8.4813070096885212E-3},{"$f":"[5]BoP_Sum!D41","v":30.612571161671525},{"$f":"[5]BoP_Sum!E41","v":1.2842664154189833},{"$f":"[5]BoP_Sum!F41","v":7.4829393484371316},{"$f":"[5]BoP_Sum!G41","v":2.5591763365877966},{"$f":"[5]BoP_Sum!H41","v":3.4182803298570583},{"$f":"[5]BoP_Sum!I41","v":8.715107454299396},{"$f":"[5]BoP_Sum!J41","v":14.869880725754847},{"$f":"[5]BoP_Sum!K41","v":3.738999168549153},{"$f":"[5]BoP_Sum!L41","v":2.7252176866785156},{"$f":"[5]BoP_Sum!M41","v":20.707619956280414},{"$f":"[5]BoP_Sum!N41","v":30.494090118549479},{"$f":"[5]BoP_Sum!O41","v":28.404221348242146},{"$f":"[5]BoP_Sum!P41","v":27.429908801946514},{"$f":"[5]BoP_Sum!Q41","v":13.176316905791083},{"$f":"[5]BoP_Sum!R41","v":-13.68251700442918},{"$f":"[5]BoP_Sum!S41","v":19.676929465355759}]
["Financial account balance",null,{"$f":"[5]BoP_Sum!C42","v":29.253193478572499},{"$f":"[5]BoP_Sum!D42","v":-44.473853279276767},{"$f":"[5]BoP_Sum!E42","v":5.5862819336472054},{"$f":"[5]BoP_Sum!F42","v":10.269622328479592},{"$f":"[5]BoP_Sum!G42","v":-11.68802874280817},{"$f":"[5]BoP_Sum!H42","v":-4.6264706150635497},{"$f":"[5]BoP_Sum!I42","v":-3.2002684964315975},{"$f":"[5]BoP_Sum!J42","v":3.8416622501365971},{"$f":"[5]BoP_Sum!K42","v":-1.154909119940446},{"$f":"[5]BoP_Sum!L42","v":19.730369766220328},{"$f":"[5]BoP_Sum!M42","v":-13.445827638450842},{"$f":"[5]BoP_Sum!N42","v":11.252500157088537},{"$f":"[5]BoP_Sum!O42","v":-11.020505678878349},{"$f":"[5]BoP_Sum!P42","v":11.791808899110798},{"$f":"[5]BoP_Sum!Q42","v":16.359669271454372},{"$f":"[5]BoP_Sum!R42","v":21.561438282172944},{"$f":"[5]BoP_Sum!S42","v":8.9288746300651312}]
["Direct investment",null,{"$f":"[5]BoP_Sum!C43","v":0.64215037769766403},{"$f":"[5]BoP_Sum!D43","v":0.67535330052021503},{"$f":"[5]BoP_Sum!E43","v":0.6974795534291407},{"$f":"[5]BoP_Sum!F43","v":0.69434983565339348},{"$f":"[5]BoP_Sum!G43","v":3.7082407526907972},{"$f":"[5]BoP_Sum!H43","v":0.73900918448751574},{"$f":"[5]BoP_Sum!I43","v":0.73868257006671567},{"$f":"[5]BoP_Sum!J43","v":0.83876427178162305},{"$f":"[5]BoP_Sum!K43","v":-1.1515031743957713},{"$f":"[5]BoP_Sum!L43","v":1.1223969101417415},{"$f":"[5]BoP_Sum!M43","v":3.2796223615491518},{"$f":"[5]BoP_Sum!N43","v":-1.0632382754114607},{"$f":"[5]BoP_Sum!O43","v":6.9873119877883028},{"$f":"[5]BoP_Sum!P43","v":5.6947467157774785},{"$f":"[5]BoP_Sum!Q43","v":14.649434956454378},{"$f":"[5]BoP_Sum!R43","v":37.230553649610428},{"$f":"[5]BoP_Sum!S43","v":4.5811512687495153}]
["Portfolio investment (increase in assets: -)",null,{"$f":"[5]BoP_Sum!C44","v":24.447516046533167},{"$f":"[5]BoP_Sum!D44","v":-44.67752774979698},{"$f":"[5]BoP_Sum!E44","v":-5.2919289522069324},{"$f":"[5]BoP_Sum!F44","v":-5.7036322447487997},{"$f":"[5]BoP_Sum!G44","v":-18.434284495498964},{"$f":"[5]BoP_Sum!H44","v":-4.1622107253086433},{"$f":"[5]BoP_Sum!I44","v":-13.644554157407406},{"$f":"[5]BoP_Sum!J44","v":2.7430684646464654},{"$f":"[5]BoP_Sum!K44","v":6.4351571307035282},{"$f":"[5]BoP_Sum!L44","v":20.948186626872225},{"$f":"[5]BoP_Sum!M44","v":-11.561812666666652},{"$f":"[5]BoP_Sum!N44","v":6.2146343333333292},{"$f":"[5]BoP_Sum!O44","v":-13.452715000000001},{"$f":"[5]BoP_Sum!P44","v":7.1743503333333383},{"$f":"[5]BoP_Sum!Q44","v":-2.9657792300000043},{"$f":"[5]BoP_Sum!R44","v":-3.4653587699999902},{"$f":"[5]BoP_Sum!S44","v":-0.57507377000000215}]
["Assets",null,{"$f":"[5]BoP_Sum!C45","v":9.1154230465331576},{"$f":"[5]BoP_Sum!D45","v":-30.724373749796978},{"$f":"[5]BoP_Sum!E45","v":8.6511720477930663},{"$f":"[5]BoP_Sum!F45","v":9.9382537552511998},{"$f":"[5]BoP_Sum!G45","v":8.9546345045010316},{"$f":"[5]BoP_Sum!H45","v":11.711192941358025},{"$f":"[5]BoP_Sum!I45","v":8.8664658425925928},{"$f":"[5]BoP_Sum!J45","v":2.7459392222222232},{"$f":"[5]BoP_Sum!K45","v":5.680117706461103},{"$f":"[5]BoP_Sum!L45","v":20.331260626872226},{"$f":"[5]BoP_Sum!M45","v":-11.285545999999986},{"$f":"[5]BoP_Sum!N45","v":6.3347009999999964},{"$f":"[5]BoP_Sum!O45","v":-11.977715000000002},{"$f":"[5]BoP_Sum!P45","v":7.7830170000000045},{"$f":"[5]BoP_Sum!Q45","v":-3.7657792300000041},{"$f":"[5]BoP_Sum!R45","v":-3.8653587699999901},{"$f":"[5]BoP_Sum!S45","v":-0.67507377000000224}]
["National Gov't, Compact Trust Fund",null,{"$f":"[5]BoP_Sum!C46","v":0},{"$f":"[5]BoP_Sum!D46","v":0},{"$f":"[5]BoP_Sum!E46","v":0},{"$f":"[5]BoP_Sum!F46","v":0},{"$f":"[5]BoP_Sum!G46","v":0},{"$f":"[5]BoP_Sum!H46","v":0},{"$f":"[5]BoP_Sum!I46","v":0},{"$f":"[5]BoP_Sum!J46","v":0},{"$f":"[5]BoP_Sum!K46","v":0},{"$f":"[5]BoP_Sum!L46","v":-32},{"$f":"[5]BoP_Sum!M46","v":-15.5885},{"$f":"[5]BoP_Sum!N46","v":-10.470799999999999},{"$f":"[5]BoP_Sum!O46","v":-11.449592000000001},{"$f":"[5]BoP_Sum!P46","v":-10.463699999999999},{"$f":"[5]BoP_Sum!Q46","v":-14.934291},{"$f":"[5]BoP_Sum!R46","v":-13.532214},{"$f":"[5]BoP_Sum!S46","v":-15.29815}]
["Other public sector investments 2/",null,{"$f":"[5]BoP_Sum!C47","v":9.1154230465331576},{"$f":"[5]BoP_Sum!D47","v":-30.724373749796978},{"$f":"[5]BoP_Sum!E47","v":8.6511720477930663},{"$f":"[5]BoP_Sum!F47","v":9.9382537552511998},{"$f":"[5]BoP_Sum!G47","v":8.9546345045010316},{"$f":"[5]BoP_Sum!H47","v":11.711192941358025},{"$f":"[5]BoP_Sum!I47","v":8.8664658425925928},{"$f":"[5]BoP_Sum!J47","v":2.7459392222222232},{"$f":"[5]BoP_Sum!K47","v":5.680117706461103},{"$f":"[5]BoP_Sum!L47","v":52.331260626872222},{"$f":"[5]BoP_Sum!M47","v":4.3029540000000139},{"$f":"[5]BoP_Sum!N47","v":16.805500999999996},{"$f":"[5]BoP_Sum!O47","v":-0.52812300000000079},{"$f":"[5]BoP_Sum!P47","v":18.246717000000004},{"$f":"[5]BoP_Sum!Q47","v":11.168511769999995},{"$f":"[5]BoP_Sum!R47","v":9.6668552300000101},{"$f":"[5]BoP_Sum!S47","v":14.623076229999997}]
["Liabilities (mainly MTN)",null,{"$f":"[5]BoP_Sum!C48","v":15.332093000000009},{"$f":"[5]BoP_Sum!D48","v":-13.953154},{"$f":"[5]BoP_Sum!E48","v":-13.943100999999999},{"$f":"[5]BoP_Sum!F48","v":-15.641886},{"$f":"[5]BoP_Sum!G48","v":-27.388918999999998},{"$f":"[5]BoP_Sum!H48","v":-15.873403666666668},{"$f":"[5]BoP_Sum!I48","v":-22.511019999999998},{"$f":"[5]BoP_Sum!J48","v":-2.8707575757578319E-3},{"$f":"[5]BoP_Sum!K48","v":0.75503942424242521},{"$f":"[5]BoP_Sum!L48","v":0.61692599999999942},{"$f":"[5]BoP_Sum!M48","v":-0.27626666666666644},{"$f":"[5]BoP_Sum!N48","v":-0.12006666666666677},{"$f":"[5]BoP_Sum!O48","v":-1.4750000000000001},{"$f":"[5]BoP_Sum!P48","v":-0.60866666666666669},{"$f":"[5]BoP_Sum!Q48","v":0.79999999999999982},{"$f":"[5]BoP_Sum!R48","v":0.39999999999999991},{"$f":"[5]BoP_Sum!S48","v":0.10000000000000009}]
["Other investment (increase in assets: -)",null,{"$f":"[5]BoP_Sum!C49","v":4.1635270543416656},{"$f":"[5]BoP_Sum!D49","v":-0.47167882999999944},{"$f":"[5]BoP_Sum!E49","v":10.180731332424998},{"$f":"[5]BoP_Sum!F49","v":15.278904737574999},{"$f":"[5]BoP_Sum!G49","v":3.0380149999999979},{"$f":"[5]BoP_Sum!H49","v":-1.2032690742424226},{"$f":"[5]BoP_Sum!I49","v":9.7056030909090918},{"$f":"[5]BoP_Sum!J49","v":0.25982951370850849},{"$f":"[5]BoP_Sum!K49","v":-6.4385630762482027},{"$f":"[5]BoP_Sum!L49","v":-2.3402137707936381},{"$f":"[5]BoP_Sum!M49","v":-5.163637333333341},{"$f":"[5]BoP_Sum!N49","v":6.101104099166669},{"$f":"[5]BoP_Sum!O49","v":-4.5551026666666505},{"$f":"[5]BoP_Sum!P49","v":-1.077288150000018},{"$f":"[5]BoP_Sum!Q49","v":4.676013545},{"$f":"[5]BoP_Sum!R49","v":-12.203756597437497},{"$f":"[5]BoP_Sum!S49","v":4.9227971313156171}]
["Assets (bank deposits)",null,{"$f":"[5]BoP_Sum!C50","v":0.69999999999999896},{"$f":"[5]BoP_Sum!D50","v":-2.3780000000000001},{"$f":"[5]BoP_Sum!E50","v":1.2779999999999987},{"$f":"[5]BoP_Sum!F50","v":0.67249999999999943},{"$f":"[5]BoP_Sum!G50","v":-5.322499999999998},{"$f":"[5]BoP_Sum!H50","v":-9.5562424242424235},{"$f":"[5]BoP_Sum!I50","v":1.939109090909092},{"$f":"[5]BoP_Sum!J50","v":-7.2406914862914888},{"$f":"[5]BoP_Sum!K50","v":-9.9902481962482028},{"$f":"[5]BoP_Sum!L50","v":-2.6771936507936402},{"$f":"[5]BoP_Sum!M50","v":-2.6175333333333413},{"$f":"[5]BoP_Sum!N50","v":-3.982533333333329},{"$f":"[5]BoP_Sum!O50","v":-3.1690666666666516},{"$f":"[5]BoP_Sum!P50","v":3.6443999999999832},{"$f":"[5]BoP_Sum!Q50","v":-6.5},{"$f":"[5]BoP_Sum!R50","v":-8.1999999999999957},{"$f":"[5]BoP_Sum!S50","v":-0.10000000000000853}]
["Liabilities (public sector loans)",null,{"$f":"[5]BoP_Sum!C51","v":3.4635270543416663},{"$f":"[5]BoP_Sum!D51","v":1.9063211700000007},{"$f":"[5]BoP_Sum!E51","v":8.9027313324249988},{"$f":"[5]BoP_Sum!F51","v":14.606404737575},{"$f":"[5]BoP_Sum!G51","v":8.3605149999999959},{"$f":"[5]BoP_Sum!H51","v":8.352973350000001},{"$f":"[5]BoP_Sum!I51","v":7.7664939999999998},{"$f":"[5]BoP_Sum!J51","v":7.5005209999999973},{"$f":"[5]BoP_Sum!K51","v":3.5516851200000006},{"$f":"[5]BoP_Sum!L51","v":0.3369798800000019},{"$f":"[5]BoP_Sum!M51","v":-2.5461040000000001},{"$f":"[5]BoP_Sum!N51","v":10.083637432499998},{"$f":"[5]BoP_Sum!O51","v":-1.3860359999999994},{"$f":"[5]BoP_Sum!P51","v":-4.7216881500000012},{"$f":"[5]BoP_Sum!Q51","v":11.176013545},{"$f":"[5]BoP_Sum!R51","v":-4.0037565974375013},{"$f":"[5]BoP_Sum!S51","v":5.0227971313156257}]
["Errors and omissions",null,{"$f":"[5]BoP_Sum!C52","v":29.261674785582187},{"$f":"[5]BoP_Sum!D52","v":-13.861282117605242},{"$f":"[5]BoP_Sum!E52","v":6.8705483490661887},{"$f":"[5]BoP_Sum!F52","v":17.752561676916724},{"$f":"[5]BoP_Sum!G52","v":-9.1288524062203731},{"$f":"[5]BoP_Sum!H52","v":-1.2081902852064914},{"$f":"[5]BoP_Sum!I52","v":5.5148389578677985},{"$f":"[5]BoP_Sum!J52","v":18.711542975891444},{"$f":"[5]BoP_Sum!K52","v":2.5840900486087071},{"$f":"[5]BoP_Sum!L52","v":22.455587452898843},{"$f":"[5]BoP_Sum!M52","v":7.2617923178295722},{"$f":"[5]BoP_Sum!N52","v":41.746590275638013},{"$f":"[5]BoP_Sum!O52","v":17.383715669363795},{"$f":"[5]BoP_Sum!P52","v":39.221717701057315},{"$f":"[5]BoP_Sum!Q52","v":29.535986177245455},{"$f":"[5]BoP_Sum!R52","v":7.8789212777437641},{"$f":"[5]BoP_Sum!S52","v":28.60580409542089}]
["MEMO ITEM"]
["\"Exports\", non-resident fishing vessels 1/",null,{"$f":"[5]BoP_Sum!C54","v":"n.a."},{"$f":"[5]BoP_Sum!D54","v":"n.a."},{"$f":"[5]BoP_Sum!E54","v":"n.a."},{"$f":"[5]BoP_Sum!F54","v":"n.a."},{"$f":"[5]BoP_Sum!G54","v":"n.a."},{"$f":"[5]BoP_Sum!H54","v":"n.a."},{"$f":"[5]BoP_Sum!I54","v":28.21009290584696},{"$f":"[5]BoP_Sum!J54","v":34.499013433952918},{"$f":"[5]BoP_Sum!K54","v":32.861346238150126},{"$f":"[5]BoP_Sum!L54","v":43.019815939999994},{"$f":"[5]BoP_Sum!M54","v":54.306639264664994},{"$f":"[5]BoP_Sum!N54","v":45.248033220000003},{"$f":"[5]BoP_Sum!O54","v":79.275108075334998},{"$f":"[5]BoP_Sum!P54","v":63.156948454890525},{"$f":"[5]BoP_Sum!Q54","v":61.802681924992413},{"$f":"[5]BoP_Sum!R54","v":74.060597868869607},{"$f":"[5]BoP_Sum!S54","v":86.337847369634034}]
["1/ Pelagic fishing vessels operated economically from abroad are treated as non-resident; thus, their sales are not included in exports in the main dataset."]
["2/ Coverage of nuclear-related trust funds is incomplete."]
["3/ Mainly households"]

{"sheet":"BOPdet","index":23,"n_rows":96,"n_cols":19,"rows_kept":96,"cut":false,"hidden":false,"merged":[[94,0,94,18]]}
["Table 8b    Marshall Islands: Balance of Payments (detail), FY2004-FY2011"]
["(US$ millions)",null,"FY1995","FY1996","FY1997","FY1998","FY1999","FY2000","FY2001","FY2002","FY2003","FY2004","FY2005","FY2006","FY2007","FY2008","FY2009","FY2010","FY2011"]
["Current account balance",null,{"$f":"[5]BoP!C3","v":-28.536055692990313},{"$f":"[5]BoP!D3","v":-42.258711838328466},{"$f":"[5]BoP!E3","v":-26.93560958458102},{"$f":"[5]BoP!F3","v":-21.613978651562871},{"$f":"[5]BoP!G3","v":-25.635674663412207},{"$f":"[5]BoP!H3","v":-24.805819670142945},{"$f":"[5]BoP!I3","v":-19.864602545700606},{"$f":"[5]BoP!J3","v":-5.7306382742451518},{"$f":"[5]BoP!K3","v":-15.500333831450845},{"$f":"[5]BoP!L3","v":-6.8886783133214848},{"$f":"[5]BoP!M3","v":-1.9625990437195853},{"$f":"[5]BoP!N3","v":-5.0651688814505178},{"$f":"[5]BoP!O3","v":-6.2899266517578596},{"$f":"[5]BoP!P3","v":-2.7065921980534853},{"$f":"[5]BoP!Q3","v":-25.567247094208916},{"$f":"[5]BoP!R3","v":-45.911706004429185},{"$f":"[5]BoP!S3","v":-10.567195286640249}]
["Goods and services balance",null,{"$f":"[5]BoP!C4","v":-87.123135917428755},{"$f":"[5]BoP!D4","v":-87.649317056519934},{"$f":"[5]BoP!E4","v":-78.276969215334688},{"$f":"[5]BoP!F4","v":-83.278025601010285},{"$f":"[5]BoP!G4","v":-87.151756917983846},{"$f":"[5]BoP!H4","v":-95.795296370059503},{"$f":"[5]BoP!I4","v":-99.951589163410233},{"$f":"[5]BoP!J4","v":-81.264212425548408},{"$f":"[5]BoP!K4","v":-91.972785479541443},{"$f":"[5]BoP!L4","v":-90.185963010906207},{"$f":"[5]BoP!M4","v":-101.07082098315979},{"$f":"[5]BoP!N4","v":-101.1366047729381},{"$f":"[5]BoP!O4","v":-112.42379149327513},{"$f":"[5]BoP!P4","v":-108.94452007846034},{"$f":"[5]BoP!Q4","v":-127.13794075692921},{"$f":"[5]BoP!R4","v":-142.35792264182541},{"$f":"[5]BoP!S4","v":-110.49245216359088}]
["Goods balance",null,{"$f":"[5]BoP!C5","v":-57.674146353437528},{"$f":"[5]BoP!D5","v":-56.95585045477381},{"$f":"[5]BoP!E5","v":-48.493247644215032},{"$f":"[5]BoP!F5","v":-50.552509850635623},{"$f":"[5]BoP!G5","v":-53.914130307742866},{"$f":"[5]BoP!H5","v":-62.46824615234214},{"$f":"[5]BoP!I5","v":-64.736298163395787},{"$f":"[5]BoP!J5","v":-49.264322423645282},{"$f":"[5]BoP!K5","v":-57.877043773937913},{"$f":"[5]BoP!L5","v":-53.202657671085504},{"$f":"[5]BoP!M5","v":-61.664834268964597},{"$f":"[5]BoP!N5","v":-64.064827247332332},{"$f":"[5]BoP!O5","v":-69.601890459612321},{"$f":"[5]BoP!P5","v":-69.7770083152284},{"$f":"[5]BoP!Q5","v":-73.5231755948206},{"$f":"[5]BoP!R5","v":-100.8480043999358},{"$f":"[5]BoP!S5","v":-68.594727191882868}]
["Exports of goods",null,{"$f":"[5]BoP!C6","v":11.818265883004592},{"$f":"[5]BoP!D6","v":12.050222173762084},{"$f":"[5]BoP!E6","v":13.582283603288541},{"$f":"[5]BoP!F6","v":11.783797431321526},{"$f":"[5]BoP!G6","v":10.074539674090229},{"$f":"[5]BoP!H6","v":15.470667017063654},{"$f":"[5]BoP!I6","v":13.879962269601394},{"$f":"[5]BoP!J6","v":15.105184960899209},{"$f":"[5]BoP!K6","v":17.538197037660407},{"$f":"[5]BoP!L6","v":18.803067846782771},{"$f":"[5]BoP!M6","v":23.464153896766252},{"$f":"[5]BoP!N6","v":17.904703810168328},{"$f":"[5]BoP!O6","v":18.327299818359684},{"$f":"[5]BoP!P6","v":20.232770622973803},{"$f":"[5]BoP!Q6","v":20.786745710433447},{"$f":"[5]BoP!R6","v":32.26872906276072},{"$f":"[5]BoP!S6","v":50.094709684425247}]
["Re-exports",null,{"$f":"[5]BoP!C7","v":9.1891552580045914},{"$f":"[5]BoP!D7","v":9.4461096737620842},{"$f":"[5]BoP!E7","v":9.9290836032885412},{"$f":"[5]BoP!F7","v":9.0238974313215259},{"$f":"[5]BoP!G7","v":8.1933096740902283},{"$f":"[5]BoP!H7","v":12.682146605135651},{"$f":"[5]BoP!I7","v":11.906674625640026},{"$f":"[5]BoP!J7","v":13.326099455521653},{"$f":"[5]BoP!K7","v":15.291070898951576},{"$f":"[5]BoP!L7","v":17.471771634463884},{"$f":"[5]BoP!M7","v":20.433094715799783},{"$f":"[5]BoP!N7","v":17.042651770168327},{"$f":"[5]BoP!O7","v":15.493566478359686},{"$f":"[5]BoP!P7","v":15.073483032973805},{"$f":"[5]BoP!Q7","v":15.905153269004876},{"$f":"[5]BoP!R7","v":21.096022266332145},{"$f":"[5]BoP!S7","v":27.461304631127653}]
["Copra/ coconut oil",null,{"$f":"[5]BoP!C8","v":2.2801106249999998},{"$f":"[5]BoP!D8","v":2.3041125000000005},{"$f":"[5]BoP!E8","v":3.6072000000000002},{"$f":"[5]BoP!F8","v":1.8008999999999999},{"$f":"[5]BoP!G8","v":1.4082300000000001},{"$f":"[5]BoP!H8","v":2.4001200000000003},{"$f":"[5]BoP!I8","v":1.5776999999999999},{"$f":"[5]BoP!J8","v":1.3851},{"$f":"[5]BoP!K8","v":1.8568799999999999},{"$f":"[5]BoP!L8","v":0.93309839999999999},{"$f":"[5]BoP!M8","v":2.6189784},{"$f":"[5]BoP!N8","v":0.42832529999999996},{"$f":"[5]BoP!O8","v":2.1545199000000004},{"$f":"[5]BoP!P8","v":4.3613387999999995},{"$f":"[5]BoP!Q8","v":2.0384864999999999},{"$f":"[5]BoP!R8","v":2.3865201000000003},{"$f":"[5]BoP!S8","v":3.6147752999999998}]
["Fish",null,{"$f":"[5]BoP!C9","v":0.34899999999999998},{"$f":"[5]BoP!D9","v":0.3},{"$f":"[5]BoP!E9","v":4.5999999999999999E-2},{"$f":"[5]BoP!F9","v":0.95899999999999985},{"$f":"[5]BoP!G9","v":0.47299999999999998},{"$f":"[5]BoP!H9","v":0.38840041192800218},{"$f":"[5]BoP!I9","v":0.39558764396136847},{"$f":"[5]BoP!J9","v":0.39398550537755561},{"$f":"[5]BoP!K9","v":0.39024613870883063},{"$f":"[5]BoP!L9","v":0.39819781231888596},{"$f":"[5]BoP!M9","v":0.41208078096646877},{"$f":"[5]BoP!N9","v":0.43372674000000006},{"$f":"[5]BoP!O9","v":0.67921344000000006},{"$f":"[5]BoP!P9","v":0.79794879000000007},{"$f":"[5]BoP!Q9","v":2.8431059414285715},{"$f":"[5]BoP!R9","v":8.7861866964285724},{"$f":"[5]BoP!S9","v":19.018629753297592}]
["Imports of goods f.o.b.",null,{"$f":"[5]BoP!C10","v":69.492412236442121},{"$f":"[5]BoP!D10","v":69.00607262853589},{"$f":"[5]BoP!E10","v":62.075531247503569},{"$f":"[5]BoP!F10","v":62.336307281957147},{"$f":"[5]BoP!G10","v":63.988669981833098},{"$f":"[5]BoP!H10","v":77.938913169405794},{"$f":"[5]BoP!I10","v":78.61626043299718},{"$f":"[5]BoP!J10","v":64.369507384544491},{"$f":"[5]BoP!K10","v":75.415240811598323},{"$f":"[5]BoP!L10","v":72.005725517868271},{"$f":"[5]BoP!M10","v":85.128988165730846},{"$f":"[5]BoP!N10","v":81.96953105750066},{"$f":"[5]BoP!O10","v":87.929190277971998},{"$f":"[5]BoP!P10","v":90.009778938202203},{"$f":"[5]BoP!Q10","v":94.309921305254051},{"$f":"[5]BoP!R10","v":133.11673346269652},{"$f":"[5]BoP!S10","v":118.68943687630812}]
["Services balance",null,{"$f":"[5]BoP!C11","v":-29.448989563991233},{"$f":"[5]BoP!D11","v":-30.693466601746124},{"$f":"[5]BoP!E11","v":-29.783721571119656},{"$f":"[5]BoP!F11","v":-32.725515750374669},{"$f":"[5]BoP!G11","v":-33.237626610240987},{"$f":"[5]BoP!H11","v":-33.327050217717364},{"$f":"[5]BoP!I11","v":-35.215291000014439},{"$f":"[5]BoP!J11","v":-31.999890001903125},{"$f":"[5]BoP!K11","v":-34.095741705603523},{"$f":"[5]BoP!L11","v":-36.983305339820703},{"$f":"[5]BoP!M11","v":-39.405986714195201},{"$f":"[5]BoP!N11","v":-37.071777525605768},{"$f":"[5]BoP!O11","v":-42.821901033662812},{"$f":"[5]BoP!P11","v":-39.167511763231943},{"$f":"[5]BoP!Q11","v":-53.614765162108611},{"$f":"[5]BoP!R11","v":-41.509918241889601},{"$f":"[5]BoP!S11","v":-41.897724971708016}]
["Exports of services",null,{"$f":"[5]BoP!C12","v":7.0169326265978089},{"$f":"[5]BoP!D12","v":6.8249534981740902},{"$f":"[5]BoP!E12","v":6.709692117014157},{"$f":"[5]BoP!F12","v":7.0198879837536881},{"$f":"[5]BoP!G12","v":6.7397171185283584},{"$f":"[5]BoP!H12","v":9.5177816854670692},{"$f":"[5]BoP!I12","v":9.099943211528986},{"$f":"[5]BoP!J12","v":10.435907087312616},{"$f":"[5]BoP!K12","v":11.780040146462639},{"$f":"[5]BoP!L12","v":10.771020067810692},{"$f":"[5]BoP!M12","v":10.248582292651156},{"$f":"[5]BoP!N12","v":10.205157143720561},{"$f":"[5]BoP!O12","v":9.9810249244814795},{"$f":"[5]BoP!P12","v":10.211964261719228},{"$f":"[5]BoP!Q12","v":10.624742311236032},{"$f":"[5]BoP!R12","v":11.988416292643315},{"$f":"[5]BoP!S12","v":15.192216583399086}]
["Fish processing",null,{"$f":"[5]BoP!C13","v":0},{"$f":"[5]BoP!D13","v":0},{"$f":"[5]BoP!E13","v":0},{"$f":"[5]BoP!F13","v":0},{"$f":"[5]BoP!G13","v":0.06},{"$f":"[5]BoP!H13","v":2.5},{"$f":"[5]BoP!I13","v":2.5257343251412681},{"$f":"[5]BoP!J13","v":3.2340061886659139},{"$f":"[5]BoP!K13","v":4.2988449562577422},{"$f":"[5]BoP!L13","v":3.6792354224826407},{"$f":"[5]BoP!M13","v":1.9802742239864828},{"$f":"[5]BoP!N13","v":2.2562699388752767},{"$f":"[5]BoP!O13","v":2.3466676124892798},{"$f":"[5]BoP!P13","v":3.002202038633242},{"$f":"[5]BoP!Q13","v":3.2634140765000028},{"$f":"[5]BoP!R13","v":3.6870201957336159},{"$f":"[5]BoP!S13","v":4.2173244092376834}]
["Transport",null,{"$f":"[5]BoP!C14","v":2.3113375490582881},{"$f":"[5]BoP!D14","v":2.2930421388537714},{"$f":"[5]BoP!E14","v":2.2235313750512926},{"$f":"[5]BoP!F14","v":2.5058892009145071},{"$f":"[5]BoP!G14","v":2.1593659235244931},{"$f":"[5]BoP!H14","v":2.2381599999999997},{"$f":"[5]BoP!I14","v":2.0140609999999999},{"$f":"[5]BoP!J14","v":2.2280420000000003},{"$f":"[5]BoP!K14","v":2.3887450000000001},{"$f":"[5]BoP!L14","v":2.2157140000000002},{"$f":"[5]BoP!M14","v":3.248135},{"$f":"[5]BoP!N14","v":2.7855030000000003},{"$f":"[5]BoP!O14","v":2.6368947600000001},{"$f":"[5]BoP!P14","v":2.2590512},{"$f":"[5]BoP!Q14","v":2.3229941580571949},{"$f":"[5]BoP!R14","v":2.60787619759419},{"$f":"[5]BoP!S14","v":3.3722520013719048}]
["Government services",null,{"$f":"[5]BoP!C15","v":0.89566699140669326},{"$f":"[5]BoP!D15","v":0.92071233910497052},{"$f":"[5]BoP!E15","v":0.96778780950906551},{"$f":"[5]BoP!F15","v":0.99595281564414273},{"$f":"[5]BoP!G15","v":1.0145943083252786},{"$f":"[5]BoP!H15","v":1.0237625710334957},{"$f":"[5]BoP!I15","v":1.0427069874633561},{"$f":"[5]BoP!J15","v":1.0384840014279544},{"$f":"[5]BoP!K15","v":1.0286276173530569},{"$f":"[5]BoP!L15","v":1.0495869818878154},{"$f":"[5]BoP!M15","v":1.0861803099063796},{"$f":"[5]BoP!N15","v":1.1432356630731046},{"$f":"[5]BoP!O15","v":1.1733794650134759},{"$f":"[5]BoP!P15","v":1.3455732875633524},{"$f":"[5]BoP!Q15","v":1.3519999999999999},{"$f":"[5]BoP!R15","v":1.3758864761183416},{"$f":"[5]BoP!S15","v":1.4001949668382749}]
["Travel",null,{"$f":"[5]BoP!C16","v":2.6324680861328278},{"$f":"[5]BoP!D16","v":2.444379020215349},{"$f":"[5]BoP!E16","v":2.2790729324537993},{"$f":"[5]BoP!F16","v":2.3917859671950383},{"$f":"[5]BoP!G16","v":2.3708568866785864},{"$f":"[5]BoP!H16","v":2.6049391144335745},{"$f":"[5]BoP!I16","v":2.4331208989243605},{"$f":"[5]BoP!J16","v":2.8037148972187476},{"$f":"[5]BoP!K16","v":3.0520425728518386},{"$f":"[5]BoP!L16","v":2.9597656634402356},{"$f":"[5]BoP!M16","v":3.1283907587582922},{"$f":"[5]BoP!N16","v":3.1472265417721799},{"$f":"[5]BoP!O16","v":2.9396230869787248},{"$f":"[5]BoP!P16","v":2.702677735522633},{"$f":"[5]BoP!Q16","v":2.8609138966788352},{"$f":"[5]BoP!R16","v":3.5232677431971662},{"$f":"[5]BoP!S16","v":4.4774652059512237}]
["Telecommunication",null,{"$f":"[5]BoP!C17","v":1.17746},{"$f":"[5]BoP!D17","v":1.16682},{"$f":"[5]BoP!E17","v":1.2393000000000001},{"$f":"[5]BoP!F17","v":1.1262599999999998},{"$f":"[5]BoP!G17","v":1.1349},{"$f":"[5]BoP!H17","v":1.1509199999999999},{"$f":"[5]BoP!I17","v":1.08432},{"$f":"[5]BoP!J17","v":1.1316600000000001},{"$f":"[5]BoP!K17","v":1.0117799999999999},{"$f":"[5]BoP!L17","v":0.86671799999999988},{"$f":"[5]BoP!M17","v":0.80560199999999993},{"$f":"[5]BoP!N17","v":0.87292199999999998},{"$f":"[5]BoP!O17","v":0.88446000000000002},{"$f":"[5]BoP!P17","v":0.90246000000000004},{"$f":"[5]BoP!Q17","v":0.82542018000000006},{"$f":"[5]BoP!R17","v":0.79436567999999996},{"$f":"[5]BoP!S17","v":1.72498}]
["Imports of services",null,{"$f":"[5]BoP!C18","v":36.46592219058904},{"$f":"[5]BoP!D18","v":37.518420099920213},{"$f":"[5]BoP!E18","v":36.493413688133813},{"$f":"[5]BoP!F18","v":39.745403734128359},{"$f":"[5]BoP!G18","v":39.977343728769348},{"$f":"[5]BoP!H18","v":42.844831903184435},{"$f":"[5]BoP!I18","v":44.315234211543427},{"$f":"[5]BoP!J18","v":42.43579708921574},{"$f":"[5]BoP!K18","v":45.875781852066162},{"$f":"[5]BoP!L18","v":47.754325407631399},{"$f":"[5]BoP!M18","v":49.654569006846359},{"$f":"[5]BoP!N18","v":47.27693466932633},{"$f":"[5]BoP!O18","v":52.802925958144293},{"$f":"[5]BoP!P18","v":49.379476024951167},{"$f":"[5]BoP!Q18","v":64.239507473344645},{"$f":"[5]BoP!R18","v":53.498334534532916},{"$f":"[5]BoP!S18","v":57.089941555107103}]
["Transport",null,{"$f":"[5]BoP!C19","v":18.562524608659558},{"$f":"[5]BoP!D19","v":17.863835451979153},{"$f":"[5]BoP!E19","v":15.742302325924076},{"$f":"[5]BoP!F19","v":17.474684180445259},{"$f":"[5]BoP!G19","v":17.460379950218623},{"$f":"[5]BoP!H19","v":20.804648437911133},{"$f":"[5]BoP!I19","v":20.602026743314237},{"$f":"[5]BoP!J19","v":18.951960562962583},{"$f":"[5]BoP!K19","v":21.635249136766738},{"$f":"[5]BoP!L19","v":22.480683177495671},{"$f":"[5]BoP!M19","v":25.517512548241122},{"$f":"[5]BoP!N19","v":26.010796461181343},{"$f":"[5]BoP!O19","v":27.248430386685701},{"$f":"[5]BoP!P19","v":28.026294383604469},{"$f":"[5]BoP!Q19","v":25.967279028543338},{"$f":"[5]BoP!R19","v":26.853782481862424},{"$f":"[5]BoP!S19","v":28.566117982387588}]
["Freight and postal services",null,{"$f":"[5]BoP!C20","v":12.187449548220298},{"$f":"[5]BoP!D20","v":11.921866596176047},{"$f":"[5]BoP!E20","v":10.118456172077922},{"$f":"[5]BoP!F20","v":11.145281926406927},{"$f":"[5]BoP!G20","v":11.01056329004329},{"$f":"[5]BoP!H20","v":13.763400061138528},{"$f":"[5]BoP!I20","v":13.200647382415584},{"$f":"[5]BoP!J20","v":10.911587080501697},{"$f":"[5]BoP!K20","v":12.795329421946615},{"$f":"[5]BoP!L20","v":12.211689177495671},{"$f":"[5]BoP!M20","v":14.417915548241124},{"$f":"[5]BoP!N20","v":13.771159461181341},{"$f":"[5]BoP!O20","v":14.381592956685701},{"$f":"[5]BoP!P20","v":15.102748253604469},{"$f":"[5]BoP!Q20","v":13.733174648543338},{"$f":"[5]BoP!R20","v":15.923660481862425},{"$f":"[5]BoP!S20","v":17.490319982387586}]
["Passenger services",null,{"$f":"[5]BoP!C21","v":6.3750750604392605},{"$f":"[5]BoP!D21","v":5.9419688558031085},{"$f":"[5]BoP!E21","v":5.6238461538461539},{"$f":"[5]BoP!F21","v":6.3294022540383335},{"$f":"[5]BoP!G21","v":6.4498166601753315},{"$f":"[5]BoP!H21","v":7.0412483767726073},{"$f":"[5]BoP!I21","v":7.4013793608986544},{"$f":"[5]BoP!J21","v":8.0403734824608861},{"$f":"[5]BoP!K21","v":8.839919714820125},{"$f":"[5]BoP!L21","v":10.268993999999999},{"$f":"[5]BoP!M21","v":11.099596999999999},{"$f":"[5]BoP!N21","v":12.239637},{"$f":"[5]BoP!O21","v":12.86683743},{"$f":"[5]BoP!P21","v":12.92354613},{"$f":"[5]BoP!Q21","v":12.23410438},{"$f":"[5]BoP!R21","v":10.930122000000001},{"$f":"[5]BoP!S21","v":11.075798000000001}]
["Construction services",null,{"$f":"[5]BoP!C22","v":0},{"$f":"[5]BoP!D22","v":0},{"$f":"[5]BoP!E22","v":0},{"$f":"[5]BoP!F22","v":0},{"$f":"[5]BoP!G22","v":0},{"$f":"[5]BoP!H22","v":0},{"$f":"[5]BoP!I22","v":0},{"$f":"[5]BoP!J22","v":0},{"$f":"[5]BoP!K22","v":0},{"$f":"[5]BoP!L22","v":0},{"$f":"[5]BoP!M22","v":0},{"$f":"[5]BoP!N22","v":0},{"$f":"[5]BoP!O22","v":0},{"$f":"[5]BoP!P22","v":0},{"$f":"[5]BoP!Q22","v":12.945344800000001},{"$f":"[5]BoP!R22","v":1.8279167999999992},{"$f":"[5]BoP!S22","v":0}]
["Business services",null,{"$f":"[5]BoP!C23","v":7.4477519823459337},{"$f":"[5]BoP!D23","v":8.9719423324781769},{"$f":"[5]BoP!E23","v":9.6623708485424693},{"$f":"[5]BoP!F23","v":10.967202631871197},{"$f":"[5]BoP!G23","v":9.389398866360338},{"$f":"[5]BoP!H23","v":8.6548076289065303},{"$f":"[5]BoP!I23","v":8.9740661387974079},{"$f":"[5]BoP!J23","v":9.150305387318113},{"$f":"[5]BoP!K23","v":9.4164681438252558},{"$f":"[5]BoP!L23","v":9.764295131003605},{"$f":"[5]BoP!M23","v":7.7581500274577291},{"$f":"[5]BoP!N23","v":8.271261168624374},{"$f":"[5]BoP!O23","v":12.22982773019786},{"$f":"[5]BoP!P23","v":7.5956646143502535},{"$f":"[5]BoP!Q23","v":9.1914014258198744},{"$f":"[5]BoP!R23","v":11.152918241545201},{"$f":"[5]BoP!S23","v":13.688817365002553}]
["Medical referral programme",null,{"$f":"[5]BoP!C24","v":1.7163441856866157},{"$f":"[5]BoP!D24","v":1.7678345112572142},{"$f":"[5]BoP!E24","v":1.80849470501613},{"$f":"[5]BoP!F24","v":1.8374306202963882},{"$f":"[5]BoP!G24","v":1.8778540939429087},{"$f":"[5]BoP!H24","v":1.9417011331369676},{"$f":"[5]BoP!I24","v":1.9960687648648028},{"$f":"[5]BoP!J24","v":2.0280058651026396},{"$f":"[5]BoP!K24","v":2.0746500000000001},{"$f":"[5]BoP!L24","v":1.8651069999999998},{"$f":"[5]BoP!M24","v":2.1309589999999998},{"$f":"[5]BoP!N24","v":2.229206},{"$f":"[5]BoP!O24","v":2.627891},{"$f":"[5]BoP!P24","v":2.700599},{"$f":"[5]BoP!Q24","v":2.9276080000000002},{"$f":"[5]BoP!R24","v":1.9725539999999999},{"$f":"[5]BoP!S24","v":2.6549999999999998}]
["Other travel",null,{"$f":"[5]BoP!C25","v":7.4768647959593135},{"$f":"[5]BoP!D25","v":7.3738259459120554},{"$f":"[5]BoP!E25","v":7.6143550480278055},{"$f":"[5]BoP!F25","v":7.6427930954980798},{"$f":"[5]BoP!G25","v":9.2639461928394056},{"$f":"[5]BoP!H25","v":9.5050086962121174},{"$f":"[5]BoP!I25","v":10.882092444789251},{"$f":"[5]BoP!J25","v":10.666377065090785},{"$f":"[5]BoP!K25","v":11.021464882418051},{"$f":"[5]BoP!L25","v":11.727505487021846},{"$f":"[5]BoP!M25","v":12.250770155029024},{"$f":"[5]BoP!N25","v":8.7287337660625663},{"$f":"[5]BoP!O25","v":8.768539732950801},{"$f":"[5]BoP!P25","v":8.9805680279492819},{"$f":"[5]BoP!Q25","v":9.4697706608113847},{"$f":"[5]BoP!R25","v":9.165762439933447},{"$f":"[5]BoP!S25","v":9.9601420066760404}]
["Repair of aircraft",null,{"$f":"[5]BoP!C26","v":0},{"$f":"[5]BoP!D26","v":0},{"$f":"[5]BoP!E26","v":0},{"$f":"[5]BoP!F26","v":0},{"$f":"[5]BoP!G26","v":0},{"$f":"[5]BoP!H26","v":0},{"$f":"[5]BoP!I26","v":0},{"$f":"[5]BoP!J26","v":0},{"$f":"[5]BoP!K26","v":0},{"$f":"[5]BoP!L26","v":0},{"$f":"[5]BoP!M26","v":0},{"$f":"[5]BoP!N26","v":0},{"$f":"[5]BoP!O26","v":0},{"$f":"[5]BoP!P26","v":0},{"$f":"[5]BoP!Q26","v":1.4},{"$f":"[5]BoP!R26","v":0},{"$f":"[5]BoP!S26","v":0}]
["Technical assistance",null,{"$f":"[5]BoP!C27","v":0.35},{"$f":"[5]BoP!D27","v":0.37},{"$f":"[5]BoP!E27","v":0.4},{"$f":"[5]BoP!F27","v":0.42},{"$f":"[5]BoP!G27","v":0.44},{"$f":"[5]BoP!H27","v":0.46},{"$f":"[5]BoP!I27","v":0.47},{"$f":"[5]BoP!J27","v":0.49},{"$f":"[5]BoP!K27","v":0.5},{"$f":"[5]BoP!L27","v":0.52},{"$f":"[5]BoP!M27","v":0.53},{"$f":"[5]BoP!N27","v":0.54},{"$f":"[5]BoP!O27","v":0.56000000000000005},{"$f":"[5]BoP!P27","v":0.57999999999999996},{"$f":"[5]BoP!Q27","v":0.57802799999999999},{"$f":"[5]BoP!R27","v":0.58776577627129745},{"$f":"[5]BoP!S27","v":0.60336131563292572}]
["Other",null,{"$f":"[5]BoP!C28","v":0.91243661793762054},{"$f":"[5]BoP!D28","v":1.1709818582936173},{"$f":"[5]BoP!E28","v":1.2658907606233321},{"$f":"[5]BoP!F28","v":1.4032932060174379},{"$f":"[5]BoP!G28","v":1.5457646254080752},{"$f":"[5]BoP!H28","v":1.4786660070176869},{"$f":"[5]BoP!I28","v":1.3909801197777225},{"$f":"[5]BoP!J28","v":1.1491482087416112},{"$f":"[5]BoP!K28","v":1.2279496890561159},{"$f":"[5]BoP!L28","v":1.3967346121102715},{"$f":"[5]BoP!M28","v":1.4671772761184778},{"$f":"[5]BoP!N28","v":1.4969372734580459},{"$f":"[5]BoP!O28","v":1.3682371083099292},{"$f":"[5]BoP!P28","v":1.4963499990471625},{"$f":"[5]BoP!Q28","v":1.7600755581700511},{"$f":"[5]BoP!R28","v":1.9376347949205479},{"$f":"[5]BoP!S28","v":1.6165028854079995}]
["Primary income balance",null,{"$f":"[5]BoP!C29","v":33.306567371664961},{"$f":"[5]BoP!D29","v":25.14206032726235},{"$f":"[5]BoP!E29","v":26.826224012556473},{"$f":"[5]BoP!F29","v":32.19453117210611},{"$f":"[5]BoP!G29","v":35.889912570108535},{"$f":"[5]BoP!H29","v":37.214536737111942},{"$f":"[5]BoP!I29","v":38.189086014326278},{"$f":"[5]BoP!J29","v":37.463170619231242},{"$f":"[5]BoP!K29","v":36.631839251879583},{"$f":"[5]BoP!L29","v":37.462884143116071},{"$f":"[5]BoP!M29","v":41.534172440276585},{"$f":"[5]BoP!N29","v":41.63755568735354},{"$f":"[5]BoP!O29","v":43.986841828951405},{"$f":"[5]BoP!P29","v":44.025176718349115},{"$f":"[5]BoP!Q29","v":41.357250355731225},{"$f":"[5]BoP!R29","v":35.611487959329594},{"$f":"[5]BoP!S29","v":39.132493918164094}]
["Primary income, inflows",null,{"$f":"[5]BoP!C30","v":43.972051452011144},{"$f":"[5]BoP!D30","v":37.805716867987343},{"$f":"[5]BoP!E30","v":38.661853762752962},{"$f":"[5]BoP!F30","v":43.579121801390926},{"$f":"[5]BoP!G30","v":46.282576714912686},{"$f":"[5]BoP!H30","v":45.966896476329012},{"$f":"[5]BoP!I30","v":46.178310332244735},{"$f":"[5]BoP!J30","v":45.1204427316679},{"$f":"[5]BoP!K30","v":44.435001866155019},{"$f":"[5]BoP!L30","v":47.230678630506347},{"$f":"[5]BoP!M30","v":52.059556117003424},{"$f":"[5]BoP!N30","v":56.037062459536664},{"$f":"[5]BoP!O30","v":57.691955730806228},{"$f":"[5]BoP!P30","v":56.958002028573489},{"$f":"[5]BoP!Q30","v":53.749098081829146},{"$f":"[5]BoP!R30","v":52.290861813370718},{"$f":"[5]BoP!S30","v":56.465392343035106}]
["Compensation of employees",null,{"$f":"[5]BoP!C31","v":14.1},{"$f":"[5]BoP!D31","v":14.1},{"$f":"[5]BoP!E31","v":15.021586693557229},{"$f":"[5]BoP!F31","v":15.174865575762366},{"$f":"[5]BoP!G31","v":16.629654013693191},{"$f":"[5]BoP!H31","v":19.18224783488013},{"$f":"[5]BoP!I31","v":20.128547937035513},{"$f":"[5]BoP!J31","v":19.099540735988914},{"$f":"[5]BoP!K31","v":20.392630873256952},{"$f":"[5]BoP!L31","v":20.642831907652852},{"$f":"[5]BoP!M31","v":21.231102615885774},{"$f":"[5]BoP!N31","v":23.323336380073325},{"$f":"[5]BoP!O31","v":22.314952378147641},{"$f":"[5]BoP!P31","v":19.88242366262044},{"$f":"[5]BoP!Q31","v":20.074290549255007},{"$f":"[5]BoP!R31","v":19.085924944410763},{"$f":"[5]BoP!S31","v":18.934102266023135}]
["of which: Kwajalein",null,{"$f":"[5]BoP!C32","v":14},{"$f":"[5]BoP!D32","v":14},{"$f":"[5]BoP!E32","v":14.901893226716949},{"$f":"[5]BoP!F32","v":15.047523466210666},{"$f":"[5]BoP!G32","v":16.471785209388688},{"$f":"[5]BoP!H32","v":19.013249577409752},{"$f":"[5]BoP!I32","v":19.941459101159868},{"$f":"[5]BoP!J32","v":18.934902794140399},{"$f":"[5]BoP!K32","v":20.22271035385829},{"$f":"[5]BoP!L32","v":20.44117268771808},{"$f":"[5]BoP!M32","v":21.022089873411478},{"$f":"[5]BoP!N32","v":23.094078112223411},{"$f":"[5]BoP!O32","v":21.919345354408698},{"$f":"[5]BoP!P32","v":19.480446529783265},{"$f":"[5]BoP!Q32","v":19.681494531020604},{"$f":"[5]BoP!R32","v":18.561145666507802},{"$f":"[5]BoP!S32","v":18.28684936218}]
["Rent receipts for use of Kwajalein land ",null,{"$f":"[5]BoP!C33","v":10.792},{"$f":"[5]BoP!D33","v":10.886666666666665},{"$f":"[5]BoP!E33","v":10.65},{"$f":"[5]BoP!F33","v":10.863},{"$f":"[5]BoP!G33","v":10.863},{"$f":"[5]BoP!H33","v":10.933999999999999},{"$f":"[5]BoP!I33","v":11.076000000000001},{"$f":"[5]BoP!J33","v":11.218},{"$f":"[5]BoP!K33","v":11.218},{"$f":"[5]BoP!L33","v":15.005701},{"$f":"[5]BoP!M33","v":15.207549999999999},{"$f":"[5]BoP!N33","v":15.448964},{"$f":"[5]BoP!O33","v":15.862380999999999},{"$f":"[5]BoP!P33","v":16.257960000000001},{"$f":"[5]BoP!Q33","v":17.167047},{"$f":"[5]BoP!R33","v":16.765784},{"$f":"[5]BoP!S33","v":16.871518999999999}]
["Ship registration fees",null,{"$f":"[5]BoP!C34","v":0.77864299999999997},{"$f":"[5]BoP!D34","v":0.77864299999999997},{"$f":"[5]BoP!E34","v":0.77864299999999997},{"$f":"[5]BoP!F34","v":0.76634100000000005},{"$f":"[5]BoP!G34","v":0.94005000000000005},{"$f":"[5]BoP!H34","v":1.064921},{"$f":"[5]BoP!I34","v":0.97660599999999997},{"$f":"[5]BoP!J34","v":1.0944739999999999},{"$f":"[5]BoP!K34","v":1},{"$f":"[5]BoP!L34","v":1},{"$f":"[5]BoP!M34","v":1},{"$f":"[5]BoP!N34","v":1},{"$f":"[5]BoP!O34","v":1.75},{"$f":"[5]BoP!P34","v":2},{"$f":"[5]BoP!Q34","v":3.25},{"$f":"[5]BoP!R34","v":3},{"$f":"[5]BoP!S34","v":3.75}]
["Fishing licence fees",null,{"$f":"[5]BoP!C35","v":2.150271},{"$f":"[5]BoP!D35","v":2.0334984999999999},{"$f":"[5]BoP!E35","v":1.9167259999999999},{"$f":"[5]BoP!F35","v":3.843},{"$f":"[5]BoP!G35","v":4.7893999999999997},{"$f":"[5]BoP!H35","v":2.7506999999999997},{"$f":"[5]BoP!I35","v":0.89839999999999998},{"$f":"[5]BoP!J35","v":1.0860179999999999},{"$f":"[5]BoP!K35","v":1.1788019999999999},{"$f":"[5]BoP!L35","v":0.85533999999999999},{"$f":"[5]BoP!M35","v":1.3540000000000001},{"$f":"[5]BoP!N35","v":1.614222},{"$f":"[5]BoP!O35","v":0.751799},{"$f":"[5]BoP!P35","v":1.7309860000000001},{"$f":"[5]BoP!Q35","v":1.3819999999999999},{"$f":"[5]BoP!R35","v":1.3448659999999999},{"$f":"[5]BoP!S35","v":2.4804520000000001}]
["Taxes on foreign-owned businesses",null,{"$f":"[5]BoP!C36","v":1.1247904259890069},{"$f":"[5]BoP!D36","v":1.0670753517395895},{"$f":"[5]BoP!E36","v":1.0130676956701461},{"$f":"[5]BoP!F36","v":1.7758432311275274},{"$f":"[5]BoP!G36","v":2.1348111095728353},{"$f":"[5]BoP!H36","v":1.4130966203772501},{"$f":"[5]BoP!I36","v":0.85285504126808875},{"$f":"[5]BoP!J36","v":0.95504097253382658},{"$f":"[5]BoP!K36","v":0.68457755063460379},{"$f":"[5]BoP!L36","v":0.72387946708000006},{"$f":"[5]BoP!M36","v":0.82193294408000006},{"$f":"[5]BoP!N36","v":0.91093134985999991},{"$f":"[5]BoP!O36","v":0.79446317500999997},{"$f":"[5]BoP!P36","v":0.86019025873999999},{"$f":"[5]BoP!Q36","v":0.9665505137899999},{"$f":"[5]BoP!R36","v":1.3084056854499999},{"$f":"[5]BoP!S36","v":1.1761100267100002}]
["Dividends and interest",null,{"$f":"[5]BoP!C37","v":15.026347026022137},{"$f":"[5]BoP!D37","v":8.9398333495810895},{"$f":"[5]BoP!E37","v":9.2818303735255867},{"$f":"[5]BoP!F37","v":11.15607199450103},{"$f":"[5]BoP!G37","v":10.925661591646659},{"$f":"[5]BoP!H37","v":10.621931021071626},{"$f":"[5]BoP!I37","v":12.245901353941129},{"$f":"[5]BoP!J37","v":11.667369023145161},{"$f":"[5]BoP!K37","v":9.9609914422634649},{"$f":"[5]BoP!L37","v":9.0029262557734935},{"$f":"[5]BoP!M37","v":12.444970557037648},{"$f":"[5]BoP!N37","v":13.739608729603333},{"$f":"[5]BoP!O37","v":16.218360177648584},{"$f":"[5]BoP!P37","v":16.226442107213046},{"$f":"[5]BoP!Q37","v":10.909210018784137},{"$f":"[5]BoP!R37","v":10.785881183509952},{"$f":"[5]BoP!S37","v":13.253209050301972}]
["Government and social security",null,{"$f":"[5]BoP!C38","v":9.4812116074176629},{"$f":"[5]BoP!D38","v":2.3234005191041827},{"$f":"[5]BoP!E38","v":1.9316107560473141},{"$f":"[5]BoP!F38","v":3.1893495523251909},{"$f":"[5]BoP!G38","v":1.7040978159685052},{"$f":"[5]BoP!H38","v":1.609041017172105},{"$f":"[5]BoP!I38","v":1.4884478658287423},{"$f":"[5]BoP!J38","v":1.4990783712320419},{"$f":"[5]BoP!K38","v":1.1639866492863704},{"$f":"[5]BoP!L38","v":1.1103449999999999},{"$f":"[5]BoP!M38","v":1.2618879999999999},{"$f":"[5]BoP!N38","v":1.4423759999999999},{"$f":"[5]BoP!O38","v":1.8788818299999999},{"$f":"[5]BoP!P38","v":2.149295},{"$f":"[5]BoP!Q38","v":1.1466589999999999},{"$f":"[5]BoP!R38","v":1.5381389999999997},{"$f":"[5]BoP!S38","v":1.7032350000000003}]
["Trust Funds",null,{"$f":"[5]BoP!C39","v":4.424812833864892},{"$f":"[5]BoP!D39","v":5.4921872005289885},{"$f":"[5]BoP!E39","v":6.132219617478273},{"$f":"[5]BoP!F39","v":6.8337224421758389},{"$f":"[5]BoP!G39","v":8.1835637756781523},{"$f":"[5]BoP!H39","v":7.5088900038995225},{"$f":"[5]BoP!I39","v":9.3264534881123868},{"$f":"[5]BoP!J39","v":8.1462906519131195},{"$f":"[5]BoP!K39","v":8.4280047929770951},{"$f":"[5]BoP!L39","v":7.3825812557734931},{"$f":"[5]BoP!M39","v":9.7540825570376466},{"$f":"[5]BoP!N39","v":9.8872327296033333},{"$f":"[5]BoP!O39","v":11.018478347648585},{"$f":"[5]BoP!P39","v":12.121147107213046},{"$f":"[5]BoP!Q39","v":8.2884724067841358},{"$f":"[5]BoP!R39","v":7.5378503008699536},{"$f":"[5]BoP!S39","v":8.5337798062619719}]
["Direct investment",null,{"$f":"[5]BoP!C40","v":0},{"$f":"[5]BoP!D40","v":0},{"$f":"[5]BoP!E40","v":0},{"$f":"[5]BoP!F40","v":0},{"$f":"[5]BoP!G40","v":0},{"$f":"[5]BoP!H40","v":0},{"$f":"[5]BoP!I40","v":0},{"$f":"[5]BoP!J40","v":0},{"$f":"[5]BoP!K40","v":0},{"$f":"[5]BoP!L40","v":0},{"$f":"[5]BoP!M40","v":0},{"$f":"[5]BoP!N40","v":0},{"$f":"[5]BoP!O40","v":0.8},{"$f":"[5]BoP!P40","v":1.123},{"$f":"[5]BoP!Q40","v":1.363078612},{"$f":"[5]BoP!R40","v":1.5898918826399999},{"$f":"[5]BoP!S40","v":2.88919424404}]
["Commercial banks",null,{"$f":"[5]BoP!C41","v":1.120322584739583},{"$f":"[5]BoP!D41","v":1.1242456299479171},{"$f":"[5]BoP!E41","v":1.218},{"$f":"[5]BoP!F41","v":1.133},{"$f":"[5]BoP!G41","v":1.038},{"$f":"[5]BoP!H41","v":1.504},{"$f":"[5]BoP!I41","v":1.431},{"$f":"[5]BoP!J41","v":2.0219999999999998},{"$f":"[5]BoP!K41","v":0.36899999999999999},{"$f":"[5]BoP!L41","v":0.51},{"$f":"[5]BoP!M41","v":1.429},{"$f":"[5]BoP!N41","v":2.41},{"$f":"[5]BoP!O41","v":2.5209999999999999},{"$f":"[5]BoP!P41","v":0.83299999999999996},{"$f":"[5]BoP!Q41","v":0.111},{"$f":"[5]BoP!R41","v":0.12},{"$f":"[5]BoP!S41","v":0.127}]
["Primary income, outflows",null,{"$f":"[5]BoP!C42","v":10.665484080346184},{"$f":"[5]BoP!D42","v":12.663656540724993},{"$f":"[5]BoP!E42","v":11.835629750196487},{"$f":"[5]BoP!F42","v":11.384590629284814},{"$f":"[5]BoP!G42","v":10.392664144804153},{"$f":"[5]BoP!H42","v":8.7523597392170664},{"$f":"[5]BoP!I42","v":7.9892243179184543},{"$f":"[5]BoP!J42","v":7.6572721124366598},{"$f":"[5]BoP!K42","v":7.8031626142754336},{"$f":"[5]BoP!L42","v":9.7677944873902796},{"$f":"[5]BoP!M42","v":10.525383676726838},{"$f":"[5]BoP!N42","v":14.39950677218312},{"$f":"[5]BoP!O42","v":13.705113901854823},{"$f":"[5]BoP!P42","v":12.932825310224377},{"$f":"[5]BoP!Q42","v":12.39184772609792},{"$f":"[5]BoP!R42","v":16.67937385404112},{"$f":"[5]BoP!S42","v":17.332898424871011}]
["Non-resident Kwajalein land owners",null,{"$f":"[5]BoP!C43","v":1.4246864686468645},{"$f":"[5]BoP!D43","v":1.4371837183718368},{"$f":"[5]BoP!E43","v":1.4059405940594059},{"$f":"[5]BoP!F43","v":1.4340594059405938},{"$f":"[5]BoP!G43","v":1.4340594059405938},{"$f":"[5]BoP!H43","v":1.4434323432343232},{"$f":"[5]BoP!I43","v":1.4621782178217821},{"$f":"[5]BoP!J43","v":1.4809240924092408},{"$f":"[5]BoP!K43","v":1.4809240924092408},{"$f":"[5]BoP!L43","v":1.9809506270627062},{"$f":"[5]BoP!M43","v":2.0075973597359735},{"$f":"[5]BoP!N43","v":2.0394671947194718},{"$f":"[5]BoP!O43","v":2.0940436963696367},{"$f":"[5]BoP!P43","v":2.1462653465346535},{"$f":"[5]BoP!Q43","v":2.2662768316831681},{"$f":"[5]BoP!R43","v":2.213304818481848},{"$f":"[5]BoP!S43","v":2.227263234323432}]
["Dividends related to direct investment",null,{"$f":"[5]BoP!C44","v":3.0107518884883206},{"$f":"[5]BoP!D44","v":3.1767665026010756},{"$f":"[5]BoP!E44","v":3.2373977671457039},{"$f":"[5]BoP!F44","v":3.2217491782669678},{"$f":"[5]BoP!G44","v":3.2412037634539868},{"$f":"[5]BoP!H44","v":3.3950459224375793},{"$f":"[5]BoP!I44","v":3.3434128503335794},{"$f":"[5]BoP!J44","v":3.8438213589081158},{"$f":"[5]BoP!K44","v":3.892484128021144},{"$f":"[5]BoP!L44","v":5.1119845507087085},{"$f":"[5]BoP!M44","v":5.8981118077457602},{"$f":"[5]BoP!N44","v":8.8838086229426985},{"$f":"[5]BoP!O44","v":7.7178099389415191},{"$f":"[5]BoP!P44","v":7.1924835788873969},{"$f":"[5]BoP!Q44","v":6.4873247822718954},{"$f":"[5]BoP!R44","v":10.273848248052129},{"$f":"[5]BoP!S44","v":11.350898493747579}]
["Interest on loans",null,{"$f":"[5]BoP!C45","v":1.5077350143416655},{"$f":"[5]BoP!D45","v":1.5891606466666661},{"$f":"[5]BoP!E45","v":1.5880224524249991},{"$f":"[5]BoP!F45","v":2.0336483015258131},{"$f":"[5]BoP!G45","v":2.0170289175000007},{"$f":"[5]BoP!H45","v":2.0976179776666668},{"$f":"[5]BoP!I45","v":2.1386740400000002},{"$f":"[5]BoP!J45","v":2.1873217600000001},{"$f":"[5]BoP!K45","v":2.2812097800000002},{"$f":"[5]BoP!L45","v":2.5223039912000003},{"$f":"[5]BoP!M45","v":2.4619323099999999},{"$f":"[5]BoP!N45","v":3.3134410049},{"$f":"[5]BoP!O45","v":3.6584121983333326},{"$f":"[5]BoP!P45","v":3.3678690899999997},{"$f":"[5]BoP!Q45","v":3.3881425649999999},{"$f":"[5]BoP!R45","v":3.7349358946500004},{"$f":"[5]BoP!S45","v":2.8640516967999998}]
["Interest on bonds",null,{"$f":"[5]BoP!C46","v":4.5994207349999998},{"$f":"[5]BoP!D46","v":6.3339689999999997},{"$f":"[5]BoP!E46","v":5.4747810000000001},{"$f":"[5]BoP!F46","v":4.563574},{"$f":"[5]BoP!G46","v":3.5659179999999999},{"$f":"[5]BoP!H46","v":1.677238},{"$f":"[5]BoP!I46","v":0.90204099999999998},{"$f":"[5]BoP!J46","v":0},{"$f":"[5]BoP!K46","v":0},{"$f":"[5]BoP!L46","v":0},{"$f":"[5]BoP!M46","v":0},{"$f":"[5]BoP!N46","v":0},{"$f":"[5]BoP!O46","v":0},{"$f":"[5]BoP!P46","v":0},{"$f":"[5]BoP!Q46","v":0},{"$f":"[5]BoP!R46","v":0},{"$f":"[5]BoP!S46","v":0}]
["Compensation of employees",null,{"$f":"[5]BoP!C47","v":0.12288997386933262},{"$f":"[5]BoP!D47","v":0.12657667308541259},{"$f":"[5]BoP!E47","v":0.12948793656637708},{"$f":"[5]BoP!F47","v":0.13155974355143912},{"$f":"[5]BoP!G47","v":0.1344540579095708},{"$f":"[5]BoP!H47","v":0.13902549587849622},{"$f":"[5]BoP!I47","v":0.14291820976309411},{"$f":"[5]BoP!J47","v":0.14520490111930362},{"$f":"[5]BoP!K47","v":0.14854461384504758},{"$f":"[5]BoP!L47","v":0.15255531841886386},{"$f":"[5]BoP!M47","v":0.15774219924510524},{"$f":"[5]BoP!N47","v":0.16278994962094862},{"$f":"[5]BoP!O47","v":0.23484806821033519},{"$f":"[5]BoP!P47","v":0.2262072948023279},{"$f":"[5]BoP!Q47","v":0.2501035471428571},{"$f":"[5]BoP!R47","v":0.45728489285714302},{"$f":"[5]BoP!S47","v":0.89068499999999995}]
[null,null,null,null,null,null,null,null,null,null,null,null,null,null,null,null,null,null,"continued…"]
["Table 8b    Marshall Islands: Balance of Payments, detail, continued"]
["(US$ millions)",null,{"$f":"C2","v":"FY1995"},{"$f":"D2","v":"FY1996"},"FY1997","FY1998","FY1999","FY2000","FY2001","FY2002","FY2003","FY2004","FY2005","FY2006","FY2007","FY2008","FY2009","FY2010","FY2011"]
["Secondary income balance",null,{"$f":"[5]BoP!C48","v":25.28051285277348},{"$f":"[5]BoP!D48","v":20.248544890929118},{"$f":"[5]BoP!E48","v":24.515135618197196},{"$f":"[5]BoP!F48","v":29.469515777341304},{"$f":"[5]BoP!G48","v":25.626169684463104},{"$f":"[5]BoP!H48","v":33.774939962804616},{"$f":"[5]BoP!I48","v":41.897900603383349},{"$f":"[5]BoP!J48","v":38.070403532072014},{"$f":"[5]BoP!K48","v":39.840612396211014},{"$f":"[5]BoP!L48","v":45.834400554468651},{"$f":"[5]BoP!M48","v":57.574049499163621},{"$f":"[5]BoP!N48","v":54.433880204134041},{"$f":"[5]BoP!O48","v":62.14702301256586},{"$f":"[5]BoP!P48","v":62.212751162057742},{"$f":"[5]BoP!Q48","v":60.21344330698907},{"$f":"[5]BoP!R48","v":60.834728678066632},{"$f":"[5]BoP!S48","v":60.792762958786533}]
["Secondary income, inflows",null,{"$f":"[5]BoP!C49","v":28.43274870128521},{"$f":"[5]BoP!D49","v":23.166567873463947},{"$f":"[5]BoP!E49","v":27.282331755535289},{"$f":"[5]BoP!F49","v":32.316522106058073},{"$f":"[5]BoP!G49","v":28.461356715493572},{"$f":"[5]BoP!H49","v":36.730719668572291},{"$f":"[5]BoP!I49","v":44.942160978164516},{"$f":"[5]BoP!J49","v":41.293029887663153},{"$f":"[5]BoP!K49","v":43.150773263095012},{"$f":"[5]BoP!L49","v":49.224900642064952},{"$f":"[5]BoP!M49","v":61.155203347903878},{"$f":"[5]BoP!N49","v":58.145100402508447},{"$f":"[5]BoP!O49","v":66.029519146598176},{"$f":"[5]BoP!P49","v":66.317955617032311},{"$f":"[5]BoP!Q49","v":64.645913607226461},{"$f":"[5]BoP!R49","v":66.161594526044993},{"$f":"[5]BoP!S49","v":66.775514577331691}]
["Government grants",null,{"$f":"[5]BoP!C50","v":22.194368999999998},{"$f":"[5]BoP!D50","v":16.867531},{"$f":"[5]BoP!E50","v":20.784552999999999},{"$f":"[5]BoP!F50","v":25.711071},{"$f":"[5]BoP!G50","v":21.638183999999999},{"$f":"[5]BoP!H50","v":29.528748},{"$f":"[5]BoP!I50","v":37.635221999999999},{"$f":"[5]BoP!J50","v":33.956423999999998},{"$f":"[5]BoP!K50","v":35.87283},{"$f":"[5]BoP!L50","v":41.366838000000001},{"$f":"[5]BoP!M50","v":52.801633999999993},{"$f":"[5]BoP!N50","v":49.855207},{"$f":"[5]BoP!O50","v":53.920929999999998},{"$f":"[5]BoP!P50","v":57.248904999999993},{"$f":"[5]BoP!Q50","v":54.448877999999993},{"$f":"[5]BoP!R50","v":56.178115776271298},{"$f":"[5]BoP!S50","v":56.120088315632927}]
["Compact current grants",null,{"$f":"[5]BoP!C51","v":14.155899999999999},{"$f":"[5]BoP!D51","v":6.9589599999999994},{"$f":"[5]BoP!E51","v":7.5611179999999996},{"$f":"[5]BoP!F51","v":7.4234639999999992},{"$f":"[5]BoP!G51","v":7.973082999999999},{"$f":"[5]BoP!H51","v":8.0718999999999994},{"$f":"[5]BoP!I51","v":8.059099999999999},{"$f":"[5]BoP!J51","v":13.409667000000001},{"$f":"[5]BoP!K51","v":13.470667000000001},{"$f":"[5]BoP!L51","v":18.092524000000001},{"$f":"[5]BoP!M51","v":22.859694999999999},{"$f":"[5]BoP!N51","v":26.013247},{"$f":"[5]BoP!O51","v":27.964244000000001},{"$f":"[5]BoP!P51","v":30.328389999999999},{"$f":"[5]BoP!Q51","v":34.305484},{"$f":"[5]BoP!R51","v":32.255412},{"$f":"[5]BoP!S51","v":32.181789000000002}]
["Other budget and off-budget grants",null,{"$f":"[5]BoP!C52","v":8.0384689999999992},{"$f":"[5]BoP!D52","v":9.9085709999999985},{"$f":"[5]BoP!E52","v":13.223435},{"$f":"[5]BoP!F52","v":18.287607000000001},{"$f":"[5]BoP!G52","v":13.665101},{"$f":"[5]BoP!H52","v":21.456848000000001},{"$f":"[5]BoP!I52","v":29.576121999999998},{"$f":"[5]BoP!J52","v":20.546756999999999},{"$f":"[5]BoP!K52","v":22.402163000000002},{"$f":"[5]BoP!L52","v":23.274314},{"$f":"[5]BoP!M52","v":29.941938999999998},{"$f":"[5]BoP!N52","v":23.84196},{"$f":"[5]BoP!O52","v":25.956685999999998},{"$f":"[5]BoP!P52","v":26.920514999999998},{"$f":"[5]BoP!Q52","v":20.143393999999997},{"$f":"[5]BoP!R52","v":23.922703776271298},{"$f":"[5]BoP!S52","v":23.938299315632928}]
["Income tax from Kwajalein US workers",null,{"$f":"[5]BoP!C53","v":1.5967630161436528},{"$f":"[5]BoP!D53","v":1.5967630161436528},{"$f":"[5]BoP!E53","v":1.6996279982102305},{"$f":"[5]BoP!F53","v":1.7162377825284956},{"$f":"[5]BoP!G53","v":1.8786812451581352},{"$f":"[5]BoP!H53","v":2.1685466958512021},{"$f":"[5]BoP!I53","v":2.2744131700480947},{"$f":"[5]BoP!J53","v":2.1596108925684643},{"$f":"[5]BoP!K53","v":2.3064911413733027},{"$f":"[5]BoP!L53","v":2.3314077538824272},{"$f":"[5]BoP!M53","v":2.397663973707961},{"$f":"[5]BoP!N53","v":2.6339835586807836},{"$f":"[5]BoP!O53","v":2.5},{"$f":"[5]BoP!P53","v":2.577},{"$f":"[5]BoP!Q53","v":2.694},{"$f":"[5]BoP!R53","v":2.21495},{"$f":"[5]BoP!S53","v":2.583186}]
["College of Marshall Islands",null,{"$f":"[5]BoP!C54","v":2.8642334023437499},{"$f":"[5]BoP!D54","v":2.8660771953124997},{"$f":"[5]BoP!E54","v":2.8623896093749996},{"$f":"[5]BoP!F54","v":2.8697647812499998},{"$f":"[5]BoP!G54","v":2.8550144374999999},{"$f":"[5]BoP!H54","v":2.8845151250000001},{"$f":"[5]BoP!I54","v":2.8255137499999998},{"$f":"[5]BoP!J54","v":2.9435164999999999},{"$f":"[5]BoP!K54","v":2.7075109999999998},{"$f":"[5]BoP!L54","v":3.179522},{"$f":"[5]BoP!M54","v":3.3236940000000001},{"$f":"[5]BoP!N54","v":2.865945},{"$f":"[5]BoP!O54","v":3.2512460000000001},{"$f":"[5]BoP!P54","v":3.189629},{"$f":"[5]BoP!Q54","v":3.8707750000000001},{"$f":"[5]BoP!R54","v":4.3524820000000002},{"$f":"[5]BoP!S54","v":4.5645210000000001}]
["Transfers to NPISH",null,{"$f":"[5]BoP!C55","v":9.895229916114677E-2},{"$f":"[5]BoP!D55","v":0.1017192814903075},{"$f":"[5]BoP!E55","v":0.10692012742442161},{"$f":"[5]BoP!F55","v":0.11003176616928211},{"$f":"[5]BoP!G55","v":0.11209125767482148},{"$f":"[5]BoP!H55","v":0.11310415720444088},{"$f":"[5]BoP!I55","v":0.11519711539089446},{"$f":"[5]BoP!J55","v":0.11473056456169385},{"$f":"[5]BoP!K55","v":0.11364164214411693},{"$f":"[5]BoP!L55","v":0.11595720956992289},{"$f":"[5]BoP!M55","v":0.12},{"$f":"[5]BoP!N55","v":0.12},{"$f":"[5]BoP!O55","v":0.12},{"$f":"[5]BoP!P55","v":0.12},{"$f":"[5]BoP!Q55","v":0.12},{"$f":"[5]BoP!R55","v":0.12},{"$f":"[5]BoP!S55","v":0.12}]
["Households",null,{"$f":"[5]BoP!C56","v":1.6784309836366629},{"$f":"[5]BoP!D56","v":1.7344773805174871},{"$f":"[5]BoP!E56","v":1.8288410205256376},{"$f":"[5]BoP!F56","v":1.9094167761103011},{"$f":"[5]BoP!G56","v":1.9773857751606183},{"$f":"[5]BoP!H56","v":2.0358056905166513},{"$f":"[5]BoP!I56","v":2.0918149427255308},{"$f":"[5]BoP!J56","v":2.118747930532983},{"$f":"[5]BoP!K56","v":2.150299479577594},{"$f":"[5]BoP!L56","v":2.231175678612594},{"$f":"[5]BoP!M56","v":2.5122113741959184},{"$f":"[5]BoP!N56","v":2.6699648438276626},{"$f":"[5]BoP!O56","v":2.8270071465981736},{"$f":"[5]BoP!P56","v":3.1824216170323205},{"$f":"[5]BoP!Q56","v":3.5122606072264633},{"$f":"[5]BoP!R56","v":3.2960467497736881},{"$f":"[5]BoP!S56","v":3.3877192616987637}]
["Non-life insurance, claims",null,{"$f":"[5]BoP!C57","v":0},{"$f":"[5]BoP!D57","v":0},{"$f":"[5]BoP!E57","v":0},{"$f":"[5]BoP!F57","v":0},{"$f":"[5]BoP!G57","v":0},{"$f":"[5]BoP!H57","v":0},{"$f":"[5]BoP!I57","v":0},{"$f":"[5]BoP!J57","v":0},{"$f":"[5]BoP!K57","v":0},{"$f":"[5]BoP!L57","v":0},{"$f":"[5]BoP!M57","v":0},{"$f":"[5]BoP!N57","v":0},{"$f":"[5]BoP!O57","v":3.410336},{"$f":"[5]BoP!P57","v":0},{"$f":"[5]BoP!Q57","v":0},{"$f":"[5]BoP!R57","v":0},{"$f":"[5]BoP!S57","v":0}]
["Secondary income, outflows",null,{"$f":"[5]BoP!C58","v":3.1522358485117303},{"$f":"[5]BoP!D58","v":2.9180229825348287},{"$f":"[5]BoP!E58","v":2.7671961373380922},{"$f":"[5]BoP!F58","v":2.8470063287167702},{"$f":"[5]BoP!G58","v":2.8351870310304697},{"$f":"[5]BoP!H58","v":2.955779705767672},{"$f":"[5]BoP!I58","v":3.0442603747811678},{"$f":"[5]BoP!J58","v":3.2226263555911365},{"$f":"[5]BoP!K58","v":3.3101608668839999},{"$f":"[5]BoP!L58","v":3.3905000875963016},{"$f":"[5]BoP!M58","v":3.581153848740255},{"$f":"[5]BoP!N58","v":3.7112201983744053},{"$f":"[5]BoP!O58","v":3.8824961340323161},{"$f":"[5]BoP!P58","v":4.1052044549745697},{"$f":"[5]BoP!Q58","v":4.4324703002373917},{"$f":"[5]BoP!R58","v":5.3268658479783619},{"$f":"[5]BoP!S58","v":5.9827516185451612}]
["Household remittances",null,{"$f":"[5]BoP!C59","v":2.8945470151783965},{"$f":"[5]BoP!D59","v":2.6689243492014953},{"$f":"[5]BoP!E59","v":2.5577799706714255},{"$f":"[5]BoP!F59","v":2.6159429953834366},{"$f":"[5]BoP!G59","v":2.5986303643638027},{"$f":"[5]BoP!H59","v":2.6699918544343384},{"$f":"[5]BoP!I59","v":2.7715470001145008},{"$f":"[5]BoP!J59","v":3.0021156773211564},{"$f":"[5]BoP!K59","v":3.0547636168994576},{"$f":"[5]BoP!L59","v":3.1574146022003218},{"$f":"[5]BoP!M59","v":3.3131828389732547},{"$f":"[5]BoP!N59","v":3.4528751151945385},{"$f":"[5]BoP!O59","v":3.6076174510453627},{"$f":"[5]BoP!P59","v":3.8433051211901605},{"$f":"[5]BoP!Q59","v":4.1809907638972899},{"$f":"[5]BoP!R59","v":5.0518249775190673},{"$f":"[5]BoP!S59","v":5.7242925671109637}]
["Non-life insurance, net premiums",null,{"$f":"[5]BoP!C60","v":0.25768883333333359},{"$f":"[5]BoP!D60","v":0.24909863333333357},{"$f":"[5]BoP!E60","v":0.20941616666666685},{"$f":"[5]BoP!F60","v":0.23106333333333356},{"$f":"[5]BoP!G60","v":0.23655666666666694},{"$f":"[5]BoP!H60","v":0.28578785133333362},{"$f":"[5]BoP!I60","v":0.2727133746666669},{"$f":"[5]BoP!J60","v":0.22051067826998003},{"$f":"[5]BoP!K60","v":0.25539724998454205},{"$f":"[5]BoP!L60","v":0.2330854853959797},{"$f":"[5]BoP!M60","v":0.26797100976700028},{"$f":"[5]BoP!N60","v":0.25834508317986693},{"$f":"[5]BoP!O60","v":0.27487868298695328},{"$f":"[5]BoP!P60","v":0.26189933378440911},{"$f":"[5]BoP!Q60","v":0.25147953634010189},{"$f":"[5]BoP!R60","v":0.27504087045929471},{"$f":"[5]BoP!S60","v":0.25845905143419773}]
["Capital account balance",null,{"$f":"[5]BoP!C61","v":28.544537000000002},{"$f":"[5]BoP!D61","v":72.871282999999991},{"$f":"[5]BoP!E61","v":28.219876000000003},{"$f":"[5]BoP!F61","v":29.096918000000002},{"$f":"[5]BoP!G61","v":28.194851000000003},{"$f":"[5]BoP!H61","v":28.224100000000004},{"$f":"[5]BoP!I61","v":28.579710000000002},{"$f":"[5]BoP!J61","v":20.600518999999998},{"$f":"[5]BoP!K61","v":19.239332999999998},{"$f":"[5]BoP!L61","v":9.6138960000000004},{"$f":"[5]BoP!M61","v":22.670218999999999},{"$f":"[5]BoP!N61","v":35.559258999999997},{"$f":"[5]BoP!O61","v":34.694148000000006},{"$f":"[5]BoP!P61","v":30.136500999999999},{"$f":"[5]BoP!Q61","v":38.743563999999999},{"$f":"[5]BoP!R61","v":32.229189000000005},{"$f":"[5]BoP!S61","v":30.244124751996008}]
["Capital inflows",null,{"$f":"[5]BoP!C62","v":28.544537000000002},{"$f":"[5]BoP!D62","v":72.871282999999991},{"$f":"[5]BoP!E62","v":28.219876000000003},{"$f":"[5]BoP!F62","v":29.096918000000002},{"$f":"[5]BoP!G62","v":28.194851000000003},{"$f":"[5]BoP!H62","v":28.224100000000004},{"$f":"[5]BoP!I62","v":28.579710000000002},{"$f":"[5]BoP!J62","v":20.600518999999998},{"$f":"[5]BoP!K62","v":19.239332999999998},{"$f":"[5]BoP!L62","v":9.6138960000000004},{"$f":"[5]BoP!M62","v":22.670218999999999},{"$f":"[5]BoP!N62","v":35.559258999999997},{"$f":"[5]BoP!O62","v":34.694148000000006},{"$f":"[5]BoP!P62","v":30.136500999999999},{"$f":"[5]BoP!Q62","v":38.743563999999999},{"$f":"[5]BoP!R62","v":32.229189000000005},{"$f":"[5]BoP!S62","v":30.244124751996008}]
["National Gov't, Compact capital grants",null,{"$f":"[5]BoP!C63","v":22.220839999999999},{"$f":"[5]BoP!D63","v":27.60324},{"$f":"[5]BoP!E63","v":22.848690000000001},{"$f":"[5]BoP!F63","v":23.501135999999999},{"$f":"[5]BoP!G63","v":22.951516999999999},{"$f":"[5]BoP!H63","v":23.024100000000001},{"$f":"[5]BoP!I63","v":23.379709999999999},{"$f":"[5]BoP!J63","v":19.300519000000001},{"$f":"[5]BoP!K63","v":19.239332999999998},{"$f":"[5]BoP!L63","v":2.4513470000000002},{"$f":"[5]BoP!M63","v":4.71652},{"$f":"[5]BoP!N63","v":9.4965890000000002},{"$f":"[5]BoP!O63","v":16.582664000000001},{"$f":"[5]BoP!P63","v":11.289527},{"$f":"[5]BoP!Q63","v":13.218273},{"$f":"[5]BoP!R63","v":13.307975000000001},{"$f":"[5]BoP!S63","v":12.245974751996005}]
["National Gov't, Compact Trust Fund grants",null,{"$f":"[5]BoP!C64","v":0},{"$f":"[5]BoP!D64","v":0},{"$f":"[5]BoP!E64","v":0},{"$f":"[5]BoP!F64","v":0},{"$f":"[5]BoP!G64","v":0},{"$f":"[5]BoP!H64","v":0},{"$f":"[5]BoP!I64","v":0},{"$f":"[5]BoP!J64","v":0},{"$f":"[5]BoP!K64","v":0},{"$f":"[5]BoP!L64","v":7},{"$f":"[5]BoP!M64","v":14.0885},{"$f":"[5]BoP!N64","v":10.720799999999999},{"$f":"[5]BoP!O64","v":11.449592000000001},{"$f":"[5]BoP!P64","v":10.463699999999999},{"$f":"[5]BoP!Q64","v":14.934291},{"$f":"[5]BoP!R64","v":13.532214},{"$f":"[5]BoP!S64","v":14.19815}]
["Local Government, Trust Fund grants 1/",null,{"$f":"[5]BoP!C65","v":5.2000000000000011},{"$f":"[5]BoP!D65","v":44.900000000000006},{"$f":"[5]BoP!E65","v":5.2000000000000011},{"$f":"[5]BoP!F65","v":5.2000000000000011},{"$f":"[5]BoP!G65","v":5.2000000000000011},{"$f":"[5]BoP!H65","v":5.2000000000000011},{"$f":"[5]BoP!I65","v":5.2000000000000011},{"$f":"[5]BoP!J65","v":1.3000000000000003},{"$f":"[5]BoP!K65","v":0},{"$f":"[5]BoP!L65","v":0},{"$f":"[5]BoP!M65","v":1.78},{"$f":"[5]BoP!N65","v":1.76},{"$f":"[5]BoP!O65","v":1.76},{"$f":"[5]BoP!P65","v":0},{"$f":"[5]BoP!Q65","v":0},{"$f":"[5]BoP!R65","v":0},{"$f":"[5]BoP!S65","v":0}]
["Other capital grants to government",null,{"$f":"[5]BoP!C66","v":1.1236969999999999},{"$f":"[5]BoP!D66","v":0.36804300000000001},{"$f":"[5]BoP!E66","v":0.171186},{"$f":"[5]BoP!F66","v":0.39578200000000002},{"$f":"[5]BoP!G66","v":4.3333999999999998E-2},{"$f":"[5]BoP!H66","v":0},{"$f":"[5]BoP!I66","v":0},{"$f":"[5]BoP!J66","v":0},{"$f":"[5]BoP!K66","v":0},{"$f":"[5]BoP!L66","v":0.162549},{"$f":"[5]BoP!M66","v":2.0851990000000002},{"$f":"[5]BoP!N66","v":13.58187},{"$f":"[5]BoP!O66","v":4.9018920000000001},{"$f":"[5]BoP!P66","v":8.3832740000000001},{"$f":"[5]BoP!Q66","v":10.590999999999999},{"$f":"[5]BoP!R66","v":5.3890000000000002},{"$f":"[5]BoP!S66","v":3.8}]
["Capital outflows",null,{"$f":"[5]BoP!C67","v":0},{"$f":"[5]BoP!D67","v":0},{"$f":"[5]BoP!E67","v":0},{"$f":"[5]BoP!F67","v":0},{"$f":"[5]BoP!G67","v":0},{"$f":"[5]BoP!H67","v":0},{"$f":"[5]BoP!I67","v":0},{"$f":"[5]BoP!J67","v":0},{"$f":"[5]BoP!K67","v":0},{"$f":"[5]BoP!L67","v":0},{"$f":"[5]BoP!M67","v":0},{"$f":"[5]BoP!N67","v":0},{"$f":"[5]BoP!O67","v":0},{"$f":"[5]BoP!P67","v":0},{"$f":"[5]BoP!Q67","v":0},{"$f":"[5]BoP!R67","v":0},{"$f":"[5]BoP!S67","v":0}]
["Net lending/Borrowing (Curr + Cap)",null,{"$f":"[5]BoP!C68","v":8.4813070096885212E-3},{"$f":"[5]BoP!D68","v":30.612571161671525},{"$f":"[5]BoP!E68","v":1.2842664154189833},{"$f":"[5]BoP!F68","v":7.4829393484371316},{"$f":"[5]BoP!G68","v":2.5591763365877966},{"$f":"[5]BoP!H68","v":3.4182803298570583},{"$f":"[5]BoP!I68","v":8.715107454299396},{"$f":"[5]BoP!J68","v":14.869880725754847},{"$f":"[5]BoP!K68","v":3.738999168549153},{"$f":"[5]BoP!L68","v":2.7252176866785156},{"$f":"[5]BoP!M68","v":20.707619956280414},{"$f":"[5]BoP!N68","v":30.494090118549479},{"$f":"[5]BoP!O68","v":28.404221348242146},{"$f":"[5]BoP!P68","v":27.429908801946514},{"$f":"[5]BoP!Q68","v":13.176316905791083},{"$f":"[5]BoP!R68","v":-13.68251700442918},{"$f":"[5]BoP!S68","v":19.676929465355759}]
["Financial account balance",null,{"$f":"[5]BoP!C69","v":29.253193478572499},{"$f":"[5]BoP!D69","v":-44.473853279276767},{"$f":"[5]BoP!E69","v":5.5862819336472054},{"$f":"[5]BoP!F69","v":10.269622328479592},{"$f":"[5]BoP!G69","v":-11.68802874280817},{"$f":"[5]BoP!H69","v":-4.6264706150635497},{"$f":"[5]BoP!I69","v":-3.2002684964315975},{"$f":"[5]BoP!J69","v":3.8416622501365971},{"$f":"[5]BoP!K69","v":-1.154909119940446},{"$f":"[5]BoP!L69","v":19.730369766220328},{"$f":"[5]BoP!M69","v":-13.445827638450842},{"$f":"[5]BoP!N69","v":11.252500157088537},{"$f":"[5]BoP!O69","v":-11.020505678878349},{"$f":"[5]BoP!P69","v":11.791808899110798},{"$f":"[5]BoP!Q69","v":16.359669271454372},{"$f":"[5]BoP!R69","v":21.561438282172944},{"$f":"[5]BoP!S69","v":8.9288746300651312}]
["Direct investment",null,{"$f":"[5]BoP!C70","v":0.64215037769766403},{"$f":"[5]BoP!D70","v":0.67535330052021503},{"$f":"[5]BoP!E70","v":0.6974795534291407},{"$f":"[5]BoP!F70","v":0.69434983565339348},{"$f":"[5]BoP!G70","v":3.7082407526907972},{"$f":"[5]BoP!H70","v":0.73900918448751574},{"$f":"[5]BoP!I70","v":0.73868257006671567},{"$f":"[5]BoP!J70","v":0.83876427178162305},{"$f":"[5]BoP!K70","v":-1.1515031743957713},{"$f":"[5]BoP!L70","v":1.1223969101417415},{"$f":"[5]BoP!M70","v":3.2796223615491518},{"$f":"[5]BoP!N70","v":-1.0632382754114607},{"$f":"[5]BoP!O70","v":6.9873119877883028},{"$f":"[5]BoP!P70","v":5.6947467157774785},{"$f":"[5]BoP!Q70","v":14.649434956454378},{"$f":"[5]BoP!R70","v":37.230553649610428},{"$f":"[5]BoP!S70","v":4.5811512687495153}]
["Abroad (increase: -)",null,{"$f":"[5]BoP!C71","v":0},{"$f":"[5]BoP!D71","v":0},{"$f":"[5]BoP!E71","v":0},{"$f":"[5]BoP!F71","v":0},{"$f":"[5]BoP!G71","v":0},{"$f":"[5]BoP!H71","v":0},{"$f":"[5]BoP!I71","v":0},{"$f":"[5]BoP!J71","v":0},{"$f":"[5]BoP!K71","v":0},{"$f":"[5]BoP!L71","v":0},{"$f":"[5]BoP!M71","v":0},{"$f":"[5]BoP!N71","v":-2.94},{"$f":"[5]BoP!O71","v":0},{"$f":"[5]BoP!P71","v":0},{"$f":"[5]BoP!Q71","v":0},{"$f":"[5]BoP!R71","v":0},{"$f":"[5]BoP!S71","v":0}]
["In the RMI (increase: +)",null,{"$f":"[5]BoP!C72","v":0.64215037769766403},{"$f":"[5]BoP!D72","v":0.67535330052021503},{"$f":"[5]BoP!E72","v":0.6974795534291407},{"$f":"[5]BoP!F72","v":0.69434983565339348},{"$f":"[5]BoP!G72","v":3.7082407526907972},{"$f":"[5]BoP!H72","v":0.73900918448751574},{"$f":"[5]BoP!I72","v":0.73868257006671567},{"$f":"[5]BoP!J72","v":0.83876427178162305},{"$f":"[5]BoP!K72","v":-1.1515031743957713},{"$f":"[5]BoP!L72","v":1.1223969101417415},{"$f":"[5]BoP!M72","v":3.2796223615491518},{"$f":"[5]BoP!N72","v":1.8767617245885393},{"$f":"[5]BoP!O72","v":6.9873119877883028},{"$f":"[5]BoP!P72","v":5.6947467157774785},{"$f":"[5]BoP!Q72","v":14.649434956454378},{"$f":"[5]BoP!R72","v":37.230553649610428},{"$f":"[5]BoP!S72","v":4.5811512687495153}]
["Portfolio investment (increase in assets: -)",null,{"$f":"[5]BoP!C73","v":24.447516046533167},{"$f":"[5]BoP!D73","v":-44.67752774979698},{"$f":"[5]BoP!E73","v":-5.2919289522069324},{"$f":"[5]BoP!F73","v":-5.7036322447487997},{"$f":"[5]BoP!G73","v":-18.434284495498964},{"$f":"[5]BoP!H73","v":-4.1622107253086433},{"$f":"[5]BoP!I73","v":-13.644554157407406},{"$f":"[5]BoP!J73","v":2.7430684646464654},{"$f":"[5]BoP!K73","v":6.4351571307035282},{"$f":"[5]BoP!L73","v":20.948186626872225},{"$f":"[5]BoP!M73","v":-11.561812666666652},{"$f":"[5]BoP!N73","v":6.2146343333333292},{"$f":"[5]BoP!O73","v":-13.452715000000001},{"$f":"[5]BoP!P73","v":7.1743503333333383},{"$f":"[5]BoP!Q73","v":-2.9657792300000043},{"$f":"[5]BoP!R73","v":-3.4653587699999902},{"$f":"[5]BoP!S73","v":-0.57507377000000215}]
["Assets (increase: -)",null,{"$f":"[5]BoP!C74","v":9.1154230465331576},{"$f":"[5]BoP!D74","v":-30.724373749796978},{"$f":"[5]BoP!E74","v":8.6511720477930663},{"$f":"[5]BoP!F74","v":9.9382537552511998},{"$f":"[5]BoP!G74","v":8.9546345045010316},{"$f":"[5]BoP!H74","v":11.711192941358025},{"$f":"[5]BoP!I74","v":8.8664658425925928},{"$f":"[5]BoP!J74","v":2.7459392222222228},{"$f":"[5]BoP!K74","v":5.680117706461103},{"$f":"[5]BoP!L74","v":20.331260626872226},{"$f":"[5]BoP!M74","v":-11.285545999999986},{"$f":"[5]BoP!N74","v":6.3347009999999964},{"$f":"[5]BoP!O74","v":-11.977715},{"$f":"[5]BoP!P74","v":7.7830170000000054},{"$f":"[5]BoP!Q74","v":-3.7657792300000041},{"$f":"[5]BoP!R74","v":-3.8653587699999883},{"$f":"[5]BoP!S74","v":-0.67507377000000091}]
["National Gov't, Compact Trust Fund",null,{"$f":"[5]BoP!C75","v":0},{"$f":"[5]BoP!D75","v":0},{"$f":"[5]BoP!E75","v":0},{"$f":"[5]BoP!F75","v":0},{"$f":"[5]BoP!G75","v":0},{"$f":"[5]BoP!H75","v":0},{"$f":"[5]BoP!I75","v":0},{"$f":"[5]BoP!J75","v":0},{"$f":"[5]BoP!K75","v":0},{"$f":"[5]BoP!L75","v":-32},{"$f":"[5]BoP!M75","v":-15.5885},{"$f":"[5]BoP!N75","v":-10.470799999999999},{"$f":"[5]BoP!O75","v":-11.449592000000001},{"$f":"[5]BoP!P75","v":-10.463699999999999},{"$f":"[5]BoP!Q75","v":-14.934291},{"$f":"[5]BoP!R75","v":-13.532214},{"$f":"[5]BoP!S75","v":-15.29815}]
["National Gov't, Investment Portfolio 2/",null,{"$f":"[5]BoP!C76","v":0},{"$f":"[5]BoP!D76","v":0},{"$f":"[5]BoP!E76","v":0},{"$f":"[5]BoP!F76","v":0},{"$f":"[5]BoP!G76","v":0},{"$f":"[5]BoP!H76","v":0},{"$f":"[5]BoP!I76","v":0},{"$f":"[5]BoP!J76","v":-17.5},{"$f":"[5]BoP!K76","v":-8.8895339999999994},{"$f":"[5]BoP!L76","v":25},{"$f":"[5]BoP!M76","v":0},{"$f":"[5]BoP!N76","v":0},{"$f":"[5]BoP!O76","v":0},{"$f":"[5]BoP!P76","v":0},{"$f":"[5]BoP!Q76","v":0},{"$f":"[5]BoP!R76","v":0},{"$f":"[5]BoP!S76","v":0}]
["Local Government, Trust Funds 2/",null,{"$f":"[5]BoP!C77","v":9.1154230465331576},{"$f":"[5]BoP!D77","v":-30.724373749796978},{"$f":"[5]BoP!E77","v":8.6511720477930663},{"$f":"[5]BoP!F77","v":9.9382537552511998},{"$f":"[5]BoP!G77","v":8.9546345045010316},{"$f":"[5]BoP!H77","v":11.711192941358025},{"$f":"[5]BoP!I77","v":14.025608842592593},{"$f":"[5]BoP!J77","v":20.011374222222223},{"$f":"[5]BoP!K77","v":16.011227333333334},{"$f":"[5]BoP!L77","v":32.749552999999999},{"$f":"[5]BoP!M77","v":9.1548630000000024},{"$f":"[5]BoP!N77","v":20.372212000000001},{"$f":"[5]BoP!O77","v":5.8908410000000035},{"$f":"[5]BoP!P77","v":10.279150000000001},{"$f":"[5]BoP!Q77","v":13.909894770000001},{"$f":"[5]BoP!R77","v":13.437351230000001},{"$f":"[5]BoP!S77","v":13.437351230000001}]
["Social Security ",null,{"$f":"[5]BoP!C78","v":0},{"$f":"[5]BoP!D78","v":0},{"$f":"[5]BoP!E78","v":0},{"$f":"[5]BoP!F78","v":0},{"$f":"[5]BoP!G78","v":0},{"$f":"[5]BoP!H78","v":0},{"$f":"[5]BoP!I78","v":-5.1591430000000003},{"$f":"[5]BoP!J78","v":0.23456499999999991},{"$f":"[5]BoP!K78","v":-1.9051646268722315},{"$f":"[5]BoP!L78","v":-5.8848403731277728},{"$f":"[5]BoP!M78","v":-4.8373009999999894},{"$f":"[5]BoP!N78","v":-3.8452590000000058},{"$f":"[5]BoP!O78","v":-6.3820320000000024},{"$f":"[5]BoP!P78","v":7.9691990000000033},{"$f":"[5]BoP!Q78","v":-2.8393970000000053},{"$f":"[5]BoP!R78","v":-3.8265699999999896},{"$f":"[5]BoP!S78","v":1.1857249999999979}]
["National Telecommunications Authority",null,{"$f":"[5]BoP!C79","v":0},{"$f":"[5]BoP!D79","v":0},{"$f":"[5]BoP!E79","v":0},{"$f":"[5]BoP!F79","v":0},{"$f":"[5]BoP!G79","v":0},{"$f":"[5]BoP!H79","v":0},{"$f":"[5]BoP!I79","v":0},{"$f":"[5]BoP!J79","v":0},{"$f":"[5]BoP!K79","v":0.46358900000000003},{"$f":"[5]BoP!L79","v":0.46654799999999996},{"$f":"[5]BoP!M79","v":-1.4607999999999954E-2},{"$f":"[5]BoP!N79","v":0.27854799999999996},{"$f":"[5]BoP!O79","v":-3.6932000000000006E-2},{"$f":"[5]BoP!P79","v":-1.6319999999999946E-3},{"$f":"[5]BoP!Q79","v":9.8014000000000004E-2},{"$f":"[5]BoP!R79","v":5.6073999999999999E-2},{"$f":"[5]BoP!S79","v":0}]
["Liabilities (increase: +)",null,{"$f":"[5]BoP!C80","v":15.332093000000009},{"$f":"[5]BoP!D80","v":-13.953154},{"$f":"[5]BoP!E80","v":-13.943100999999999},{"$f":"[5]BoP!F80","v":-15.641886},{"$f":"[5]BoP!G80","v":-27.388918999999998},{"$f":"[5]BoP!H80","v":-15.873403666666668},{"$f":"[5]BoP!I80","v":-22.511019999999998},{"$f":"[5]BoP!J80","v":-2.8707575757578319E-3},{"$f":"[5]BoP!K80","v":0.75503942424242521},{"$f":"[5]BoP!L80","v":0.61692599999999942},{"$f":"[5]BoP!M80","v":-0.27626666666666644},{"$f":"[5]BoP!N80","v":-0.12006666666666677},{"$f":"[5]BoP!O80","v":-1.4750000000000001},{"$f":"[5]BoP!P80","v":-0.60866666666666669},{"$f":"[5]BoP!Q80","v":0.79999999999999982},{"$f":"[5]BoP!R80","v":0.39999999999999991},{"$f":"[5]BoP!S80","v":0.10000000000000009}]
["Banks, capital & reinvested earnings",null,{"$f":"[5]BoP!C81","v":-1.6},{"$f":"[5]BoP!D81","v":0.35000000000000009},{"$f":"[5]BoP!E81","v":0.79999999999999982},{"$f":"[5]BoP!F81","v":0.46150000000000002},{"$f":"[5]BoP!G81","v":-1.1309999999999998},{"$f":"[5]BoP!H81","v":0.95233333333333281},{"$f":"[5]BoP!I81","v":0.12807200000000041},{"$f":"[5]BoP!J81","v":-2.8707575757578319E-3},{"$f":"[5]BoP!K81","v":0.75503942424242521},{"$f":"[5]BoP!L81","v":0.61692599999999942},{"$f":"[5]BoP!M81","v":-0.27626666666666644},{"$f":"[5]BoP!N81","v":-0.12006666666666677},{"$f":"[5]BoP!O81","v":-1.4750000000000001},{"$f":"[5]BoP!P81","v":-0.60866666666666669},{"$f":"[5]BoP!Q81","v":0.79999999999999982},{"$f":"[5]BoP!R81","v":0.39999999999999991},{"$f":"[5]BoP!S81","v":0.10000000000000009}]
["Government, medium-term notes",null,{"$f":"[5]BoP!C82","v":16.932093000000009},{"$f":"[5]BoP!D82","v":-14.303153999999999},{"$f":"[5]BoP!E82","v":-14.743100999999999},{"$f":"[5]BoP!F82","v":-16.103386},{"$f":"[5]BoP!G82","v":-26.257918999999998},{"$f":"[5]BoP!H82","v":-16.825737},{"$f":"[5]BoP!I82","v":-22.639091999999998},{"$f":"[5]BoP!J82","v":0},{"$f":"[5]BoP!K82","v":0},{"$f":"[5]BoP!L82","v":0},{"$f":"[5]BoP!M82","v":0},{"$f":"[5]BoP!N82","v":0},{"$f":"[5]BoP!O82","v":0},{"$f":"[5]BoP!P82","v":0},{"$f":"[5]BoP!Q82","v":0},{"$f":"[5]BoP!R82","v":0},{"$f":"[5]BoP!S82","v":0}]
["Other investment (increase in assets: -)",null,{"$f":"[5]BoP!C83","v":4.1635270543416656},{"$f":"[5]BoP!D83","v":-0.47167882999999944},{"$f":"[5]BoP!E83","v":10.180731332424998},{"$f":"[5]BoP!F83","v":15.278904737574999},{"$f":"[5]BoP!G83","v":3.0380149999999979},{"$f":"[5]BoP!H83","v":-1.2032690742424226},{"$f":"[5]BoP!I83","v":9.7056030909090918},{"$f":"[5]BoP!J83","v":0.25982951370850849},{"$f":"[5]BoP!K83","v":-6.4385630762482027},{"$f":"[5]BoP!L83","v":-2.3402137707936381},{"$f":"[5]BoP!M83","v":-5.163637333333341},{"$f":"[5]BoP!N83","v":6.101104099166669},{"$f":"[5]BoP!O83","v":-4.5551026666666505},{"$f":"[5]BoP!P83","v":-1.077288150000018},{"$f":"[5]BoP!Q83","v":4.676013545},{"$f":"[5]BoP!R83","v":-12.203756597437497},{"$f":"[5]BoP!S83","v":4.9227971313156171}]
["Assets (increase: -)",null,{"$f":"[5]BoP!C84","v":0.69999999999999896},{"$f":"[5]BoP!D84","v":-2.3780000000000001},{"$f":"[5]BoP!E84","v":1.2779999999999987},{"$f":"[5]BoP!F84","v":0.67249999999999943},{"$f":"[5]BoP!G84","v":-5.322499999999998},{"$f":"[5]BoP!H84","v":-9.5562424242424235},{"$f":"[5]BoP!I84","v":1.939109090909092},{"$f":"[5]BoP!J84","v":-7.2406914862914888},{"$f":"[5]BoP!K84","v":-9.9902481962482028},{"$f":"[5]BoP!L84","v":-2.6771936507936402},{"$f":"[5]BoP!M84","v":-2.6175333333333413},{"$f":"[5]BoP!N84","v":-3.982533333333329},{"$f":"[5]BoP!O84","v":-3.1690666666666516},{"$f":"[5]BoP!P84","v":3.6443999999999832},{"$f":"[5]BoP!Q84","v":-6.5},{"$f":"[5]BoP!R84","v":-8.1999999999999957},{"$f":"[5]BoP!S84","v":-0.10000000000000853}]
["Banks, deposits",null,{"$f":"[5]BoP!C85","v":0.69999999999999896},{"$f":"[5]BoP!D85","v":-2.3780000000000001},{"$f":"[5]BoP!E85","v":1.2779999999999987},{"$f":"[5]BoP!F85","v":0.67249999999999943},{"$f":"[5]BoP!G85","v":-5.322499999999998},{"$f":"[5]BoP!H85","v":-9.5562424242424235},{"$f":"[5]BoP!I85","v":1.939109090909092},{"$f":"[5]BoP!J85","v":-7.2406914862914888},{"$f":"[5]BoP!K85","v":-9.9902481962482028},{"$f":"[5]BoP!L85","v":-2.6771936507936402},{"$f":"[5]BoP!M85","v":-2.6175333333333413},{"$f":"[5]BoP!N85","v":-3.982533333333329},{"$f":"[5]BoP!O85","v":-3.1690666666666516},{"$f":"[5]BoP!P85","v":3.6443999999999832},{"$f":"[5]BoP!Q85","v":-6.5},{"$f":"[5]BoP!R85","v":-8.1999999999999957},{"$f":"[5]BoP!S85","v":-0.10000000000000853}]
["Liabilities (increase: +)",null,{"$f":"[5]BoP!C86","v":3.4635270543416663},{"$f":"[5]BoP!D86","v":1.9063211700000007},{"$f":"[5]BoP!E86","v":8.9027313324249988},{"$f":"[5]BoP!F86","v":14.606404737575},{"$f":"[5]BoP!G86","v":8.3605149999999959},{"$f":"[5]BoP!H86","v":8.352973350000001},{"$f":"[5]BoP!I86","v":7.7664939999999998},{"$f":"[5]BoP!J86","v":7.5005209999999973},{"$f":"[5]BoP!K86","v":3.5516851200000006},{"$f":"[5]BoP!L86","v":0.3369798800000019},{"$f":"[5]BoP!M86","v":-2.5461040000000001},{"$f":"[5]BoP!N86","v":10.083637432499998},{"$f":"[5]BoP!O86","v":-1.3860359999999994},{"$f":"[5]BoP!P86","v":-4.7216881500000012},{"$f":"[5]BoP!Q86","v":11.176013545},{"$f":"[5]BoP!R86","v":-4.0037565974375013},{"$f":"[5]BoP!S86","v":5.0227971313156257}]
["Loans, government",null,{"$f":"[5]BoP!C87","v":4.0503099999999996},{"$f":"[5]BoP!D87","v":2.108222},{"$f":"[5]BoP!E87","v":10.664339999999999},{"$f":"[5]BoP!F87","v":7.9510009999999998},{"$f":"[5]BoP!G87","v":3.3061040000000004},{"$f":"[5]BoP!H87","v":9.0146359999999994},{"$f":"[5]BoP!I87","v":9.2092320000000001},{"$f":"[5]BoP!J87","v":9.2194319999999994},{"$f":"[5]BoP!K87","v":4.8709811200000006},{"$f":"[5]BoP!L87","v":1.716055880000001},{"$f":"[5]BoP!M87","v":-1.3000859999999999},{"$f":"[5]BoP!N87","v":0.30517799999999951},{"$f":"[5]BoP!O87","v":-1.1999619999999993},{"$f":"[5]BoP!P87","v":-1.0894140000000012},{"$f":"[5]BoP!Q87","v":-1.7560172800000002},{"$f":"[5]BoP!R87","v":-2.0695930974374996},{"$f":"[5]BoP!S87","v":-2.0801048686843751}]
["Loans, public entities",null,{"$f":"[5]BoP!C88","v":-0.58678294565833311},{"$f":"[5]BoP!D88","v":-0.20190082999999936},{"$f":"[5]BoP!E88","v":-1.7616086675750002},{"$f":"[5]BoP!F88","v":6.6554037375749999},{"$f":"[5]BoP!G88","v":5.0544109999999964},{"$f":"[5]BoP!H88","v":-0.6616626499999978},{"$f":"[5]BoP!I88","v":-1.4427380000000007},{"$f":"[5]BoP!J88","v":-1.7189110000000016},{"$f":"[5]BoP!K88","v":-1.319296},{"$f":"[5]BoP!L88","v":-1.3790759999999991},{"$f":"[5]BoP!M88","v":-1.2460180000000003},{"$f":"[5]BoP!N88","v":9.7784594324999983},{"$f":"[5]BoP!O88","v":-0.18607399999999996},{"$f":"[5]BoP!P88","v":-3.6322741499999998},{"$f":"[5]BoP!Q88","v":12.932030825},{"$f":"[5]BoP!R88","v":-1.9341635000000015},{"$f":"[5]BoP!S88","v":7.1029020000000003}]
["Errors and omissions",null,{"$f":"[5]BoP!C89","v":29.261674785582187},{"$f":"[5]BoP!D89","v":-13.861282117605242},{"$f":"[5]BoP!E89","v":6.8705483490661887},{"$f":"[5]BoP!F89","v":17.752561676916724},{"$f":"[5]BoP!G89","v":-9.1288524062203731},{"$f":"[5]BoP!H89","v":-1.2081902852064914},{"$f":"[5]BoP!I89","v":5.5148389578677985},{"$f":"[5]BoP!J89","v":18.711542975891444},{"$f":"[5]BoP!K89","v":2.5840900486087071},{"$f":"[5]BoP!L89","v":22.455587452898843},{"$f":"[5]BoP!M89","v":7.2617923178295722},{"$f":"[5]BoP!N89","v":41.746590275638013},{"$f":"[5]BoP!O89","v":17.383715669363795},{"$f":"[5]BoP!P89","v":39.221717701057315},{"$f":"[5]BoP!Q89","v":29.535986177245455},{"$f":"[5]BoP!R89","v":7.8789212777437641},{"$f":"[5]BoP!S89","v":28.60580409542089}]
["MEMO ITEM"]
["\"Exports\", non-resident fishing vessels 1/",null,{"$f":"[5]BoP!C91","v":"n.a."},{"$f":"[5]BoP!D91","v":"n.a."},{"$f":"[5]BoP!E91","v":"n.a."},{"$f":"[5]BoP!F91","v":"n.a."},{"$f":"[5]BoP!G91","v":"n.a."},{"$f":"[5]BoP!H91","v":"n.a."},{"$f":"[5]BoP!I91","v":28.21009290584696},{"$f":"[5]BoP!J91","v":34.499013433952918},{"$f":"[5]BoP!K91","v":32.861346238150126},{"$f":"[5]BoP!L91","v":43.019815939999994},{"$f":"[5]BoP!M91","v":54.306639264664994},{"$f":"[5]BoP!N91","v":45.248033220000003},{"$f":"[5]BoP!O91","v":79.275108075334998},{"$f":"[5]BoP!P91","v":63.156948454890525},{"$f":"[5]BoP!Q91","v":61.802681924992413},{"$f":"[5]BoP!R91","v":74.060597868869607},{"$f":"[5]BoP!S91","v":86.337847369634034}]
["1/ Pelagic fishing vessels operated economically from abroad are treated as non-resident; thus, their sales are not included in exports in the main dataset."]
["2/ Coverage of national government investment portfolio and local government trust funds is incomplete."]

{"sheet":"IIP","index":24,"n_rows":23,"n_cols":19,"rows_kept":23,"cut":false,"hidden":false,"merged":[]}
["Table 8c    Marshall Islands: International Investment Position, FY2004-FY2011"]
["(US$ millions)",null,"FY1995","FY1996","FY1997","FY1998","FY1999","FY2000","FY2001","FY2002","FY2003","FY2004","FY2005","FY2006","FY2007","FY2008","FY2009","FY2010","FY2011"]
["TOTAL STOCKS, NET",null,{"$f":"[5]IIP!C3","v":85.380588088427515},{"$f":"[5]IIP!D3","v":160.7996754431127},{"$f":"[5]IIP!E3","v":191.34566271375957},{"$f":"[5]IIP!F3","v":222.44153399473396},{"$f":"[5]IIP!G3","v":279.73711411625266},{"$f":"[5]IIP!H3","v":278.32102319246775},{"$f":"[5]IIP!I3","v":257.22831243141354},{"$f":"[5]IIP!J3","v":247.35271863940523},{"$f":"[5]IIP!K3","v":289.64806709601555},{"$f":"[5]IIP!L3","v":297.22475836650818},{"$f":"[5]IIP!M3","v":313.36034377188173},{"$f":"[5]IIP!N3","v":322.55717300461674},{"$f":"[5]IIP!O3","v":377.13505295881077},{"$f":"[5]IIP!P3","v":322.51591194999997},{"$f":"[5]IIP!Q3","v":316.97567228000008},{"$f":"[5]IIP!R3","v":354.96126047999991},{"$f":"[5]IIP!S3","v":370.50881058368435}]
["Direct investment, net",null,{"$f":"[5]IIP!C4","v":"n.a. "},{"$f":"[5]IIP!D4","v":"n.a. "},{"$f":"[5]IIP!E4","v":"n.a. "},{"$f":"[5]IIP!F4","v":"n.a. "},{"$f":"[5]IIP!G4","v":"n.a. "},{"$f":"[5]IIP!H4","v":"n.a. "},{"$f":"[5]IIP!I4","v":"n.a. "},{"$f":"[5]IIP!J4","v":"n.a. "},{"$f":"[5]IIP!K4","v":"n.a. "},{"$f":"[5]IIP!L4","v":"n.a. "},{"$f":"[5]IIP!M4","v":"n.a. "},{"$f":"[5]IIP!N4","v":"n.a. "},{"$f":"[5]IIP!O4","v":"n.a. "},{"$f":"[5]IIP!P4","v":"n.a. "},{"$f":"[5]IIP!Q4","v":"n.a. "},{"$f":"[5]IIP!R4","v":"n.a. "},{"$f":"[5]IIP!S4","v":"n.a. "}]
["Portfolio investment, net",null,{"$f":"[5]IIP!C5","v":101.83950375176084},{"$f":"[5]IIP!D5","v":175.27982083578772},{"$f":"[5]IIP!E5","v":216.65401564375958},{"$f":"[5]IIP!F5","v":262.45778425715895},{"$f":"[5]IIP!G5","v":323.03541111625265},{"$f":"[5]IIP!H5","v":320.74524576822535},{"$f":"[5]IIP!I5","v":309.60147809808024},{"$f":"[5]IIP!J5","v":300.39523581978045},{"$f":"[5]IIP!K5","v":335.36504920014249},{"$f":"[5]IIP!L5","v":340.60380269984154},{"$f":"[5]IIP!M5","v":351.69959677188172},{"$f":"[5]IIP!N5","v":368.24011967128337},{"$f":"[5]IIP!O5","v":419.00785595881075},{"$f":"[5]IIP!P5","v":363.27582895},{"$f":"[5]IIP!Q5","v":362.65998400000007},{"$f":"[5]IIP!R5","v":388.57421797999996},{"$f":"[5]IIP!S5","v":400.34111727000004}]
["Assets",null,{"$f":"[5]IIP!C6","v":207.52961075176086},{"$f":"[5]IIP!D6","v":267.01677383578772},{"$f":"[5]IIP!E6","v":294.44786764375959},{"$f":"[5]IIP!F6","v":324.60975025715896},{"$f":"[5]IIP!G6","v":357.79845811625268},{"$f":"[5]IIP!H6","v":345.96713110155866},{"$f":"[5]IIP!I6","v":312.31234343141358},{"$f":"[5]IIP!J6","v":303.103270395538},{"$f":"[5]IIP!K6","v":338.8281232001425},{"$f":"[5]IIP!L6","v":344.68380269984152},{"$f":"[5]IIP!M6","v":355.50333010521507},{"$f":"[5]IIP!N6","v":371.92378633795005},{"$f":"[5]IIP!O6","v":421.21652262547741},{"$f":"[5]IIP!P6","v":364.87582895000003},{"$f":"[5]IIP!Q6","v":365.05998400000004},{"$f":"[5]IIP!R6","v":391.37421797999997},{"$f":"[5]IIP!S6","v":403.24111727000002}]
["Intergenerational Trust Fund",null,{"$f":"[5]IIP!C7","v":"n.a."},{"$f":"[5]IIP!D7","v":"n.a."},{"$f":"[5]IIP!E7","v":"n.a."},{"$f":"[5]IIP!F7","v":"n.a."},{"$f":"[5]IIP!G7","v":"n.a."},{"$f":"[5]IIP!H7","v":"n.a."},{"$f":"[5]IIP!I7","v":"n.a."},{"$f":"[5]IIP!J7","v":15.869585000000001},{"$f":"[5]IIP!K7","v":32.947837999999997},{"$f":"[5]IIP!L7","v":8.4435929999999999},{"$f":"[5]IIP!M7","v":6.3581880000000002},{"$f":"[5]IIP!N7","v":5.7722860000000003},{"$f":"[5]IIP!O7","v":0},{"$f":"[5]IIP!P7","v":0},{"$f":"[5]IIP!Q7","v":0},{"$f":"[5]IIP!R7","v":0},{"$f":"[5]IIP!S7","v":0}]
["Compact Trust Fund",null,{"$f":"[5]IIP!C8","v":0},{"$f":"[5]IIP!D8","v":0},{"$f":"[5]IIP!E8","v":0},{"$f":"[5]IIP!F8","v":0},{"$f":"[5]IIP!G8","v":0},{"$f":"[5]IIP!H8","v":0},{"$f":"[5]IIP!I8","v":0},{"$f":"[5]IIP!J8","v":0},{"$f":"[5]IIP!K8","v":0},{"$f":"[5]IIP!L8","v":32.157846810000002},{"$f":"[5]IIP!M8","v":49.003908000000003},{"$f":"[5]IIP!N8","v":66.163858000000005},{"$f":"[5]IIP!O8","v":90.647537999999997},{"$f":"[5]IIP!P8","v":82.626380249999997},{"$f":"[5]IIP!Q8","v":97.042708310000009},{"$f":"[5]IIP!R8","v":119.67228870999999},{"$f":"[5]IIP!S8","v":132.72491300000002}]
["Local Government, Trust Funds 2/",null,{"$f":"[5]IIP!C9","v":186.22000975176087},{"$f":"[5]IIP!D9","v":245.70717283578773},{"$f":"[5]IIP!E9","v":273.13826664375961},{"$f":"[5]IIP!F9","v":303.30014925715898},{"$f":"[5]IIP!G9","v":336.48885711625269},{"$f":"[5]IIP!H9","v":324.65753010155868},{"$f":"[5]IIP!I9","v":285.84359943141362},{"$f":"[5]IIP!J9","v":260.99950639553799},{"$f":"[5]IIP!K9","v":278.20453057327029},{"$f":"[5]IIP!L9","v":270.98831588984154},{"$f":"[5]IIP!M9","v":262.1952781052151},{"$f":"[5]IIP!N9","v":258.47497533795007},{"$f":"[5]IIP!O9","v":282.63735362547743},{"$f":"[5]IIP!P9","v":242.28538470000001},{"$f":"[5]IIP!Q9","v":225.31182868999997},{"$f":"[5]IIP!R9","v":225.22598626999999},{"$f":"[5]IIP!S9","v":225.22598626999999}]
["Social security portfolio",null,{"$f":"[5]IIP!C10","v":20},{"$f":"[5]IIP!D10","v":20},{"$f":"[5]IIP!E10","v":20},{"$f":"[5]IIP!F10","v":20},{"$f":"[5]IIP!G10","v":20},{"$f":"[5]IIP!H10","v":20},{"$f":"[5]IIP!I10","v":25.159143},{"$f":"[5]IIP!J10","v":24.924578},{"$f":"[5]IIP!K10","v":26.829742626872232},{"$f":"[5]IIP!L10","v":32.714583000000005},{"$f":"[5]IIP!M10","v":37.551883999999994},{"$f":"[5]IIP!N10","v":41.397143},{"$f":"[5]IIP!O10","v":47.779175000000002},{"$f":"[5]IIP!P10","v":39.809975999999999},{"$f":"[5]IIP!Q10","v":42.649373000000004},{"$f":"[5]IIP!R10","v":46.475942999999994},{"$f":"[5]IIP!S10","v":45.290217999999996}]
["NTA portfolio",null,{"$f":"[5]IIP!C11","v":1.309601},{"$f":"[5]IIP!D11","v":1.309601},{"$f":"[5]IIP!E11","v":1.309601},{"$f":"[5]IIP!F11","v":1.309601},{"$f":"[5]IIP!G11","v":1.309601},{"$f":"[5]IIP!H11","v":1.309601},{"$f":"[5]IIP!I11","v":1.309601},{"$f":"[5]IIP!J11","v":1.309601},{"$f":"[5]IIP!K11","v":0.84601199999999999},{"$f":"[5]IIP!L11","v":0.37946400000000002},{"$f":"[5]IIP!M11","v":0.39407199999999998},{"$f":"[5]IIP!N11","v":0.115524},{"$f":"[5]IIP!O11","v":0.15245600000000001},{"$f":"[5]IIP!P11","v":0.154088},{"$f":"[5]IIP!Q11","v":5.6073999999999999E-2},{"$f":"[5]IIP!R11","v":0},{"$f":"[5]IIP!S11","v":0}]
["Liabilities",null,{"$f":"[5]IIP!C12","v":105.69010700000001},{"$f":"[5]IIP!D12","v":91.736953},{"$f":"[5]IIP!E12","v":77.793852000000001},{"$f":"[5]IIP!F12","v":62.151966000000016},{"$f":"[5]IIP!G12","v":34.763047000000014},{"$f":"[5]IIP!H12","v":25.221885333333333},{"$f":"[5]IIP!I12","v":2.7108653333333352},{"$f":"[5]IIP!J12","v":2.7080345757575754},{"$f":"[5]IIP!K12","v":3.4630740000000007},{"$f":"[5]IIP!L12","v":4.08},{"$f":"[5]IIP!M12","v":3.8037333333333336},{"$f":"[5]IIP!N12","v":3.6836666666666669},{"$f":"[5]IIP!O12","v":2.2086666666666668},{"$f":"[5]IIP!P12","v":1.6},{"$f":"[5]IIP!Q12","v":2.4},{"$f":"[5]IIP!R12","v":2.8},{"$f":"[5]IIP!S12","v":2.9}]
["Equity: Capital and retained earnings of foreign-owned banks",null,{"$f":"[5]IIP!C13","v":1.1499999999999999},{"$f":"[5]IIP!D13","v":1.5},{"$f":"[5]IIP!E13","v":2.2999999999999998},{"$f":"[5]IIP!F13","v":2.7614999999999998},{"$f":"[5]IIP!G13","v":1.6305000000000001},{"$f":"[5]IIP!H13","v":2.5828333333333329},{"$f":"[5]IIP!I13","v":2.7109053333333333},{"$f":"[5]IIP!J13","v":2.7080345757575754},{"$f":"[5]IIP!K13","v":3.4630740000000007},{"$f":"[5]IIP!L13","v":4.08},{"$f":"[5]IIP!M13","v":3.8037333333333336},{"$f":"[5]IIP!N13","v":3.6836666666666669},{"$f":"[5]IIP!O13","v":2.2086666666666668},{"$f":"[5]IIP!P13","v":1.6},{"$f":"[5]IIP!Q13","v":2.4},{"$f":"[5]IIP!R13","v":2.8},{"$f":"[5]IIP!S13","v":2.9}]
["Debt: Medium-term notes",null,{"$f":"[5]IIP!C14","v":104.54010700000001},{"$f":"[5]IIP!D14","v":90.236953},{"$f":"[5]IIP!E14","v":75.493852000000004},{"$f":"[5]IIP!F14","v":59.390466000000018},{"$f":"[5]IIP!G14","v":33.132547000000017},{"$f":"[5]IIP!H14","v":22.639052},{"$f":"[5]IIP!I14","v":-3.9999999998249769E-5},{"$f":"[5]IIP!J14","v":0},{"$f":"[5]IIP!K14","v":0},{"$f":"[5]IIP!L14","v":0},{"$f":"[5]IIP!M14","v":0},{"$f":"[5]IIP!N14","v":0},{"$f":"[5]IIP!O14","v":0},{"$f":"[5]IIP!P14","v":0},{"$f":"[5]IIP!Q14","v":0},{"$f":"[5]IIP!R14","v":0},{"$f":"[5]IIP!S14","v":0}]
["Other investment, net",null,{"$f":"[5]IIP!C15","v":-16.458915663333332},{"$f":"[5]IIP!D15","v":-14.480145392675002},{"$f":"[5]IIP!E15","v":-25.308352930000002},{"$f":"[5]IIP!F15","v":-40.016250262425004},{"$f":"[5]IIP!G15","v":-43.298296999999991},{"$f":"[5]IIP!H15","v":-42.424222575757575},{"$f":"[5]IIP!I15","v":-52.373165666666665},{"$f":"[5]IIP!J15","v":-53.042517180375178},{"$f":"[5]IIP!K15","v":-45.716982104126977},{"$f":"[5]IIP!L15","v":-43.379044333333333},{"$f":"[5]IIP!M15","v":-38.339252999999992},{"$f":"[5]IIP!N15","v":-45.682946666666652},{"$f":"[5]IIP!O15","v":-41.872803000000005},{"$f":"[5]IIP!P15","v":-40.759916999999994},{"$f":"[5]IIP!Q15","v":-45.684311720000004},{"$f":"[5]IIP!R15","v":-33.612957499999993},{"$f":"[5]IIP!S15","v":-29.832306686315619}]
["Assets",null,{"$f":"[5]IIP!C16","v":17.7},{"$f":"[5]IIP!D16","v":20.077999999999999},{"$f":"[5]IIP!E16","v":18.8},{"$f":"[5]IIP!F16","v":18.127500000000001},{"$f":"[5]IIP!G16","v":23.45},{"$f":"[5]IIP!H16","v":33.006242424242423},{"$f":"[5]IIP!I16","v":31.067133333333331},{"$f":"[5]IIP!J16","v":38.30782481962482},{"$f":"[5]IIP!K16","v":48.298073015873022},{"$f":"[5]IIP!L16","v":50.975266666666663},{"$f":"[5]IIP!M16","v":53.592800000000004},{"$f":"[5]IIP!N16","v":57.575333333333333},{"$f":"[5]IIP!O16","v":60.744399999999985},{"$f":"[5]IIP!P16","v":57.1},{"$f":"[5]IIP!Q16","v":63.6},{"$f":"[5]IIP!R16","v":71.8},{"$f":"[5]IIP!S16","v":71.900000000000006}]
["Deposits, commercial banks 3/",null,{"$f":"[5]IIP!C17","v":17.7},{"$f":"[5]IIP!D17","v":20.077999999999999},{"$f":"[5]IIP!E17","v":18.8},{"$f":"[5]IIP!F17","v":18.127500000000001},{"$f":"[5]IIP!G17","v":23.45},{"$f":"[5]IIP!H17","v":33.006242424242423},{"$f":"[5]IIP!I17","v":31.067133333333331},{"$f":"[5]IIP!J17","v":38.30782481962482},{"$f":"[5]IIP!K17","v":48.298073015873022},{"$f":"[5]IIP!L17","v":50.975266666666663},{"$f":"[5]IIP!M17","v":53.592800000000004},{"$f":"[5]IIP!N17","v":57.575333333333333},{"$f":"[5]IIP!O17","v":60.744399999999985},{"$f":"[5]IIP!P17","v":57.1},{"$f":"[5]IIP!Q17","v":63.6},{"$f":"[5]IIP!R17","v":71.8},{"$f":"[5]IIP!S17","v":71.900000000000006}]
["Liabilities, loans",null,{"$f":"[5]IIP!C18","v":34.158915663333332},{"$f":"[5]IIP!D18","v":34.558145392675002},{"$f":"[5]IIP!E18","v":44.108352930000002},{"$f":"[5]IIP!F18","v":58.143750262425002},{"$f":"[5]IIP!G18","v":66.748296999999994},{"$f":"[5]IIP!H18","v":75.430464999999998},{"$f":"[5]IIP!I18","v":83.440298999999996},{"$f":"[5]IIP!J18","v":91.350341999999998},{"$f":"[5]IIP!K18","v":94.01505512},{"$f":"[5]IIP!L18","v":94.354310999999996},{"$f":"[5]IIP!M18","v":91.932052999999996},{"$f":"[5]IIP!N18","v":103.25827999999998},{"$f":"[5]IIP!O18","v":102.61720299999999},{"$f":"[5]IIP!P18","v":97.859916999999996},{"$f":"[5]IIP!Q18","v":109.28431172000001},{"$f":"[5]IIP!R18","v":105.41295749999999},{"$f":"[5]IIP!S18","v":101.73230668631562}]
["Government",null,{"$f":"[5]IIP!C19","v":6.3947009999999995},{"$f":"[5]IIP!D19","v":8.5029229999999991},{"$f":"[5]IIP!E19","v":19.167262999999998},{"$f":"[5]IIP!F19","v":27.118263999999996},{"$f":"[5]IIP!G19","v":30.424367999999998},{"$f":"[5]IIP!H19","v":39.439003999999997},{"$f":"[5]IIP!I19","v":48.659785999999997},{"$f":"[5]IIP!J19","v":57.909217999999996},{"$f":"[5]IIP!K19","v":62.81019912},{"$f":"[5]IIP!L19","v":64.528531000000001},{"$f":"[5]IIP!M19","v":63.228444999999994},{"$f":"[5]IIP!N19","v":63.630779999999994},{"$f":"[5]IIP!O19","v":62.426859999999991},{"$f":"[5]IIP!P19","v":61.326471999999988},{"$f":"[5]IIP!Q19","v":59.552310720000001},{"$f":"[5]IIP!R19","v":57.392186999999993},{"$f":"[5]IIP!S19","v":55.103531186315628}]
["Public entities",null,{"$f":"[5]IIP!C20","v":27.764214663333334},{"$f":"[5]IIP!D20","v":26.055222392674999},{"$f":"[5]IIP!E20","v":24.941089930000004},{"$f":"[5]IIP!F20","v":31.025486262425002},{"$f":"[5]IIP!G20","v":36.323929},{"$f":"[5]IIP!H20","v":35.991461000000001},{"$f":"[5]IIP!I20","v":34.780512999999999},{"$f":"[5]IIP!J20","v":33.441124000000002},{"$f":"[5]IIP!K20","v":31.204855999999999},{"$f":"[5]IIP!L20","v":29.825780000000002},{"$f":"[5]IIP!M20","v":28.703608000000003},{"$f":"[5]IIP!N20","v":39.627499999999998},{"$f":"[5]IIP!O20","v":40.190342999999999},{"$f":"[5]IIP!P20","v":36.533445},{"$f":"[5]IIP!Q20","v":49.732000999999997},{"$f":"[5]IIP!R20","v":48.020770499999998},{"$f":"[5]IIP!S20","v":46.628775499999996}]
["1/ Data on other investments of national government than the Compact Trust Fund is missing."]
["2/ Coverage of local government trust funds is incomplete."]
["3/ At banks abroad"]

{"sheet":"ExtD_out","index":25,"n_rows":25,"n_cols":6,"rows_kept":25,"cut":false,"hidden":false,"merged":[]}
["Table 8d    External debt, original value, and outstanding principle by loan"]
[]
["Loan","Lender","Number","Year","Original debt, $'000","Estimated outstanding principal September 2010, $'000"]
["Ebeye Fisheries Loan","ADB","1102-MAR (SF)",1992,3521.8939999999998,2888.4829999999997]
["Emergency Rehabilitation Loan (Typhoon Gay)","ADB","1218 MAR (SF)",1993,508.245,432.50899999999996]
["Basic Education Project Loan","ADB","1249 MAR (SF)",1993,8383.0830000000005,6786.7860000000001]
["Majuro Water Supply Project Loan No. 1","ADB","1250 MAR (SF)",1993,765.10900000000004,620.73500000000001]
["Majuro Water Supply Project Loan No. 2","ADB","1389-RMI (SF)",1995,8400,7472.58]
["Health and Population Project Loan","ADB","1316-RMI (SF)",1995,5861.2520000000004,4596.0609999999997]
["Public Sector Reform Program","ADB","1513-RMI (SF)",1997,12000,10499.964]
["Ebeye Health and Infrastructure","ADB","1694-RMI (SF)",1999,9250,7834.4269999999997]
["Skills Training and Vocational Education Project Loan","ADB","1791-RMI (SF)",2001,7600,4615.6360000000004]
["Fiscal and Financial Management Program Loan","ADB","1829-RMI (SF)",2001,8000,7864.6559999999999]
["Fiscal and Financial Management Program loan","ADB","1828-RMI",2001,4000,2569.3000000000002]
["Outer-Islands Transport and Infrastructure Loan","ADB","1948-RMI (SF)",2003,7900,507.517]
["Public Sector Program","ADB","2659-RMI (SF)",2010,9500]
["Marshalls Energy Company - New Powerplant Loan","RUS",null,1997,12500,6327.63]
["Marshalls Energy Company - Consolidation Loan","BoG",null,2007,12000,8494.896999999999]
["NTA Loan","RUS",null,"1989, 1993, 2009",41300,30050.951999999997]
["MIDB ICBC Loan","ICBC",null,2004,4000,1779.7670000000001]
["PRC Loan for Garment Factory","PRC",null,1991,1900]
["Air Marshall Islands","BoG?",null,2009,null,1117.1454999999999]
["RMI Ports Authority","n.a.",null,2007,568.31799999999998,250.37900000000002]
["Total",null,null,null,157957.90099999998,104709.42450000001]
["Note:  as of September 20, 2010 no drawdown on the MEC Public Sector Program loan had taken place"]

{"sheet":"ExtD_Hist","index":26,"n_rows":22,"n_cols":18,"rows_kept":22,"cut":false,"hidden":false,"merged":[]}
["Table 8e    External debt and debt service, RMI and national government, FY2004-FY2010"]
[null,"(US$ millions)","FY1995","FY1996","FY1997","FY1998","FY1999","FY2000","FY2001","FY2002","FY2003","FY2004","FY2005","FY2006","FY2007","FY2008","FY2009","FY2010"]
["External Debt Total"]
[null,"New",{"$f":"[5]ExtDebt!G4","v":34.390309999999999},{"$f":"[5]ExtDebt!H4","v":3.2145869999999999},{"$f":"[5]ExtDebt!I4","v":11.315009},{"$f":"[5]ExtDebt!J4","v":15.250001000000001},{"$f":"[5]ExtDebt!K4","v":5.852017},{"$f":"[5]ExtDebt!L4","v":10.092603999999998},{"$f":"[5]ExtDebt!M4","v":10.420781999999999},{"$f":"[5]ExtDebt!N4","v":9.2494319999999988},{"$f":"[5]ExtDebt!O4","v":4.9765290000000002},{"$f":"[5]ExtDebt!P4","v":6.0543990000000001},{"$f":"[5]ExtDebt!Q4","v":1.041388},{"$f":"[5]ExtDebt!R4","v":9.834225},{"$f":"[5]ExtDebt!S4","v":12},{"$f":"[5]ExtDebt!T4","v":0},{"$f":"[5]ExtDebt!U4","v":17.024592335000001},{"$f":"[5]ExtDebt!V4","v":3.146965499999999}]
[null,"Outstanding",{"$f":"[5]ExtDebt!G5","v":151.88908816333335},{"$f":"[5]ExtDebt!H5","v":140.96349400000003},{"$f":"[5]ExtDebt!I5","v":126.18524526333334},{"$f":"[5]ExtDebt!J5","v":126.74158126242502},{"$f":"[5]ExtDebt!K5","v":118.57586300000001},{"$f":"[5]ExtDebt!L5","v":100.48549299999999},{"$f":"[5]ExtDebt!M5","v":94.519517000000008},{"$f":"[5]ExtDebt!N5","v":78.940298999999996},{"$f":"[5]ExtDebt!O5","v":86.177864},{"$f":"[5]ExtDebt!P5","v":94.105055120000003},{"$f":"[5]ExtDebt!Q5","v":92.794310999999993},{"$f":"[5]ExtDebt!R5","v":101.91027799999999},{"$f":"[5]ExtDebt!S5","v":111.73227099999998},{"$f":"[5]ExtDebt!T5","v":99.088455999999979},{"$f":"[5]ExtDebt!U5","v":95.597041000000004},{"$f":"[5]ExtDebt!V5","v":106.75239772}]
[null,"Debt Service",{"$f":"[5]ExtDebt!G6","v":20.143720694999992},{"$f":"[5]ExtDebt!H6","v":23.127288650000001},{"$f":"[5]ExtDebt!I6","v":23.344086279999999},{"$f":"[5]ExtDebt!J6","v":23.537290563950812},{"$f":"[5]ExtDebt!K6","v":34.382096917500007},{"$f":"[5]ExtDebt!L6","v":22.048556960999999},{"$f":"[5]ExtDebt!M6","v":27.769073039999999},{"$f":"[5]ExtDebt!N6","v":3.5387547600000016},{"$f":"[5]ExtDebt!O6","v":3.2435536599999999},{"$f":"[5]ExtDebt!P6","v":3.6997231111999982},{"$f":"[5]ExtDebt!Q6","v":4.5124243100000001},{"$f":"[5]ExtDebt!R6","v":6.4230695724000011},{"$f":"[5]ExtDebt!S6","v":16.827383198333333},{"$f":"[5]ExtDebt!T6","v":7.5215945800000004},{"$f":"[5]ExtDebt!U6","v":7.1339097900000006},{"$f":"[5]ExtDebt!V6","v":7.8098449020874998}]
[null,"Principal",{"$f":"[5]ExtDebt!G7","v":14.036564945658327},{"$f":"[5]ExtDebt!H7","v":15.204159003333334},{"$f":"[5]ExtDebt!I7","v":16.281282827574998},{"$f":"[5]ExtDebt!J7","v":16.940068262425001},{"$f":"[5]ExtDebt!K7","v":28.799150000000008},{"$f":"[5]ExtDebt!L7","v":18.315367649999999},{"$f":"[5]ExtDebt!M7","v":24.965857999999997},{"$f":"[5]ExtDebt!N7","v":1.5764330000000015},{"$f":"[5]ExtDebt!O7","v":1.1748438800000001},{"$f":"[5]ExtDebt!P7","v":1.3774191199999981},{"$f":"[5]ExtDebt!Q7","v":2.0334920000000003},{"$f":"[5]ExtDebt!R7","v":3.090600567500001},{"$f":"[5]ExtDebt!S7","v":13.219995000000001},{"$f":"[5]ExtDebt!T7","v":4.2377470000000006},{"$f":"[5]ExtDebt!U7","v":3.8215716150000008},{"$f":"[5]ExtDebt!V7","v":4.1297660974374999}]
[null,"Interest",{"$f":"[5]ExtDebt!G8","v":6.1071557493416657},{"$f":"[5]ExtDebt!H8","v":7.9231296466666663},{"$f":"[5]ExtDebt!I8","v":7.0628034524249994},{"$f":"[5]ExtDebt!J8","v":6.5972223015258127},{"$f":"[5]ExtDebt!K8","v":5.5829469175000002},{"$f":"[5]ExtDebt!L8","v":3.7331893110000003},{"$f":"[5]ExtDebt!M8","v":2.80321504},{"$f":"[5]ExtDebt!N8","v":1.96232176},{"$f":"[5]ExtDebt!O8","v":2.0687097799999998},{"$f":"[5]ExtDebt!P8","v":2.3223039912000001},{"$f":"[5]ExtDebt!Q8","v":2.4789323099999998},{"$f":"[5]ExtDebt!R8","v":3.3324690049000001},{"$f":"[5]ExtDebt!S8","v":3.6073881983333327},{"$f":"[5]ExtDebt!T8","v":3.2838475799999998},{"$f":"[5]ExtDebt!U8","v":3.3123381749999998},{"$f":"[5]ExtDebt!V8","v":3.6800788046499999}]
[null,"Principal balance",{"$f":"[5]ExtDebt!G9","v":137.804133392675},{"$f":"[5]ExtDebt!H9","v":125.80043276333332},{"$f":"[5]ExtDebt!I9","v":119.44258126242502},{"$f":"[5]ExtDebt!J9","v":117.299976},{"$f":"[5]ExtDebt!K9","v":94.717793},{"$f":"[5]ExtDebt!L9","v":93.319516999999991},{"$f":"[5]ExtDebt!M9","v":78.940258999999998},{"$f":"[5]ExtDebt!N9","v":87.100341999999998},{"$f":"[5]ExtDebt!O9","v":90.01505512},{"$f":"[5]ExtDebt!P9","v":94.694310999999999},{"$f":"[5]ExtDebt!Q9","v":92.076052999999987},{"$f":"[5]ExtDebt!R9","v":99.732270999999983},{"$f":"[5]ExtDebt!S9","v":99.088455999999979},{"$f":"[5]ExtDebt!T9","v":94.61056099999999},{"$f":"[5]ExtDebt!U9","v":106.75239772},{"$f":"[5]ExtDebt!V9","v":104.70942449999998}]
["External debt (adjusted) as % of GDP",null,{"$f":"[5]ExtDebt!G10","v":1.1461707550552371},{"$f":"[5]ExtDebt!H10","v":1.1347849258231322},{"$f":"[5]ExtDebt!I10","v":1.1242520417905359},{"$f":"[5]ExtDebt!J10","v":1.0795365084584263},{"$f":"[5]ExtDebt!K10","v":0.87751540262406091},{"$f":"[5]ExtDebt!L10","v":0.84145371612244868},{"$f":"[5]ExtDebt!M10","v":0.68571553095547189},{"$f":"[5]ExtDebt!N10","v":0.69848989033521991},{"$f":"[5]ExtDebt!O10","v":0.70942294237215098},{"$f":"[5]ExtDebt!P10","v":0.72203784637795998},{"$f":"[5]ExtDebt!Q10","v":0.6690660262293473},{"$f":"[5]ExtDebt!R10","v":0.69538052633924485},{"$f":"[5]ExtDebt!S10","v":0.6612569795960066},{"$f":"[5]ExtDebt!T10","v":0.61953404161802417},{"$f":"[5]ExtDebt!U10","v":0.70379513769063384},{"$f":"[5]ExtDebt!V10","v":0.64152500979503768}]
["Debt service as % of general fund revenues1",null,{"$f":"[5]ExtDebt!G11","v":0.62834820814871961},{"$f":"[5]ExtDebt!H11","v":0.80469909771973802},{"$f":"[5]ExtDebt!I11","v":0.90755158269078795},{"$f":"[5]ExtDebt!J11","v":1.0357297291400553},{"$f":"[5]ExtDebt!K11","v":1.379841603905027},{"$f":"[5]ExtDebt!L11","v":0.80046656499168334},{"$f":"[5]ExtDebt!M11","v":0.96212153320656602},{"$f":"[5]ExtDebt!N11","v":0.10120899968519795},{"$f":"[5]ExtDebt!O11","v":8.8258498566418347E-2},{"$f":"[5]ExtDebt!P11","v":0.11749194083742767},{"$f":"[5]ExtDebt!Q11","v":0.14144359741251517},{"$f":"[5]ExtDebt!R11","v":0.19946801566410985},{"$f":"[5]ExtDebt!S11","v":0.48728413976003626},{"$f":"[5]ExtDebt!T11","v":0.21701706858247499},{"$f":"[5]ExtDebt!U11","v":0.21173898225097948},{"$f":"[5]ExtDebt!V11","v":0.21937766578897472}]
["Memorandum items:"]
[null,"Debt to ADB (all concessional)",{"$f":"[5]ExtDebt!G13","v":4.4947010000000001},{"$f":"[5]ExtDebt!H13","v":6.6029229999999997},{"$f":"[5]ExtDebt!I13","v":17.267263},{"$f":"[5]ExtDebt!J13","v":25.218263999999998},{"$f":"[5]ExtDebt!K13","v":28.524367999999999},{"$f":"[5]ExtDebt!L13","v":37.539003999999998},{"$f":"[5]ExtDebt!M13","v":46.759785999999998},{"$f":"[5]ExtDebt!N13","v":56.009217999999997},{"$f":"[5]ExtDebt!O13","v":60.910199120000001},{"$f":"[5]ExtDebt!P13","v":62.628531000000002},{"$f":"[5]ExtDebt!Q13","v":63.132444999999997},{"$f":"[5]ExtDebt!R13","v":63.044770999999997},{"$f":"[5]ExtDebt!S13","v":61.698829999999994},{"$f":"[5]ExtDebt!T13","v":60.603928999999987},{"$f":"[5]ExtDebt!U13","v":58.838839720000003},{"$f":"[5]ExtDebt!V13","v":56.688653999999993}]
[null,"ADB Debt Servicing",{"$f":"[5]ExtDebt!G14","v":2.3443909999999998E-2},{"$f":"[5]ExtDebt!H14","v":6.5651100000000004E-2},{"$f":"[5]ExtDebt!I14","v":6.7446990000000012E-2},{"$f":"[5]ExtDebt!J14","v":0.17267263000000002},{"$f":"[5]ExtDebt!K14","v":0.25218264000000001},{"$f":"[5]ExtDebt!L14","v":0.28524368},{"$f":"[5]ExtDebt!M14","v":0.40164004000000003},{"$f":"[5]ExtDebt!N14","v":0.47719786000000008},{"$f":"[5]ExtDebt!O14","v":0.63024005999999999},{"$f":"[5]ExtDebt!P14","v":1.1010451111999993},{"$f":"[5]ExtDebt!Q14","v":1.4073593099999999},{"$f":"[5]ExtDebt!R14","v":1.1210465724000005},{"$f":"[5]ExtDebt!S14","v":2.1804864099999994},{"$f":"[5]ExtDebt!T14","v":1.9386515800000013},{"$f":"[5]ExtDebt!U14","v":2.6080457900000003},{"$f":"[5]ExtDebt!V14","v":2.9289352170874996}]
[null,"Interest",{"$f":"[5]ExtDebt!G15","v":2.3443909999999998E-2},{"$f":"[5]ExtDebt!H15","v":6.5651100000000004E-2},{"$f":"[5]ExtDebt!I15","v":6.7446990000000012E-2},{"$f":"[5]ExtDebt!J15","v":0.17267263000000002},{"$f":"[5]ExtDebt!K15","v":0.25218264000000001},{"$f":"[5]ExtDebt!L15","v":0.28524368},{"$f":"[5]ExtDebt!M15","v":0.39009004000000003},{"$f":"[5]ExtDebt!N15","v":0.44719786000000006},{"$f":"[5]ExtDebt!O15","v":0.52469218000000006},{"$f":"[5]ExtDebt!P15","v":0.85270199120000001},{"$f":"[5]ExtDebt!Q15","v":0.86988530999999991},{"$f":"[5]ExtDebt!R15","v":0.83749457240000003},{"$f":"[5]ExtDebt!S15","v":0.83454541000000004},{"$f":"[5]ExtDebt!T15","v":0.84375058000000003},{"$f":"[5]ExtDebt!U15","v":0.84295651000000005},{"$f":"[5]ExtDebt!V15","v":0.84940411964999996}]
[null,"Principal",{"$f":"[5]ExtDebt!G16","v":0},{"$f":"[5]ExtDebt!H16","v":0},{"$f":"[5]ExtDebt!I16","v":0},{"$f":"[5]ExtDebt!J16","v":0},{"$f":"[5]ExtDebt!K16","v":0},{"$f":"[5]ExtDebt!L16","v":0},{"$f":"[5]ExtDebt!M16","v":1.1550000000000005E-2},{"$f":"[5]ExtDebt!N16","v":3.0000000000000027E-2},{"$f":"[5]ExtDebt!O16","v":0.10554787999999993},{"$f":"[5]ExtDebt!P16","v":0.24834311999999925},{"$f":"[5]ExtDebt!Q16","v":0.53747400000000001},{"$f":"[5]ExtDebt!R16","v":0.28355200000000047},{"$f":"[5]ExtDebt!S16","v":1.3459409999999994},{"$f":"[5]ExtDebt!T16","v":1.0949010000000012},{"$f":"[5]ExtDebt!U16","v":1.7650892800000002},{"$f":"[5]ExtDebt!V16","v":2.0795310974374996}]
[null,"General Fund Revenues",{"$f":"[5]ExtDebt!G17","v":32.058213000000002},{"$f":"[5]ExtDebt!H17","v":28.740294000000002},{"$f":"[5]ExtDebt!I17","v":25.722048999999998},{"$f":"[5]ExtDebt!J17","v":22.725321000000001},{"$f":"[5]ExtDebt!K17","v":24.917422999999999},{"$f":"[5]ExtDebt!L17","v":27.544632},{"$f":"[5]ExtDebt!M17","v":28.862334000000001},{"$f":"[5]ExtDebt!N17","v":34.964822999999996},{"$f":"[5]ExtDebt!O17","v":36.750610000000002},{"$f":"[5]ExtDebt!P17","v":31.489165},{"$f":"[5]ExtDebt!Q17","v":31.902640999999999},{"$f":"[5]ExtDebt!R17","v":32.201000000000001},{"$f":"[5]ExtDebt!S17","v":34.533000000000001},{"$f":"[5]ExtDebt!T17","v":34.658999999999999},{"$f":"[5]ExtDebt!U17","v":33.692},{"$f":"[5]ExtDebt!V17","v":35.6}]
[null,"ADB Share of General Fund",{"$f":"[5]ExtDebt!G18","v":7.3129185335439617E-4},{"$f":"[5]ExtDebt!H18","v":2.2842876972657272E-3},{"$f":"[5]ExtDebt!I18","v":2.6221468592956968E-3},{"$f":"[5]ExtDebt!J18","v":7.5982482271647568E-3},{"$f":"[5]ExtDebt!K18","v":1.012073519801787E-2},{"$f":"[5]ExtDebt!L18","v":1.0355690357380706E-2},{"$f":"[5]ExtDebt!M18","v":1.3915715894632778E-2},{"$f":"[5]ExtDebt!N18","v":1.3647941532551163E-2},{"$f":"[5]ExtDebt!O18","v":1.7149104735948599E-2},{"$f":"[5]ExtDebt!P18","v":3.4965840192967938E-2},{"$f":"[5]ExtDebt!Q18","v":4.4114194495684537E-2},{"$f":"[5]ExtDebt!R18","v":3.4814029763050855E-2},{"$f":"[5]ExtDebt!S18","v":6.3142107838878733E-2},{"$f":"[5]ExtDebt!T18","v":5.5935011973801935E-2},{"$f":"[5]ExtDebt!U18","v":7.7408458684554204E-2},{"$f":"[5]ExtDebt!V18","v":8.2273461154143246E-2}]
[null,"GDP",{"$f":"[5]ExtDebt!G19","v":120.23002051385775},{"$f":"[5]ExtDebt!H19","v":110.85839254701257},{"$f":"[5]ExtDebt!I19","v":106.24181840238887},{"$f":"[5]ExtDebt!J19","v":108.65772030952792},{"$f":"[5]ExtDebt!K19","v":107.9386102132937},{"$f":"[5]ExtDebt!L19","v":110.90273322462824},{"$f":"[5]ExtDebt!M19","v":115.12100198460594},{"$f":"[5]ExtDebt!N19","v":124.69807108904428},{"$f":"[5]ExtDebt!O19","v":126.88489438896616},{"$f":"[5]ExtDebt!P19","v":131.14868074440386},{"$f":"[5]ExtDebt!Q19","v":137.61878408161394},{"$f":"[5]ExtDebt!R19","v":143.42114457105907},{"$f":"[5]ExtDebt!S19","v":149.84863533771369},{"$f":"[5]ExtDebt!T19","v":152.71244942877965},{"$f":"[5]ExtDebt!U19","v":151.68106740590326},{"$f":"[5]ExtDebt!V19","v":163.21955169519242}]
[null,"Export of Goods and Services",{"$f":"[5]ExtDebt!G20","v":18.835198509602399},{"$f":"[5]ExtDebt!H20","v":18.875175671936173},{"$f":"[5]ExtDebt!I20","v":20.291975720302698},{"$f":"[5]ExtDebt!J20","v":18.803685415075215},{"$f":"[5]ExtDebt!K20","v":16.814256792618586},{"$f":"[5]ExtDebt!L20","v":24.988448702530725},{"$f":"[5]ExtDebt!M20","v":22.97990548113038},{"$f":"[5]ExtDebt!N20","v":25.541092048211823},{"$f":"[5]ExtDebt!O20","v":29.318237184123046},{"$f":"[5]ExtDebt!P20","v":29.574087914593463},{"$f":"[5]ExtDebt!Q20","v":33.712736189417406},{"$f":"[5]ExtDebt!R20","v":28.109860953888891},{"$f":"[5]ExtDebt!S20","v":28.308324742841165},{"$f":"[5]ExtDebt!T20","v":30.44473488469303},{"$f":"[5]ExtDebt!U20","v":31.411488021669477},{"$f":"[5]ExtDebt!V20","v":44.257145355404035}]
["1) General Fund revenue = uncommitted government revenue available for debt service"]
["Source: Department of Finance and Administration and EPPSO estimates."]

{"sheet":"ExtD_Prj","index":27,"n_rows":31,"n_cols":11,"rows_kept":31,"cut":false,"hidden":false,"merged":[[1,1,1,4],[1,5,1,8]]}
["Table 8f     External debt and debt service projections, FY2011-FY2038"]
[null,"Total External Debt (US$ millions)",null,null,null,"Debt to ADB",null,null,null,"Government Guaranteed Debt"]
[null,"Outstanding","Debt Service","Principal","Interest","Debt to ADB (concessional)","ADB Debt Servicing","General Fund Revenues (est.)","ADB Share of General Fund","Government Guaranteed Debt","Gov Guaranteed Debt Service"]
["FY11",104.70942449999998,7.4388232154843754,4.4563188686843755,2.9825043468000003,63.910898186315627,2.8973692154843751,36.854899999999994,7.8615576639317314E-2,{"$f":"B4-F4","v":40.798526313684356},{"$f":"C4-G4","v":4.5414539999999999}]
["FY12",100.97704268631563,7.6632723396930054,4.9135252084935939,2.7497471311994111,61.341131403872033,3.1613023396930044,38.154035224999994,8.2856303954492269E-2,{"$f":"B5-F5","v":39.635911282443594},4.5019700000000009]
["FY13",95.690615903872043,7.5634925315059407,5.0381466812932736,2.5253458502126667,58.74539040411301,3.1525815315059402,39.498964966681243,7.9814282074612664E-2,36.945225499759033,4.4109110000000005]
["FY14",90.340155904113018,7.5079803541916244,5.2241218957329369,2.2838584584586874,56.148922911566309,3.116860354191624,40.891303481756758,7.6223061844486809E-2,34.191232992546709,4.3911200000000008]
["FY15",84.864838401566317,6.7222072355545972,4.6381702863945851,2.0840369491600126,53.506495249185171,3.1243372355545964,42.332721929488685,7.3804307711624009E-2,31.358343152381146,3.5978700000000008]
["FY16",79.989792249185172,6.8546640311751101,4.8701226090893126,1.9845414220857975,50.696111418974091,3.2567940311751102,43.824950377503157,7.4313695808471095E-2,29.29368083021108,3.5978699999999999]
["FY17",74.893595018974096,6.9500572874484874,5.1007451999187783,1.8493120875297087,47.655187244125386,3.4472802874484874,45.369779878310133,7.5981860540093205E-2,27.23840777484871,3.502777]
["FY18",69.577414424125379,6.2424354381736276,4.594652769289719,1.6477826688839088,44.608597958704678,3.409658438173627,46.969064619020564,7.2593705363952543E-2,24.968816465420701,2.8327770000000005]
["FY19",64.780733897704678,6.5470226832197316,4.9775239565113552,1.5694987267083762,41.0256108913443,4.0442456832197315,48.624724146841039,8.3172619571199577E-2,23.755123006360378,2.502777]
["FY20",59.791118436770084,6.1410282329851853,4.7041872886753842,1.4368409443098014,37.888378418031664,3.6382512329851857,50.338745673017179,7.2275365314384041E-2,21.90274001873842,2.5027769999999996]
["FY21",54.997465440779166,6.1081977215879526,4.7906969457801019,1.3175007758078503,34.665553506283388,3.6054207215879521,52.113186457991027,6.9184422727524411E-2,20.331911934495778,2.5027770000000005]
["FY22",50.127317880168263,6.0755174365779894,4.8812497854894943,1.1942676510884949,31.444406753366305,3.5727404365779898,53.950176280635205,6.6222961311442161E-2,18.682911126801958,2.5027769999999996]
["FY23",45.176482345945431,6.0429851245594897,4.9760437324300391,1.0669413921294506,28.224667385679968,3.5402081245594901,55.851919994527591,6.3385611898505223E-2,16.951814960265462,2.5027769999999996]
["FY24",40.140569757888045,6.0105985659375794,5.0752865439419761,0.93531202199560359,25.006065007209664,3.5078215659375798,57.820700174334689,6.0667227400587984E-2,15.134504750678381,2.5027769999999996]
["FY25",35.014985498028146,5.9783555744113119,5.1791963007622428,0.79915927364906902,21.788329538602337,3.475578574411311,59.858879855479984,5.8062873592064509E-2,13.226655959425809,2.5027770000000009]
["FY26",29.794919166461742,5.4219435906617495,4.7636915147272436,0.65825207593450541,19.09550167632753,2.919166590661749,61.968905370385649,4.7106957484790282E-2,10.699417490134213,2.5027770000000005]
["FY27",24.999643667454905,5.3978459612225542,4.877633299721273,0.52021266150128165,16.403001159409484,2.8950689612225546,64.153309284691744,4.5127351862320461E-2,8.5966425080454201,2.5027769999999996]
["FY28",20.099573250093226,5.3738855347829482,4.9969634946576189,0.37692204012532948,13.710558606216882,2.8711085347829486,66.414713436977124,4.3230007120446709E-2,6.3890146438763438,2.5027769999999996]
["FY29",15.089182301434811,5.3999737938448646,5.1718604303907147,0.22811336345414976,10.967991055749486,2.8971967938448646,68.755832085630558,4.2137469738372298E-2,4.1211912456853241,2.502777]
["FY30",10.967991055749486,2.6177030114849962,2.492183964648754,0.12551904683624227,8.4807442597978859,2.6177030114849962,71.179475166649041,3.6776093183551795E-2,2.4872467959516005,0]
["FY31",8.4807442597978859,1.5373465062689347,1.4416607799719663,9.568572629696831E-2,7.0495426072426195,1.5373465062689347,73.688551666273412,2.0862759160084895E-2,1.4312016525552664,0]
["FY32",7.0490126872426195,2.0773810877821517,1.9971020616735125,8.0279026108639295E-2,5.0519106255691062,2.0773810877821517,76.286073112509541,2.7231459203809753E-2,1.9971020616735133,0]
["FY33",5.0519106255691062,2.0638390825821515,2.0067455847986149,5.7093497783536604E-2,3.0451650407704913,2.0638390825821515,78.975157189725493,2.6132763213425458E-2,2.0067455847986149,0]
["FY34",3.0754932007704916,2.0013470789821515,1.9672804807705941,3.4066598211557372E-2,1.108212719999897,2.0013470789821515,81.75903148066331,2.447860551596048E-2,1.9672804807705946,0]
["FY35",1.3473880799999995,0.79723944080000009,0.78376556000000008,1.3473880799999996E-2,0.56362251999999946,0.79723944080000009,84.641037340356689,9.4190650995232758E-3,0.78376556000000008,0]
["FY36",0.56460472000000006,0.45725328720000002,0.45160724000000002,5.6460472000000005E-3,0.11299748000000004,0.45725328720000002,87.624633906604259,5.2183189454162943E-3,0.45160724000000002,0]
["FY37",0.11299748000000004,0.11412745480000004,0.11299748000000004,1.1299748000000004E-3,-2.1684043449710089E-18,0.11412745480000004,90.713402251812056,1.2581101796093231E-3,0.11299748000000004,0]
["FY38",0,0,0,0,0,0,0,0]

{"sheet":"GFSsum","index":28,"n_rows":51,"n_cols":8,"rows_kept":51,"cut":false,"hidden":false,"merged":[]}
["Table 9a    RMI Government Finances (GFS 2001 Format, summary) FY2004-FY2010"]
["(US$ millions)","FY2004","FY2005","FY2006","FY2007","FY2008","FY2009","FY2010"]
["Revenue",{"$f":"[6]Sum!B2","v":77.031099999999995},{"$f":"[6]Sum!C2","v":93.718557000000004},{"$f":"[6]Sum!D2","v":95.147766000000004},{"$f":"[6]Sum!E2","v":108.55805799999999},{"$f":"[6]Sum!F2","v":107.07528999999998},{"$f":"[6]Sum!G2","v":104.93327599999999},{"$f":"[6]Sum!H2","v":109.226146}]
["  1.  Tax revenue",{"$f":"[6]Sum!B3","v":22.916308999999998},{"$f":"[6]Sum!C3","v":25.255202000000001},{"$f":"[6]Sum!D3","v":26.142866999999999},{"$f":"[6]Sum!E3","v":28.828657},{"$f":"[6]Sum!F3","v":28.159223000000001},{"$f":"[6]Sum!G3","v":27.578751},{"$f":"[6]Sum!H3","v":28.243331000000001}]
["  2.  Social Contributions",{"$f":"[6]Sum!B4","v":0},{"$f":"[6]Sum!C4","v":0},{"$f":"[6]Sum!D4","v":0},{"$f":"[6]Sum!E4","v":0},{"$f":"[6]Sum!F4","v":0},{"$f":"[6]Sum!G4","v":0},{"$f":"[6]Sum!H4","v":0}]
["  3.  Grants",{"$f":"[6]Sum!B5","v":43.500425},{"$f":"[6]Sum!C5","v":56.721507000000003},{"$f":"[6]Sum!D5","v":58.463134000000004},{"$f":"[6]Sum!E5","v":69.815237999999994},{"$f":"[6]Sum!F5","v":67.958431999999988},{"$f":"[6]Sum!G5","v":67.089123000000001},{"$f":"[6]Sum!H5","v":68.898325}]
["  4.  Other revenue",{"$f":"[6]Sum!B6","v":10.614365999999999},{"$f":"[6]Sum!C6","v":11.741848000000001},{"$f":"[6]Sum!D6","v":10.541765},{"$f":"[6]Sum!E6","v":9.9141630000000003},{"$f":"[6]Sum!F6","v":10.957634999999998},{"$f":"[6]Sum!G6","v":10.265402},{"$f":"[6]Sum!H6","v":12.084490000000001}]
[]
["Expense",{"$f":"[6]Sum!B8","v":-76.084073999999987},{"$f":"[6]Sum!C8","v":-115.013952},{"$f":"[6]Sum!D8","v":-82.856397999999999},{"$f":"[6]Sum!E8","v":-89.907252},{"$f":"[6]Sum!F8","v":-93.185804000000005},{"$f":"[6]Sum!G8","v":-93.106814},{"$f":"[6]Sum!H8","v":-89.309056999999996}]
["  1.  Compensation of Employees",{"$f":"[6]Sum!B9","v":-32.472569},{"$f":"[6]Sum!C9","v":-35.386268000000001},{"$f":"[6]Sum!D9","v":-37.108663999999997},{"$f":"[6]Sum!E9","v":-36.643807000000002},{"$f":"[6]Sum!F9","v":-37.299095999999999},{"$f":"[6]Sum!G9","v":-37.541186000000003},{"$f":"[6]Sum!H9","v":-38.205477999999999}]
["  2.  Use of goods and services",{"$f":"[6]Sum!B10","v":-24.950187},{"$f":"[6]Sum!C10","v":-24.259283000000003},{"$f":"[6]Sum!D10","v":-27.964448000000001},{"$f":"[6]Sum!E10","v":-30.813720000000004},{"$f":"[6]Sum!F10","v":-30.765912},{"$f":"[6]Sum!G10","v":-29.535154000000002},{"$f":"[6]Sum!H10","v":-27.679175000000001}]
["  3.  Consumption of fixed capital",{"$f":"[6]Sum!B11","v":0},{"$f":"[6]Sum!C11","v":0},{"$f":"[6]Sum!D11","v":0},{"$f":"[6]Sum!E11","v":0},{"$f":"[6]Sum!F11","v":0},{"$f":"[6]Sum!G11","v":0},{"$f":"[6]Sum!H11","v":0}]
["  4.  Interest Payments",{"$f":"[6]Sum!B12","v":-0.83459300000000003},{"$f":"[6]Sum!C12","v":-0.93169800000000003},{"$f":"[6]Sum!D12","v":-0.917713},{"$f":"[6]Sum!E12","v":-0.90008600000000005},{"$f":"[6]Sum!F12","v":-1.3188089999999999},{"$f":"[6]Sum!G12","v":-0.89668599999999998},{"$f":"[6]Sum!H12","v":-0.89284200000000002}]
["  5.  Subsidies",{"$f":"[6]Sum!B13","v":-1.2986759999999999},{"$f":"[6]Sum!C13","v":-2.0916000000000001},{"$f":"[6]Sum!D13","v":-2.4873599999999998},{"$f":"[6]Sum!E13","v":-1.78115},{"$f":"[6]Sum!F13","v":-2.532721},{"$f":"[6]Sum!G13","v":-4.9903380000000004},{"$f":"[6]Sum!H13","v":-3.5003570000000002}]
["  6.  Grants 1",{"$f":"[6]Sum!B14","v":-0.19900000000000001},{"$f":"[6]Sum!C14","v":-34.084092000000005},{"$f":"[6]Sum!D14","v":-0.32317299999999999},{"$f":"[6]Sum!E14","v":0},{"$f":"[6]Sum!F14","v":-0.14910000000000001},{"$f":"[6]Sum!G14","v":-0.14910000000000001},{"$f":"[6]Sum!H14","v":-3.9759999999999997E-2}]
["  7.  Social benefits",{"$f":"[6]Sum!B15","v":0},{"$f":"[6]Sum!C15","v":0},{"$f":"[6]Sum!D15","v":0},{"$f":"[6]Sum!E15","v":0},{"$f":"[6]Sum!F15","v":0},{"$f":"[6]Sum!G15","v":0},{"$f":"[6]Sum!H15","v":0}]
["  8.  Other expense",{"$f":"[6]Sum!B16","v":-16.329048999999998},{"$f":"[6]Sum!C16","v":-18.261011},{"$f":"[6]Sum!D16","v":-14.05504},{"$f":"[6]Sum!E16","v":-19.768488999999999},{"$f":"[6]Sum!F16","v":-21.120166000000001},{"$f":"[6]Sum!G16","v":-19.994350000000001},{"$f":"[6]Sum!H16","v":-18.991444999999999}]
[]
["Net Worth and its Changes",{"$f":"[6]Sum!B18","v":-4.2744969999999967},{"$f":"[6]Sum!C18","v":22.760045999999999},{"$f":"[6]Sum!D18","v":-12.013944},{"$f":"[6]Sum!E18","v":-18.650806000000003},{"$f":"[6]Sum!F18","v":-13.889485999999994},{"$f":"[6]Sum!G18","v":-10.900249999999996},{"$f":"[6]Sum!H18","v":-19.917089000000008}]
["  1   Nonfinancial assets",{"$f":"[6]Sum!B19","v":-6.0453010000000003},{"$f":"[6]Sum!C19","v":-11.161327},{"$f":"[6]Sum!D19","v":-14.876083},{"$f":"[6]Sum!E19","v":-19.378788},{"$f":"[6]Sum!F19","v":-8.7125749999999993},{"$f":"[6]Sum!G19","v":-9.8078889999999994},{"$f":"[6]Sum!H19","v":-12.495751}]
["  2.  Financial assets",{"$f":"[6]Sum!B20","v":1.1726020000000013},{"$f":"[6]Sum!C20","v":28.604483999999999},{"$f":"[6]Sum!D20","v":-2.3295190000000012},{"$f":"[6]Sum!E20","v":-4.0770970000000002},{"$f":"[6]Sum!F20","v":-6.871006999999997},{"$f":"[6]Sum!G20","v":-4.8770290000000003},{"$f":"[6]Sum!H20","v":-9.3326210000000049}]
["  3.  Financial liabilities",{"$f":"[6]Sum!B21","v":0.59820200000000234},{"$f":"[6]Sum!C21","v":5.3168889999999998},{"$f":"[6]Sum!D21","v":5.1916579999999986},{"$f":"[6]Sum!E21","v":4.8050789999999974},{"$f":"[6]Sum!F21","v":1.6940960000000009},{"$f":"[6]Sum!G21","v":3.784668000000003},{"$f":"[6]Sum!H21","v":1.911282999999997}]
["Analytical Measures"]
["Gross operating balance",{"$f":"[6]Sum!B23","v":0.94702600000000814},{"$f":"[6]Sum!C23","v":-21.295394999999999},{"$f":"[6]Sum!D23","v":12.291368000000006},{"$f":"[6]Sum!E23","v":18.650805999999989},{"$f":"[6]Sum!F23","v":13.889485999999977},{"$f":"[6]Sum!G23","v":11.826461999999992},{"$f":"[6]Sum!H23","v":19.917089000000004}]
["Primary operating balance",{"$f":"[6]Sum!B24","v":0.7011790000000081},{"$f":"[6]Sum!C24","v":-22.089490999999999},{"$f":"[6]Sum!D24","v":12.739423000000006},{"$f":"[6]Sum!E24","v":19.135258999999991},{"$f":"[6]Sum!F24","v":14.782590999999977},{"$f":"[6]Sum!G24","v":12.630719999999993},{"$f":"[6]Sum!H24","v":20.673423000000007}]
["Overall fiscal balance",{"$f":"[6]Sum!B25","v":-5.0982749999999921},{"$f":"[6]Sum!C25","v":-32.456721999999999},{"$f":"[6]Sum!D25","v":-2.5847149999999939},{"$f":"[6]Sum!E25","v":-0.72798200000001145},{"$f":"[6]Sum!F25","v":5.1769109999999774},{"$f":"[6]Sum!G25","v":2.0185729999999928},{"$f":"[6]Sum!H25","v":7.421338000000004}]
["Overall primary balance",{"$f":"[6]Sum!B26","v":-5.3441219999999925},{"$f":"[6]Sum!C26","v":-33.250818000000002},{"$f":"[6]Sum!D26","v":-2.1366599999999938},{"$f":"[6]Sum!E26","v":-0.24352900000001132},{"$f":"[6]Sum!F26","v":6.0700159999999777},{"$f":"[6]Sum!G26","v":2.8228309999999928},{"$f":"[6]Sum!H26","v":8.1776720000000047}]
["(In percent of GDP)"]
["Revenue",{"$f":"B3/B$48","v":0.58729321259711409},0.68091107465115441,0.66331570391813732,0.72437504373781525,0.70107824668733043,0.69838590087891428,{"$f":"H3/H$48","v":0.69560585613087167}]
["Taxes",{"$f":"B4/B$48","v":0.17471635136299701},0.18349137337178573,0.18225308859635489,0.19236489727254955,0.18437324511488645,0.18355102972531095,{"$f":"H4/H$48","v":0.17986743247576079}]
["Grants",{"$f":"B6/B$48","v":0.33165181787083164},0.4121094426070066,0.40757147027992641,0.46585593931512648,0.4449596013625568,0.44651324528866598,{"$f":"H6/H$48","v":0.43877844364853846}]
["Expense",{"$f":"B9/B$48","v":-0.58007298671493146},-0.83563251679383288,-0.57762732930052552,-0.59992386378030804,-0.61013647578698349,-0.61967460325317114,{"$f":"H9/H$48","v":-0.56876403068113213}]
["Compensation of Employees",{"$f":"B10/B$48","v":-0.24757428323484229},-0.25709851435051179,-0.25870034176757906,-0.24451302636921771,-0.24421680134326437,-0.24985625155430091,{"$f":"H10/H$48","v":-0.24331128769369179}]
["Use of goods and services",{"$f":"B11/B$48","v":-0.19022285126564145},-0.17625553557975163,-0.1949521075439874,-0.20561062148629075,-0.20144060915171655,-0.19657191617545106,{"$f":"H11/H$48","v":-0.17627460940415512}]
["Gross operating balance",{"$f":"B24/B48","v":7.2202258821826432E-3},-0.15472144214267852,8.5688374617611848E-2,0.12445117995750715,9.0941770900346913E-2,7.8711297625743054E-2,{"$f":"H24/H48","v":0.12684182544973957}]
["Non Financial Assets",{"$f":"B20/B48","v":-4.6090010987854868E-2},-8.1092490168227241E-2,-0.10370752652973099,-0.12930878337088389,-5.7045811457824377E-2,-6.5276637269815085E-2,{"$f":"H20/H48","v":-7.9579092467047183E-2}]
["Overall balance",{"$f":"B26/B48","v":-3.8869785105672225E-2},-0.23581393231090575,-1.8019151912119138E-2,-4.8576034133767437E-3,3.3895959442522536E-2,1.3434660355927967E-2,{"$f":"H26/H48","v":4.7262732982692381E-2}]
["Memo Items"]
["Trust Fund Balances (c/b)",{"$f":"[6]Sum!B38","v":0},{"$f":"[6]Sum!C38","v":0},{"$f":"[6]Sum!D38","v":0},{"$f":"[6]Sum!E38","v":0},{"$f":"[6]Sum!F38","v":0},{"$f":"[6]Sum!G38","v":0},{"$f":"[6]Sum!H38","v":0}]
["Compact A Account",{"$f":"[6]Sum!B39","v":32.257846999999998},{"$f":"[6]Sum!C39","v":45.217908000000001},{"$f":"[6]Sum!D39","v":63.137158000000007},{"$f":"[6]Sum!E39","v":83.866883999999999},{"$f":"[6]Sum!F39","v":75.327991999999995},{"$f":"[6]Sum!G39","v":90.451764999999995},{"$f":"[6]Sum!H39","v":112.79454399999999}]
["Compact D Account",{"$f":"[6]Sum!B40","v":0},{"$f":"[6]Sum!C40","v":3.786},{"$f":"[6]Sum!D40","v":3.0266999999999999},{"$f":"[6]Sum!E40","v":4.9583019999999998},{"$f":"[6]Sum!F40","v":4.1031632499999997},{"$f":"[6]Sum!G40","v":6.1812013099999996},{"$f":"[6]Sum!H40","v":6.8519117100000004}]
["Closing Fund Balances",{"$f":"[6]Sum!B41","v":53.856366999999999},{"$f":"[6]Sum!C41","v":13.703509},{"$f":"[6]Sum!D41","v":10.23827},{"$f":"[6]Sum!E41","v":8.8358860000000004},{"$f":"[6]Sum!F41","v":12.877405},{"$f":"[6]Sum!G41","v":12.200858999999999},{"$f":"[6]Sum!H41","v":17.192046999999999}]
["o/w unrestricted",{"$f":"[6]Sum!B42","v":-3.4501300000000001},{"$f":"[6]Sum!C42","v":-2.3197079999999999},{"$f":"[6]Sum!D42","v":-7.8437089999999996},{"$f":"[6]Sum!E42","v":-24.362257},{"$f":"[6]Sum!F42","v":-14.289164},{"$f":"[6]Sum!G42","v":-19.291717999999999},{"$f":"[6]Sum!H42","v":-6.0858730000000003}]
["Outstanding external debt",{"$f":"[6]Sum!B43","v":0},{"$f":"[6]Sum!C43","v":0},{"$f":"[6]Sum!D43","v":0},{"$f":"[6]Sum!E43","v":0},{"$f":"[6]Sum!F43","v":0},{"$f":"[6]Sum!G43","v":0},{"$f":"[6]Sum!H43","v":0}]
["ADB",{"$f":"[6]Sum!B44","v":62.628531000000002},{"$f":"[6]Sum!C44","v":63.132444999999997},{"$f":"[6]Sum!D44","v":63.044770999999997},{"$f":"[6]Sum!E44","v":61.698829999999994},{"$f":"[6]Sum!F44","v":60.603928999999987},{"$f":"[6]Sum!G44","v":58.838839720000003},{"$f":"[6]Sum!H44","v":56.688653999999993}]
["Other",{"$f":"[6]Sum!B45","v":32.065779999999997},{"$f":"[6]Sum!C45","v":28.94360799999999},{"$f":"[6]Sum!D45","v":36.687499999999986},{"$f":"[6]Sum!E45","v":37.389625999999986},{"$f":"[6]Sum!F45","v":34.006632000000003},{"$f":"[6]Sum!G45","v":47.913558000000002},{"$f":"[6]Sum!H45","v":48.02077049999999}]
["Total ",{"$f":"[6]Sum!B46","v":94.694310999999999},{"$f":"[6]Sum!C46","v":92.076052999999987},{"$f":"[6]Sum!D46","v":99.732270999999983},{"$f":"[6]Sum!E46","v":99.088455999999979},{"$f":"[6]Sum!F46","v":94.61056099999999},{"$f":"[6]Sum!G46","v":106.75239772},{"$f":"[6]Sum!H46","v":104.70942449999998}]
["Nominal GDP",{"$f":"[6]Sum!B47","v":131.16293249730384},{"$f":"[6]Sum!C47","v":137.63699914561394},{"$f":"[6]Sum!D47","v":143.44265549265904},{"$f":"[6]Sum!E47","v":149.86443685281372},{"$f":"[6]Sum!F47","v":152.72944283457969},{"$f":"[6]Sum!G47","v":150.25113746990328},{"$f":"[6]Sum!H47","v":157.02303975349244}]
[]
["Statistical discrepancy",{"$f":"[6]Sum!B49","v":-3.3274709999999885},{"$f":"[6]Sum!C49","v":1.4646509999999999},{"$f":"[6]Sum!D49","v":0.27742400000000522},{"$f":"[6]Sum!E49","v":0},{"$f":"[6]Sum!F49","v":-1.7763568394002505E-14},{"$f":"[6]Sum!G49","v":0.92621199999999604},{"$f":"[6]Sum!H49","v":0}]
["Note 1: RMI contributions to the Compact Trust Fund have been treated as a transfer to another layer government"]

{"sheet":"GFSdet","index":29,"n_rows":255,"n_cols":8,"rows_kept":255,"cut":false,"hidden":false,"merged":[]}
["Table 9b    RMI Government Finances (GFS 2001 Format, detail) FY2004-FY2010"]
["(US$ millions)","FY2004","FY2005","FY2006","FY2007","FY2008","FY2009","FY2010"]
["Revenue",{"$f":"[7]Gfs!B2","v":77.031099999999995},{"$f":"[7]Gfs!C2","v":93.718557000000004},{"$f":"[7]Gfs!D2","v":95.147766000000004},{"$f":"[7]Gfs!E2","v":108.55805799999999},{"$f":"[7]Gfs!F2","v":107.07528999999998},{"$f":"[7]Gfs!G2","v":104.93327599999999},{"$f":"[7]Gfs!H2","v":109.226146}]
["  1.  Tax revenue",{"$f":"[7]Gfs!B3","v":22.916308999999998},{"$f":"[7]Gfs!C3","v":25.255202000000001},{"$f":"[7]Gfs!D3","v":26.142866999999999},{"$f":"[7]Gfs!E3","v":28.828657},{"$f":"[7]Gfs!F3","v":28.159223000000001},{"$f":"[7]Gfs!G3","v":27.578751},{"$f":"[7]Gfs!H3","v":28.243331000000001}]
["    1.1.  Taxes on income, profits, and capital gains",{"$f":"[7]Gfs!B4","v":0},{"$f":"[7]Gfs!C4","v":0},{"$f":"[7]Gfs!D4","v":0},{"$f":"[7]Gfs!E4","v":0},{"$f":"[7]Gfs!F4","v":0},{"$f":"[7]Gfs!G4","v":0},{"$f":"[7]Gfs!H4","v":0}]
["       1.1.1.  Income tax - payable by individuals",{"$f":"[7]Gfs!B5","v":0},{"$f":"[7]Gfs!C5","v":0},{"$f":"[7]Gfs!D5","v":0},{"$f":"[7]Gfs!E5","v":0},{"$f":"[7]Gfs!F5","v":0},{"$f":"[7]Gfs!G5","v":0},{"$f":"[7]Gfs!H5","v":0}]
["       1.1.2.  Income tax - payable by corporations and other enterprises",{"$f":"[7]Gfs!B6","v":0},{"$f":"[7]Gfs!C6","v":0},{"$f":"[7]Gfs!D6","v":0},{"$f":"[7]Gfs!E6","v":0},{"$f":"[7]Gfs!F6","v":0},{"$f":"[7]Gfs!G6","v":0},{"$f":"[7]Gfs!H6","v":0}]
["       1.1.3.  Income tax - unallocable",{"$f":"[7]Gfs!B7","v":0},{"$f":"[7]Gfs!C7","v":0},{"$f":"[7]Gfs!D7","v":0},{"$f":"[7]Gfs!E7","v":0},{"$f":"[7]Gfs!F7","v":0},{"$f":"[7]Gfs!G7","v":0},{"$f":"[7]Gfs!H7","v":0}]
["    1.2.  Taxes on payroll & work force",{"$f":"[7]Gfs!B8","v":10.556412},{"$f":"[7]Gfs!C8","v":10.894299},{"$f":"[7]Gfs!D8","v":11.120846},{"$f":"[7]Gfs!E8","v":11.244334},{"$f":"[7]Gfs!F8","v":10.979039999999999},{"$f":"[7]Gfs!G8","v":11.203742},{"$f":"[7]Gfs!H8","v":10.811629}]
["    1.3.  Taxes on property",{"$f":"[7]Gfs!B9","v":0},{"$f":"[7]Gfs!C9","v":0},{"$f":"[7]Gfs!D9","v":0},{"$f":"[7]Gfs!E9","v":0},{"$f":"[7]Gfs!F9","v":0},{"$f":"[7]Gfs!G9","v":0},{"$f":"[7]Gfs!H9","v":0}]
["       1.3.1.  Recurrent taxes on immovable property",{"$f":"[7]Gfs!B10","v":0},{"$f":"[7]Gfs!C10","v":0},{"$f":"[7]Gfs!D10","v":0},{"$f":"[7]Gfs!E10","v":0},{"$f":"[7]Gfs!F10","v":0},{"$f":"[7]Gfs!G10","v":0},{"$f":"[7]Gfs!H10","v":0}]
["       1.3.2.  Recurrent taxes on net wealth",{"$f":"[7]Gfs!B11","v":0},{"$f":"[7]Gfs!C11","v":0},{"$f":"[7]Gfs!D11","v":0},{"$f":"[7]Gfs!E11","v":0},{"$f":"[7]Gfs!F11","v":0},{"$f":"[7]Gfs!G11","v":0},{"$f":"[7]Gfs!H11","v":0}]
["       1.3.3.  Estate, inheritance, & gift taxes",{"$f":"[7]Gfs!B12","v":0},{"$f":"[7]Gfs!C12","v":0},{"$f":"[7]Gfs!D12","v":0},{"$f":"[7]Gfs!E12","v":0},{"$f":"[7]Gfs!F12","v":0},{"$f":"[7]Gfs!G12","v":0},{"$f":"[7]Gfs!H12","v":0}]
["       1.3.4.  Taxes on financial & capital transactions",{"$f":"[7]Gfs!B13","v":0},{"$f":"[7]Gfs!C13","v":0},{"$f":"[7]Gfs!D13","v":0},{"$f":"[7]Gfs!E13","v":0},{"$f":"[7]Gfs!F13","v":0},{"$f":"[7]Gfs!G13","v":0},{"$f":"[7]Gfs!H13","v":0}]
["       1.3.5.  Other noncurrent taxes on property",{"$f":"[7]Gfs!B14","v":0},{"$f":"[7]Gfs!C14","v":0},{"$f":"[7]Gfs!D14","v":0},{"$f":"[7]Gfs!E14","v":0},{"$f":"[7]Gfs!F14","v":0},{"$f":"[7]Gfs!G14","v":0},{"$f":"[7]Gfs!H14","v":0}]
["       1.3.6.  Other recurrent taxes on property",{"$f":"[7]Gfs!B15","v":0},{"$f":"[7]Gfs!C15","v":0},{"$f":"[7]Gfs!D15","v":0},{"$f":"[7]Gfs!E15","v":0},{"$f":"[7]Gfs!F15","v":0},{"$f":"[7]Gfs!G15","v":0},{"$f":"[7]Gfs!H15","v":0}]
["    1.4.  Taxes on goods and services",{"$f":"[7]Gfs!B16","v":5.0145549999999997},{"$f":"[7]Gfs!C16","v":4.8823240000000006},{"$f":"[7]Gfs!D16","v":5.7779749999999996},{"$f":"[7]Gfs!E16","v":7.6013099999999998},{"$f":"[7]Gfs!F16","v":7.8492480000000002},{"$f":"[7]Gfs!G16","v":8.6443729999999999},{"$f":"[7]Gfs!H16","v":9.2091419999999999}]
["       1.4.1.  General taxes on goods and services",{"$f":"[7]Gfs!B17","v":4.0145549999999997},{"$f":"[7]Gfs!C17","v":3.8823240000000001},{"$f":"[7]Gfs!D17","v":4.7779749999999996},{"$f":"[7]Gfs!E17","v":5.8513099999999998},{"$f":"[7]Gfs!F17","v":5.8492480000000002},{"$f":"[7]Gfs!G17","v":5.3943729999999999},{"$f":"[7]Gfs!H17","v":6.2091419999999999}]
["         1.4.1.1.  Value-added tax",{"$f":"[7]Gfs!B18","v":0},{"$f":"[7]Gfs!C18","v":0},{"$f":"[7]Gfs!D18","v":0},{"$f":"[7]Gfs!E18","v":0},{"$f":"[7]Gfs!F18","v":0},{"$f":"[7]Gfs!G18","v":0},{"$f":"[7]Gfs!H18","v":0}]
["         1.4.1.2.  Sales taxes",{"$f":"[7]Gfs!B19","v":0},{"$f":"[7]Gfs!C19","v":0},{"$f":"[7]Gfs!D19","v":0},{"$f":"[7]Gfs!E19","v":0},{"$f":"[7]Gfs!F19","v":0},{"$f":"[7]Gfs!G19","v":0},{"$f":"[7]Gfs!H19","v":0}]
["         1.4.1.3.  Turnover and taxes on G&S (GRT)",{"$f":"[7]Gfs!B20","v":4.0145549999999997},{"$f":"[7]Gfs!C20","v":3.8823240000000001},{"$f":"[7]Gfs!D20","v":4.7779749999999996},{"$f":"[7]Gfs!E20","v":5.8513099999999998},{"$f":"[7]Gfs!F20","v":5.8492480000000002},{"$f":"[7]Gfs!G20","v":5.3943729999999999},{"$f":"[7]Gfs!H20","v":6.2091419999999999}]
["       1.4.2.  Excise taxes",{"$f":"[7]Gfs!B21","v":0},{"$f":"[7]Gfs!C21","v":0},{"$f":"[7]Gfs!D21","v":0},{"$f":"[7]Gfs!E21","v":0},{"$f":"[7]Gfs!F21","v":0},{"$f":"[7]Gfs!G21","v":0},{"$f":"[7]Gfs!H21","v":0}]
["       1.4.3.  Profits of fiscal monopolies",{"$f":"[7]Gfs!B22","v":0},{"$f":"[7]Gfs!C22","v":0},{"$f":"[7]Gfs!D22","v":0},{"$f":"[7]Gfs!E22","v":0},{"$f":"[7]Gfs!F22","v":0},{"$f":"[7]Gfs!G22","v":0},{"$f":"[7]Gfs!H22","v":0}]
["       1.4.4.  Taxes on specific services",{"$f":"[7]Gfs!B23","v":0},{"$f":"[7]Gfs!C23","v":0},{"$f":"[7]Gfs!D23","v":0},{"$f":"[7]Gfs!E23","v":0},{"$f":"[7]Gfs!F23","v":0},{"$f":"[7]Gfs!G23","v":0},{"$f":"[7]Gfs!H23","v":0}]
["       1.4.5.  Taxes on the use of goods and on permission to use or perform activities",{"$f":"[7]Gfs!B24","v":1},{"$f":"[7]Gfs!C24","v":1},{"$f":"[7]Gfs!D24","v":1},{"$f":"[7]Gfs!E24","v":1.75},{"$f":"[7]Gfs!F24","v":2},{"$f":"[7]Gfs!G24","v":3.25},{"$f":"[7]Gfs!H24","v":3}]
["         1.4.5.1.  Motor vehicle licences",{"$f":"[7]Gfs!B25","v":0},{"$f":"[7]Gfs!C25","v":0},{"$f":"[7]Gfs!D25","v":0},{"$f":"[7]Gfs!E25","v":0},{"$f":"[7]Gfs!F25","v":0},{"$f":"[7]Gfs!G25","v":0},{"$f":"[7]Gfs!H25","v":0}]
["         1.4.5.2.  Other licences & taxes",{"$f":"[7]Gfs!B26","v":1},{"$f":"[7]Gfs!C26","v":1},{"$f":"[7]Gfs!D26","v":1},{"$f":"[7]Gfs!E26","v":1.75},{"$f":"[7]Gfs!F26","v":2},{"$f":"[7]Gfs!G26","v":3.25},{"$f":"[7]Gfs!H26","v":3}]
["       1.4.6.  Other taxes on goods & services",{"$f":"[7]Gfs!B27","v":0},{"$f":"[7]Gfs!C27","v":0},{"$f":"[7]Gfs!D27","v":0},{"$f":"[7]Gfs!E27","v":0},{"$f":"[7]Gfs!F27","v":0},{"$f":"[7]Gfs!G27","v":0},{"$f":"[7]Gfs!H27","v":0}]
["    1.5.  Taxes on international trade and transactions",{"$f":"[7]Gfs!B28","v":6.6805199999999996},{"$f":"[7]Gfs!C28","v":8.8297489999999996},{"$f":"[7]Gfs!D28","v":8.6012120000000003},{"$f":"[7]Gfs!E28","v":9.3542810000000003},{"$f":"[7]Gfs!F28","v":8.6723490000000005},{"$f":"[7]Gfs!G28","v":7.1380749999999997},{"$f":"[7]Gfs!H28","v":7.7216290000000001}]
["       1.5.1.  Customs and other Import duties",{"$f":"[7]Gfs!B29","v":6.6805199999999996},{"$f":"[7]Gfs!C29","v":8.8297489999999996},{"$f":"[7]Gfs!D29","v":8.6012120000000003},{"$f":"[7]Gfs!E29","v":9.3542810000000003},{"$f":"[7]Gfs!F29","v":8.6723490000000005},{"$f":"[7]Gfs!G29","v":7.1380749999999997},{"$f":"[7]Gfs!H29","v":7.7216290000000001}]
["       1.5.2.  Taxes on exports",{"$f":"[7]Gfs!B30","v":0},{"$f":"[7]Gfs!C30","v":0},{"$f":"[7]Gfs!D30","v":0},{"$f":"[7]Gfs!E30","v":0},{"$f":"[7]Gfs!F30","v":0},{"$f":"[7]Gfs!G30","v":0},{"$f":"[7]Gfs!H30","v":0}]
["       1.5.3.  Profits of export or import monopolies",{"$f":"[7]Gfs!B31","v":0},{"$f":"[7]Gfs!C31","v":0},{"$f":"[7]Gfs!D31","v":0},{"$f":"[7]Gfs!E31","v":0},{"$f":"[7]Gfs!F31","v":0},{"$f":"[7]Gfs!G31","v":0},{"$f":"[7]Gfs!H31","v":0}]
["       1.5.4.  Exchange profits",{"$f":"[7]Gfs!B32","v":0},{"$f":"[7]Gfs!C32","v":0},{"$f":"[7]Gfs!D32","v":0},{"$f":"[7]Gfs!E32","v":0},{"$f":"[7]Gfs!F32","v":0},{"$f":"[7]Gfs!G32","v":0},{"$f":"[7]Gfs!H32","v":0}]
["       1.5.5.  Exchange taxes",{"$f":"[7]Gfs!B33","v":0},{"$f":"[7]Gfs!C33","v":0},{"$f":"[7]Gfs!D33","v":0},{"$f":"[7]Gfs!E33","v":0},{"$f":"[7]Gfs!F33","v":0},{"$f":"[7]Gfs!G33","v":0},{"$f":"[7]Gfs!H33","v":0}]
["       1.5.6.  Other taxes on international trade & transactions",{"$f":"[7]Gfs!B34","v":0},{"$f":"[7]Gfs!C34","v":0},{"$f":"[7]Gfs!D34","v":0},{"$f":"[7]Gfs!E34","v":0},{"$f":"[7]Gfs!F34","v":0},{"$f":"[7]Gfs!G34","v":0},{"$f":"[7]Gfs!H34","v":0}]
["    1.6.  Other taxes",{"$f":"[7]Gfs!B35","v":0.66482200000000002},{"$f":"[7]Gfs!C35","v":0.64883000000000002},{"$f":"[7]Gfs!D35","v":0.64283400000000002},{"$f":"[7]Gfs!E35","v":0.62873199999999996},{"$f":"[7]Gfs!F35","v":0.658586},{"$f":"[7]Gfs!G35","v":0.592561},{"$f":"[7]Gfs!H35","v":0.50093100000000002}]
["       1.6.1.  Other taxes: payable solely by busineses",{"$f":"[7]Gfs!B36","v":0.66482200000000002},{"$f":"[7]Gfs!C36","v":0.64883000000000002},{"$f":"[7]Gfs!D36","v":0.64283400000000002},{"$f":"[7]Gfs!E36","v":0.62873199999999996},{"$f":"[7]Gfs!F36","v":0.658586},{"$f":"[7]Gfs!G36","v":0.592561},{"$f":"[7]Gfs!H36","v":0.50093100000000002}]
["       1.6.2.  Other taxes: payable by other than business or unavoidable",{"$f":"[7]Gfs!B37","v":0},{"$f":"[7]Gfs!C37","v":0},{"$f":"[7]Gfs!D37","v":0},{"$f":"[7]Gfs!E37","v":0},{"$f":"[7]Gfs!F37","v":0},{"$f":"[7]Gfs!G37","v":0},{"$f":"[7]Gfs!H37","v":0}]
["  2.  Social Contributions",{"$f":"[7]Gfs!B38","v":0},{"$f":"[7]Gfs!C38","v":0},{"$f":"[7]Gfs!D38","v":0},{"$f":"[7]Gfs!E38","v":0},{"$f":"[7]Gfs!F38","v":0},{"$f":"[7]Gfs!G38","v":0},{"$f":"[7]Gfs!H38","v":0}]
["    2.1.  Social security contributions",{"$f":"[7]Gfs!B39","v":0},{"$f":"[7]Gfs!C39","v":0},{"$f":"[7]Gfs!D39","v":0},{"$f":"[7]Gfs!E39","v":0},{"$f":"[7]Gfs!F39","v":0},{"$f":"[7]Gfs!G39","v":0},{"$f":"[7]Gfs!H39","v":0}]
["       2.1.1.  Employee",{"$f":"[7]Gfs!B40","v":0},{"$f":"[7]Gfs!C40","v":0},{"$f":"[7]Gfs!D40","v":0},{"$f":"[7]Gfs!E40","v":0},{"$f":"[7]Gfs!F40","v":0},{"$f":"[7]Gfs!G40","v":0},{"$f":"[7]Gfs!H40","v":0}]
["       2.1.2.  Employer",{"$f":"[7]Gfs!B41","v":0},{"$f":"[7]Gfs!C41","v":0},{"$f":"[7]Gfs!D41","v":0},{"$f":"[7]Gfs!E41","v":0},{"$f":"[7]Gfs!F41","v":0},{"$f":"[7]Gfs!G41","v":0},{"$f":"[7]Gfs!H41","v":0}]
["       2.1.3.  Self-employed",{"$f":"[7]Gfs!B42","v":0},{"$f":"[7]Gfs!C42","v":0},{"$f":"[7]Gfs!D42","v":0},{"$f":"[7]Gfs!E42","v":0},{"$f":"[7]Gfs!F42","v":0},{"$f":"[7]Gfs!G42","v":0},{"$f":"[7]Gfs!H42","v":0}]
["       2.1.4.  Other unallocable",{"$f":"[7]Gfs!B43","v":0},{"$f":"[7]Gfs!C43","v":0},{"$f":"[7]Gfs!D43","v":0},{"$f":"[7]Gfs!E43","v":0},{"$f":"[7]Gfs!F43","v":0},{"$f":"[7]Gfs!G43","v":0},{"$f":"[7]Gfs!H43","v":0}]
["    2.2.  Other social contributions",{"$f":"[7]Gfs!B44","v":0},{"$f":"[7]Gfs!C44","v":0},{"$f":"[7]Gfs!D44","v":0},{"$f":"[7]Gfs!E44","v":0},{"$f":"[7]Gfs!F44","v":0},{"$f":"[7]Gfs!G44","v":0},{"$f":"[7]Gfs!H44","v":0}]
["       2.2.1.  Employee",{"$f":"[7]Gfs!B45","v":0},{"$f":"[7]Gfs!C45","v":0},{"$f":"[7]Gfs!D45","v":0},{"$f":"[7]Gfs!E45","v":0},{"$f":"[7]Gfs!F45","v":0},{"$f":"[7]Gfs!G45","v":0},{"$f":"[7]Gfs!H45","v":0}]
["       2.2.2.  Employer",{"$f":"[7]Gfs!B46","v":0},{"$f":"[7]Gfs!C46","v":0},{"$f":"[7]Gfs!D46","v":0},{"$f":"[7]Gfs!E46","v":0},{"$f":"[7]Gfs!F46","v":0},{"$f":"[7]Gfs!G46","v":0},{"$f":"[7]Gfs!H46","v":0}]
["       2.2.3.  Imputed",{"$f":"[7]Gfs!B47","v":0},{"$f":"[7]Gfs!C47","v":0},{"$f":"[7]Gfs!D47","v":0},{"$f":"[7]Gfs!E47","v":0},{"$f":"[7]Gfs!F47","v":0},{"$f":"[7]Gfs!G47","v":0},{"$f":"[7]Gfs!H47","v":0}]
["  3.  Grants",{"$f":"[7]Gfs!B48","v":43.500425},{"$f":"[7]Gfs!C48","v":56.721507000000003},{"$f":"[7]Gfs!D48","v":58.463134000000004},{"$f":"[7]Gfs!E48","v":69.815237999999994},{"$f":"[7]Gfs!F48","v":67.958431999999988},{"$f":"[7]Gfs!G48","v":67.089123000000001},{"$f":"[7]Gfs!H48","v":68.898325}]
["    3.1.  From foreign governments",{"$f":"[7]Gfs!B49","v":43.139819000000003},{"$f":"[7]Gfs!C49","v":56.721507000000003},{"$f":"[7]Gfs!D49","v":58.463134000000004},{"$f":"[7]Gfs!E49","v":69.815237999999994},{"$f":"[7]Gfs!F49","v":67.958431999999988},{"$f":"[7]Gfs!G49","v":67.089123000000001},{"$f":"[7]Gfs!H49","v":68.898325}]
["       3.1.1.  Grants from foreign govnts - current",{"$f":"[7]Gfs!B50","v":40.688472000000004},{"$f":"[7]Gfs!C50","v":52.004987},{"$f":"[7]Gfs!D50","v":48.966545000000004},{"$f":"[7]Gfs!E50","v":53.232574},{"$f":"[7]Gfs!F50","v":56.668904999999995},{"$f":"[7]Gfs!G50","v":53.870849999999997},{"$f":"[7]Gfs!H50","v":55.590350000000001}]
["       3.1.1.1  Compact",{"$f":"[7]Gfs!B51","v":18.092524000000001},{"$f":"[7]Gfs!C51","v":22.859694999999999},{"$f":"[7]Gfs!D51","v":26.013247},{"$f":"[7]Gfs!E51","v":27.964244000000001},{"$f":"[7]Gfs!F51","v":30.328389999999999},{"$f":"[7]Gfs!G51","v":34.305484},{"$f":"[7]Gfs!H51","v":32.255412}]
["       3.1.1.2  Federal Programs and other US",{"$f":"[7]Gfs!B52","v":10.857329},{"$f":"[7]Gfs!C52","v":12.038278},{"$f":"[7]Gfs!D52","v":11.504229},{"$f":"[7]Gfs!E52","v":10.16306},{"$f":"[7]Gfs!F52","v":8.8467680000000009},{"$f":"[7]Gfs!G52","v":8.7703249999999997},{"$f":"[7]Gfs!H52","v":10.526389999999999}]
["       3.1.1.3  Other Governments",{"$f":"[7]Gfs!B53","v":11.738619},{"$f":"[7]Gfs!C53","v":17.107013999999999},{"$f":"[7]Gfs!D53","v":11.449069},{"$f":"[7]Gfs!E53","v":15.105270000000001},{"$f":"[7]Gfs!F53","v":17.493746999999999},{"$f":"[7]Gfs!G53","v":10.795040999999999},{"$f":"[7]Gfs!H53","v":12.808548}]
["       3.1.2.  Grants from foreign govnts - capital",{"$f":"[7]Gfs!B54","v":2.4513470000000002},{"$f":"[7]Gfs!C54","v":4.71652},{"$f":"[7]Gfs!D54","v":9.4965890000000002},{"$f":"[7]Gfs!E54","v":16.582664000000001},{"$f":"[7]Gfs!F54","v":11.289527},{"$f":"[7]Gfs!G54","v":13.218273},{"$f":"[7]Gfs!H54","v":13.307975000000001}]
["       3.1.2.1  Compact",{"$f":"[7]Gfs!B55","v":2.4513470000000002},{"$f":"[7]Gfs!C55","v":4.71652},{"$f":"[7]Gfs!D55","v":9.4965890000000002},{"$f":"[7]Gfs!E55","v":16.582664000000001},{"$f":"[7]Gfs!F55","v":11.289527},{"$f":"[7]Gfs!G55","v":13.218273},{"$f":"[7]Gfs!H55","v":13.307975000000001}]
["       3.1.2.2  Other Governments",{"$f":"[7]Gfs!B56","v":0},{"$f":"[7]Gfs!C56","v":0},{"$f":"[7]Gfs!D56","v":0},{"$f":"[7]Gfs!E56","v":0},{"$f":"[7]Gfs!F56","v":0},{"$f":"[7]Gfs!G56","v":0},{"$f":"[7]Gfs!H56","v":0}]
["    3.2.  From international organizations",{"$f":"[7]Gfs!B57","v":0},{"$f":"[7]Gfs!C57","v":0},{"$f":"[7]Gfs!D57","v":0},{"$f":"[7]Gfs!E57","v":0},{"$f":"[7]Gfs!F57","v":0},{"$f":"[7]Gfs!G57","v":0},{"$f":"[7]Gfs!H57","v":0}]
["       3.2.1.  Grants from international organizations - current",{"$f":"[7]Gfs!B58","v":0},{"$f":"[7]Gfs!C58","v":0},{"$f":"[7]Gfs!D58","v":0},{"$f":"[7]Gfs!E58","v":0},{"$f":"[7]Gfs!F58","v":0},{"$f":"[7]Gfs!G58","v":0},{"$f":"[7]Gfs!H58","v":0}]
["       3.2.2.  Grants from international organizations - capital",{"$f":"[7]Gfs!B59","v":0},{"$f":"[7]Gfs!C59","v":0},{"$f":"[7]Gfs!D59","v":0},{"$f":"[7]Gfs!E59","v":0},{"$f":"[7]Gfs!F59","v":0},{"$f":"[7]Gfs!G59","v":0},{"$f":"[7]Gfs!H59","v":0}]
["    3.3.  From other general government units",{"$f":"[7]Gfs!B60","v":0.36060599999999998},{"$f":"[7]Gfs!C60","v":0},{"$f":"[7]Gfs!D60","v":0},{"$f":"[7]Gfs!E60","v":0},{"$f":"[7]Gfs!F60","v":0},{"$f":"[7]Gfs!G60","v":0},{"$f":"[7]Gfs!H60","v":0}]
["       3.3.1.  Grants from other govnt units - current",{"$f":"[7]Gfs!B61","v":0.36060599999999998},{"$f":"[7]Gfs!C61","v":0},{"$f":"[7]Gfs!D61","v":0},{"$f":"[7]Gfs!E61","v":0},{"$f":"[7]Gfs!F61","v":0},{"$f":"[7]Gfs!G61","v":0},{"$f":"[7]Gfs!H61","v":0}]
["       3.3.2.  Grants from other general government units - capital",{"$f":"[7]Gfs!B62","v":0},{"$f":"[7]Gfs!C62","v":0},{"$f":"[7]Gfs!D62","v":0},{"$f":"[7]Gfs!E62","v":0},{"$f":"[7]Gfs!F62","v":0},{"$f":"[7]Gfs!G62","v":0},{"$f":"[7]Gfs!H62","v":0}]
["  4.  Other revenue",{"$f":"[7]Gfs!B63","v":10.614365999999999},{"$f":"[7]Gfs!C63","v":11.741848000000001},{"$f":"[7]Gfs!D63","v":10.541765},{"$f":"[7]Gfs!E63","v":9.9141630000000003},{"$f":"[7]Gfs!F63","v":10.957634999999998},{"$f":"[7]Gfs!G63","v":10.265402},{"$f":"[7]Gfs!H63","v":12.084490000000001}]
["    4.1.  Property income",{"$f":"[7]Gfs!B64","v":2.0198339999999999},{"$f":"[7]Gfs!C64","v":3.0817779999999999},{"$f":"[7]Gfs!D64","v":1.9696579999999999},{"$f":"[7]Gfs!E64","v":1.6656329999999999},{"$f":"[7]Gfs!F64","v":1.9257040000000001},{"$f":"[7]Gfs!G64","v":1.592428},{"$f":"[7]Gfs!H64","v":2.1365190000000003}]
["       4.1.1.  Interest",{"$f":"[7]Gfs!B65","v":1.0804400000000001},{"$f":"[7]Gfs!C65","v":1.7257940000000001},{"$f":"[7]Gfs!D65","v":0.46965800000000002},{"$f":"[7]Gfs!E65","v":0.41563299999999997},{"$f":"[7]Gfs!F65","v":0.42570400000000003},{"$f":"[7]Gfs!G65","v":9.2427999999999996E-2},{"$f":"[7]Gfs!H65","v":0.13650799999999999}]
["       4.1.2.  Dividends",{"$f":"[7]Gfs!B66","v":0},{"$f":"[7]Gfs!C66","v":0},{"$f":"[7]Gfs!D66","v":0},{"$f":"[7]Gfs!E66","v":0},{"$f":"[7]Gfs!F66","v":0},{"$f":"[7]Gfs!G66","v":0},{"$f":"[7]Gfs!H66","v":0}]
["       4.1.3.  Withdrawals from income of quasi-corporations",{"$f":"[7]Gfs!B67","v":0},{"$f":"[7]Gfs!C67","v":0},{"$f":"[7]Gfs!D67","v":0},{"$f":"[7]Gfs!E67","v":0},{"$f":"[7]Gfs!F67","v":0},{"$f":"[7]Gfs!G67","v":0},{"$f":"[7]Gfs!H67","v":0}]
["       4.1.4.  Property income attributed to insurance policyholders",{"$f":"[7]Gfs!B68","v":0},{"$f":"[7]Gfs!C68","v":0},{"$f":"[7]Gfs!D68","v":0},{"$f":"[7]Gfs!E68","v":0},{"$f":"[7]Gfs!F68","v":0},{"$f":"[7]Gfs!G68","v":0},{"$f":"[7]Gfs!H68","v":0}]
["       4.1.5.  Rent",{"$f":"[7]Gfs!B69","v":0.93939399999999995},{"$f":"[7]Gfs!C69","v":1.3559840000000001},{"$f":"[7]Gfs!D69","v":1.5},{"$f":"[7]Gfs!E69","v":1.25},{"$f":"[7]Gfs!F69","v":1.5},{"$f":"[7]Gfs!G69","v":1.5},{"$f":"[7]Gfs!H69","v":2.0000110000000002}]
["         4.1.5.1.  Rent (land)",{"$f":"[7]Gfs!B70","v":0},{"$f":"[7]Gfs!C70","v":0},{"$f":"[7]Gfs!D70","v":0},{"$f":"[7]Gfs!E70","v":0},{"$f":"[7]Gfs!F70","v":0},{"$f":"[7]Gfs!G70","v":0},{"$f":"[7]Gfs!H70","v":0}]
["         4.1.5.2.  Royalties",{"$f":"[7]Gfs!B71","v":0},{"$f":"[7]Gfs!C71","v":0},{"$f":"[7]Gfs!D71","v":0},{"$f":"[7]Gfs!E71","v":0},{"$f":"[7]Gfs!F71","v":0},{"$f":"[7]Gfs!G71","v":0},{"$f":"[7]Gfs!H71","v":0}]
["         4.1.5.3.  Royalties (fishing fees)",{"$f":"[7]Gfs!B72","v":0.93939399999999995},{"$f":"[7]Gfs!C72","v":1.3559840000000001},{"$f":"[7]Gfs!D72","v":1.5},{"$f":"[7]Gfs!E72","v":1.25},{"$f":"[7]Gfs!F72","v":1.5},{"$f":"[7]Gfs!G72","v":1.5},{"$f":"[7]Gfs!H72","v":2.0000110000000002}]
["    4.2.  Sales of goods and services",{"$f":"[7]Gfs!B73","v":8.0150299999999994},{"$f":"[7]Gfs!C73","v":8.4826620000000013},{"$f":"[7]Gfs!D73","v":8.4022560000000013},{"$f":"[7]Gfs!E73","v":7.9398790000000004},{"$f":"[7]Gfs!F73","v":9.0319309999999984},{"$f":"[7]Gfs!G73","v":8.672974},{"$f":"[7]Gfs!H73","v":9.9479710000000008}]
["       4.2.1.  Sales by market establishments",{"$f":"[7]Gfs!B74","v":0},{"$f":"[7]Gfs!C74","v":0},{"$f":"[7]Gfs!D74","v":0},{"$f":"[7]Gfs!E74","v":0},{"$f":"[7]Gfs!F74","v":0},{"$f":"[7]Gfs!G74","v":0},{"$f":"[7]Gfs!H74","v":0}]
["       4.2.2.  Administrative fees",{"$f":"[7]Gfs!B75","v":7.7592210000000001},{"$f":"[7]Gfs!C75","v":7.6539590000000004},{"$f":"[7]Gfs!D75","v":7.7430580000000004},{"$f":"[7]Gfs!E75","v":7.5768700000000004},{"$f":"[7]Gfs!F75","v":8.3612749999999991},{"$f":"[7]Gfs!G75","v":8.1536120000000007},{"$f":"[7]Gfs!H75","v":8.6535890000000002}]
["       4.2.3.  Incidental sales (nonmarket)",{"$f":"[7]Gfs!B76","v":0.25580900000000001},{"$f":"[7]Gfs!C76","v":0.82870299999999997},{"$f":"[7]Gfs!D76","v":0.65919799999999995},{"$f":"[7]Gfs!E76","v":0.36300900000000003},{"$f":"[7]Gfs!F76","v":0.67065600000000003},{"$f":"[7]Gfs!G76","v":0.51936199999999999},{"$f":"[7]Gfs!H76","v":1.2943819999999999}]
["       4.2.4.  Imputed sales of goods and services",{"$f":"[7]Gfs!B77","v":0},{"$f":"[7]Gfs!C77","v":0},{"$f":"[7]Gfs!D77","v":0},{"$f":"[7]Gfs!E77","v":0},{"$f":"[7]Gfs!F77","v":0},{"$f":"[7]Gfs!G77","v":0},{"$f":"[7]Gfs!H77","v":0}]
["    4.3.  Fines & forfeits",{"$f":"[7]Gfs!B78","v":0},{"$f":"[7]Gfs!C78","v":0},{"$f":"[7]Gfs!D78","v":0},{"$f":"[7]Gfs!E78","v":0},{"$f":"[7]Gfs!F78","v":0},{"$f":"[7]Gfs!G78","v":0},{"$f":"[7]Gfs!H78","v":0}]
["    4.4.  Voluntary transfers other than grants",{"$f":"[7]Gfs!B79","v":0},{"$f":"[7]Gfs!C79","v":0},{"$f":"[7]Gfs!D79","v":0},{"$f":"[7]Gfs!E79","v":0},{"$f":"[7]Gfs!F79","v":0},{"$f":"[7]Gfs!G79","v":0},{"$f":"[7]Gfs!H79","v":0}]
["       4.4.1.  Current",{"$f":"[7]Gfs!B80","v":0},{"$f":"[7]Gfs!C80","v":0},{"$f":"[7]Gfs!D80","v":0},{"$f":"[7]Gfs!E80","v":0},{"$f":"[7]Gfs!F80","v":0},{"$f":"[7]Gfs!G80","v":0},{"$f":"[7]Gfs!H80","v":0}]
["       4.4.2.  Capital",{"$f":"[7]Gfs!B81","v":0},{"$f":"[7]Gfs!C81","v":0},{"$f":"[7]Gfs!D81","v":0},{"$f":"[7]Gfs!E81","v":0},{"$f":"[7]Gfs!F81","v":0},{"$f":"[7]Gfs!G81","v":0},{"$f":"[7]Gfs!H81","v":0}]
["    4.5.  Miscellaneous and unidentified revenue",{"$f":"[7]Gfs!B82","v":0.57950199999999996},{"$f":"[7]Gfs!C82","v":0.17740800000000001},{"$f":"[7]Gfs!D82","v":0.169851},{"$f":"[7]Gfs!E82","v":0.30865100000000001},{"$f":"[7]Gfs!F82","v":0},{"$f":"[7]Gfs!G82","v":0},{"$f":"[7]Gfs!H82","v":0}]
[null,{"$f":"[7]Gfs!B83","v":0},{"$f":"[7]Gfs!C83","v":0},{"$f":"[7]Gfs!D83","v":0},{"$f":"[7]Gfs!E83","v":0},{"$f":"[7]Gfs!F83","v":0},{"$f":"[7]Gfs!G83","v":0},{"$f":"[7]Gfs!H83","v":0}]
["Expense",{"$f":"[7]Gfs!B84","v":-76.084073999999987},{"$f":"[7]Gfs!C84","v":-115.013952},{"$f":"[7]Gfs!D84","v":-82.856397999999999},{"$f":"[7]Gfs!E84","v":-89.907252},{"$f":"[7]Gfs!F84","v":-93.185804000000005},{"$f":"[7]Gfs!G84","v":-93.106814},{"$f":"[7]Gfs!H84","v":-89.309056999999996}]
["  1.  Compensation of Employees",{"$f":"[7]Gfs!B85","v":-32.472569},{"$f":"[7]Gfs!C85","v":-35.386268000000001},{"$f":"[7]Gfs!D85","v":-37.108663999999997},{"$f":"[7]Gfs!E85","v":-36.643807000000002},{"$f":"[7]Gfs!F85","v":-37.299095999999999},{"$f":"[7]Gfs!G85","v":-37.541186000000003},{"$f":"[7]Gfs!H85","v":-38.205477999999999}]
["    1.1.  Wages and salaries",{"$f":"[7]Gfs!B86","v":-32.472569},{"$f":"[7]Gfs!C86","v":-35.386268000000001},{"$f":"[7]Gfs!D86","v":-37.108663999999997},{"$f":"[7]Gfs!E86","v":-36.643807000000002},{"$f":"[7]Gfs!F86","v":-37.299095999999999},{"$f":"[7]Gfs!G86","v":-37.541186000000003},{"$f":"[7]Gfs!H86","v":-38.205477999999999}]
["      1.1.1.  Wages and salaries in cash",{"$f":"[7]Gfs!B87","v":-32.472569},{"$f":"[7]Gfs!C87","v":-35.386268000000001},{"$f":"[7]Gfs!D87","v":-37.108663999999997},{"$f":"[7]Gfs!E87","v":-36.643807000000002},{"$f":"[7]Gfs!F87","v":-37.299095999999999},{"$f":"[7]Gfs!G87","v":-37.541186000000003},{"$f":"[7]Gfs!H87","v":-38.205477999999999}]
["      1.1.2.  Wages and salaries in kind",{"$f":"[7]Gfs!B88","v":0},{"$f":"[7]Gfs!C88","v":0},{"$f":"[7]Gfs!D88","v":0},{"$f":"[7]Gfs!E88","v":0},{"$f":"[7]Gfs!F88","v":0},{"$f":"[7]Gfs!G88","v":0},{"$f":"[7]Gfs!H88","v":0}]
["    1.2.  Employer contributions",{"$f":"[7]Gfs!B89","v":0},{"$f":"[7]Gfs!C89","v":0},{"$f":"[7]Gfs!D89","v":0},{"$f":"[7]Gfs!E89","v":0},{"$f":"[7]Gfs!F89","v":0},{"$f":"[7]Gfs!G89","v":0},{"$f":"[7]Gfs!H89","v":0}]
["      1.2.1.  Social contributions",{"$f":"[7]Gfs!B90","v":0},{"$f":"[7]Gfs!C90","v":0},{"$f":"[7]Gfs!D90","v":0},{"$f":"[7]Gfs!E90","v":0},{"$f":"[7]Gfs!F90","v":0},{"$f":"[7]Gfs!G90","v":0},{"$f":"[7]Gfs!H90","v":0}]
["      1.2.2.  Imputed social contributions",{"$f":"[7]Gfs!B91","v":0},{"$f":"[7]Gfs!C91","v":0},{"$f":"[7]Gfs!D91","v":0},{"$f":"[7]Gfs!E91","v":0},{"$f":"[7]Gfs!F91","v":0},{"$f":"[7]Gfs!G91","v":0},{"$f":"[7]Gfs!H91","v":0}]
["  2.  Purchases of goods and services",{"$f":"[7]Gfs!B92","v":-24.950187},{"$f":"[7]Gfs!C92","v":-24.259283000000003},{"$f":"[7]Gfs!D92","v":-27.964448000000001},{"$f":"[7]Gfs!E92","v":-30.813720000000004},{"$f":"[7]Gfs!F92","v":-30.765912},{"$f":"[7]Gfs!G92","v":-29.535154000000002},{"$f":"[7]Gfs!H92","v":-27.679175000000001}]
["2.01.0.-  Foodstuffs",{"$f":"[7]Gfs!B93","v":-1.0825769999999999},{"$f":"[7]Gfs!C93","v":-1.3187979999999999},{"$f":"[7]Gfs!D93","v":-1.1057300000000001},{"$f":"[7]Gfs!E93","v":-1.7008049999999999},{"$f":"[7]Gfs!F93","v":-1.851515},{"$f":"[7]Gfs!G93","v":-2.105165},{"$f":"[7]Gfs!H93","v":-1.5652889999999999}]
["2.02.0.-  Petroleum products",{"$f":"[7]Gfs!B94","v":-0.76230100000000001},{"$f":"[7]Gfs!C94","v":-0.94986300000000001},{"$f":"[7]Gfs!D94","v":-1.2642370000000001},{"$f":"[7]Gfs!E94","v":-0.87664600000000004},{"$f":"[7]Gfs!F94","v":-3.6868840000000001},{"$f":"[7]Gfs!G94","v":-0.96960800000000003},{"$f":"[7]Gfs!H94","v":-0.820218}]
["2.03.0.-  Printing, books",{"$f":"[7]Gfs!B95","v":-6.1289999999999997E-2},{"$f":"[7]Gfs!C95","v":-0.12132},{"$f":"[7]Gfs!D95","v":-0.11541700000000001},{"$f":"[7]Gfs!E95","v":-0.12078800000000001},{"$f":"[7]Gfs!F95","v":-0.120397},{"$f":"[7]Gfs!G95","v":-0.180115},{"$f":"[7]Gfs!H95","v":-0.20338899999999999}]
["2.04.0.-  Supplies and materials",{"$f":"[7]Gfs!B96","v":-1.4553510000000001},{"$f":"[7]Gfs!C96","v":-1.9892860000000001},{"$f":"[7]Gfs!D96","v":-2.7094879999999999},{"$f":"[7]Gfs!E96","v":-2.904201},{"$f":"[7]Gfs!F96","v":-3.261701},{"$f":"[7]Gfs!G96","v":-3.0904210000000001},{"$f":"[7]Gfs!H96","v":-2.303747}]
["2.05.0.-  Educational supplies",{"$f":"[7]Gfs!B97","v":0},{"$f":"[7]Gfs!C97","v":0},{"$f":"[7]Gfs!D97","v":0},{"$f":"[7]Gfs!E97","v":0},{"$f":"[7]Gfs!F97","v":0},{"$f":"[7]Gfs!G97","v":0},{"$f":"[7]Gfs!H97","v":0}]
["2.06.0.-  Medical supplies",{"$f":"[7]Gfs!B98","v":-4.5054540000000003},{"$f":"[7]Gfs!C98","v":-5.278613},{"$f":"[7]Gfs!D98","v":-6.8283690000000004},{"$f":"[7]Gfs!E98","v":-5.7073020000000003},{"$f":"[7]Gfs!F98","v":-6.0613479999999997},{"$f":"[7]Gfs!G98","v":-6.2728830000000002},{"$f":"[7]Gfs!H98","v":-4.4877560000000001}]
["2.07.0.-  Utilities",{"$f":"[7]Gfs!B99","v":-2.1771750000000001},{"$f":"[7]Gfs!C99","v":-2.44679},{"$f":"[7]Gfs!D99","v":-2.856147},{"$f":"[7]Gfs!E99","v":-3.8111160000000002},{"$f":"[7]Gfs!F99","v":-4.3026660000000003},{"$f":"[7]Gfs!G99","v":-5.1068860000000003},{"$f":"[7]Gfs!H99","v":-5.2433420000000002}]
["2.08.0.-  Building and c onstruction",{"$f":"[7]Gfs!B100","v":0},{"$f":"[7]Gfs!C100","v":0},{"$f":"[7]Gfs!D100","v":0},{"$f":"[7]Gfs!E100","v":0},{"$f":"[7]Gfs!F100","v":0},{"$f":"[7]Gfs!G100","v":0},{"$f":"[7]Gfs!H100","v":0}]
["2.09.0.-  Freight",{"$f":"[7]Gfs!B101","v":-0.161464},{"$f":"[7]Gfs!C101","v":-0.23677400000000001},{"$f":"[7]Gfs!D101","v":-0.135159},{"$f":"[7]Gfs!E101","v":-0.22905300000000001},{"$f":"[7]Gfs!F101","v":-0.20414399999999999},{"$f":"[7]Gfs!G101","v":-0.21021000000000001},{"$f":"[7]Gfs!H101","v":-0.169017}]
["2.10.0.-  Travel",{"$f":"[7]Gfs!B102","v":-3.5739730000000001},{"$f":"[7]Gfs!C102","v":-3.7396590000000001},{"$f":"[7]Gfs!D102","v":-4.3275350000000001},{"$f":"[7]Gfs!E102","v":-3.552956},{"$f":"[7]Gfs!F102","v":-2.808154},{"$f":"[7]Gfs!G102","v":-2.6641140000000001},{"$f":"[7]Gfs!H102","v":-3.2826819999999999}]
["2.11.0.-  Hotels and restaurants",{"$f":"[7]Gfs!B103","v":0},{"$f":"[7]Gfs!C103","v":0},{"$f":"[7]Gfs!D103","v":0},{"$f":"[7]Gfs!E103","v":0},{"$f":"[7]Gfs!F103","v":0},{"$f":"[7]Gfs!G103","v":0},{"$f":"[7]Gfs!H103","v":0}]
["2.12.0.-  Communications and postage",{"$f":"[7]Gfs!B104","v":-0.54903599999999997},{"$f":"[7]Gfs!C104","v":-0.68096599999999996},{"$f":"[7]Gfs!D104","v":-0.71271899999999999},{"$f":"[7]Gfs!E104","v":-0.98228000000000004},{"$f":"[7]Gfs!F104","v":-0.88861999999999997},{"$f":"[7]Gfs!G104","v":-0.98352799999999996},{"$f":"[7]Gfs!H104","v":-0.98431599999999997}]
["2.13.0.-  IT software and supplies",{"$f":"[7]Gfs!B105","v":0},{"$f":"[7]Gfs!C105","v":0},{"$f":"[7]Gfs!D105","v":0},{"$f":"[7]Gfs!E105","v":0},{"$f":"[7]Gfs!F105","v":0},{"$f":"[7]Gfs!G105","v":0},{"$f":"[7]Gfs!H105","v":0}]
["2.14.0.-  Insurance",{"$f":"[7]Gfs!B106","v":-0.270845},{"$f":"[7]Gfs!C106","v":-0.116095},{"$f":"[7]Gfs!D106","v":-0.11044900000000001},{"$f":"[7]Gfs!E106","v":-0.102281},{"$f":"[7]Gfs!F106","v":-0.238151},{"$f":"[7]Gfs!G106","v":-0.11640200000000001},{"$f":"[7]Gfs!H106","v":-0.114813}]
["2.15.0.-  Financial service",{"$f":"[7]Gfs!B107","v":0},{"$f":"[7]Gfs!C107","v":0},{"$f":"[7]Gfs!D107","v":0},{"$f":"[7]Gfs!E107","v":0},{"$f":"[7]Gfs!F107","v":0},{"$f":"[7]Gfs!G107","v":0},{"$f":"[7]Gfs!H107","v":0}]
["2.16.0.-  Rentals",{"$f":"[7]Gfs!B108","v":-1.628042},{"$f":"[7]Gfs!C108","v":-1.299307},{"$f":"[7]Gfs!D108","v":-1.2599560000000001},{"$f":"[7]Gfs!E108","v":-1.1391629999999999},{"$f":"[7]Gfs!F108","v":-1.463206},{"$f":"[7]Gfs!G108","v":-1.3706640000000001},{"$f":"[7]Gfs!H108","v":-1.4620960000000001}]
["2.17.0.-  Professional and contractual services",{"$f":"[7]Gfs!B109","v":-8.3112549999999992},{"$f":"[7]Gfs!C109","v":-5.8074490000000001},{"$f":"[7]Gfs!D109","v":-6.2008130000000001},{"$f":"[7]Gfs!E109","v":-9.4112930000000006},{"$f":"[7]Gfs!F109","v":-5.6371630000000001},{"$f":"[7]Gfs!G109","v":-6.1570419999999997},{"$f":"[7]Gfs!H109","v":-6.6904029999999999}]
["2.18.0.-  Advertising",{"$f":"[7]Gfs!B110","v":0},{"$f":"[7]Gfs!C110","v":0},{"$f":"[7]Gfs!D110","v":0},{"$f":"[7]Gfs!E110","v":0},{"$f":"[7]Gfs!F110","v":0},{"$f":"[7]Gfs!G110","v":0},{"$f":"[7]Gfs!H110","v":0}]
["2.19.0.-  Training",{"$f":"[7]Gfs!B111","v":0},{"$f":"[7]Gfs!C111","v":0},{"$f":"[7]Gfs!D111","v":0},{"$f":"[7]Gfs!E111","v":0},{"$f":"[7]Gfs!F111","v":0},{"$f":"[7]Gfs!G111","v":0},{"$f":"[7]Gfs!H111","v":0}]
["2.20.0.-  Administrative costs",{"$f":"[7]Gfs!B112","v":0},{"$f":"[7]Gfs!C112","v":0},{"$f":"[7]Gfs!D112","v":0},{"$f":"[7]Gfs!E112","v":0},{"$f":"[7]Gfs!F112","v":0},{"$f":"[7]Gfs!G112","v":0},{"$f":"[7]Gfs!H112","v":0}]
["2.21.0.-  Medical referrals",{"$f":"[7]Gfs!B113","v":0},{"$f":"[7]Gfs!C113","v":0},{"$f":"[7]Gfs!D113","v":0},{"$f":"[7]Gfs!E113","v":0},{"$f":"[7]Gfs!F113","v":0},{"$f":"[7]Gfs!G113","v":0},{"$f":"[7]Gfs!H113","v":0}]
["2.22.0.-  Dues, fees and registrations",{"$f":"[7]Gfs!B114","v":-0.41142400000000001},{"$f":"[7]Gfs!C114","v":-0.27436300000000002},{"$f":"[7]Gfs!D114","v":-0.33842899999999998},{"$f":"[7]Gfs!E114","v":-0.27583600000000003},{"$f":"[7]Gfs!F114","v":-0.24196300000000001},{"$f":"[7]Gfs!G114","v":-0.308116},{"$f":"[7]Gfs!H114","v":-0.352107}]
["  3.  Consumption of fixed capital",{"$f":"[7]Gfs!B115","v":0},{"$f":"[7]Gfs!C115","v":0},{"$f":"[7]Gfs!D115","v":0},{"$f":"[7]Gfs!E115","v":0},{"$f":"[7]Gfs!F115","v":0},{"$f":"[7]Gfs!G115","v":0},{"$f":"[7]Gfs!H115","v":0}]
["  4.  Interest Payments",{"$f":"[7]Gfs!B116","v":-0.83459300000000003},{"$f":"[7]Gfs!C116","v":-0.93169800000000003},{"$f":"[7]Gfs!D116","v":-0.917713},{"$f":"[7]Gfs!E116","v":-0.90008600000000005},{"$f":"[7]Gfs!F116","v":-1.3188089999999999},{"$f":"[7]Gfs!G116","v":-0.89668599999999998},{"$f":"[7]Gfs!H116","v":-0.89284200000000002}]
["    4.1.  Nonresidents",{"$f":"[7]Gfs!B117","v":-0.83459300000000003},{"$f":"[7]Gfs!C117","v":-0.93169800000000003},{"$f":"[7]Gfs!D117","v":-0.917713},{"$f":"[7]Gfs!E117","v":-0.90008600000000005},{"$f":"[7]Gfs!F117","v":-1.3188089999999999},{"$f":"[7]Gfs!G117","v":-0.89668599999999998},{"$f":"[7]Gfs!H117","v":-0.89284200000000002}]
["    4.2.  Residents other than general government",{"$f":"[7]Gfs!B118","v":0},{"$f":"[7]Gfs!C118","v":0},{"$f":"[7]Gfs!D118","v":0},{"$f":"[7]Gfs!E118","v":0},{"$f":"[7]Gfs!F118","v":0},{"$f":"[7]Gfs!G118","v":0},{"$f":"[7]Gfs!H118","v":0}]
["    4.3.  Other general government units",{"$f":"[7]Gfs!B119","v":0},{"$f":"[7]Gfs!C119","v":0},{"$f":"[7]Gfs!D119","v":0},{"$f":"[7]Gfs!E119","v":0},{"$f":"[7]Gfs!F119","v":0},{"$f":"[7]Gfs!G119","v":0},{"$f":"[7]Gfs!H119","v":0}]
["  5.  Subsidies",{"$f":"[7]Gfs!B120","v":-1.2986759999999999},{"$f":"[7]Gfs!C120","v":-2.0916000000000001},{"$f":"[7]Gfs!D120","v":-2.4873599999999998},{"$f":"[7]Gfs!E120","v":-1.78115},{"$f":"[7]Gfs!F120","v":-2.532721},{"$f":"[7]Gfs!G120","v":-4.9903380000000004},{"$f":"[7]Gfs!H120","v":-3.5003570000000002}]
["    5.1.  To public corporations",{"$f":"[7]Gfs!B121","v":-1.2986759999999999},{"$f":"[7]Gfs!C121","v":-2.0916000000000001},{"$f":"[7]Gfs!D121","v":-2.4873599999999998},{"$f":"[7]Gfs!E121","v":-1.78115},{"$f":"[7]Gfs!F121","v":-2.532721},{"$f":"[7]Gfs!G121","v":-4.9903380000000004},{"$f":"[7]Gfs!H121","v":-3.5003570000000002}]
["      5.1.1.  Nonfinancial public corporations",{"$f":"[7]Gfs!B122","v":-1.2986759999999999},{"$f":"[7]Gfs!C122","v":-2.0916000000000001},{"$f":"[7]Gfs!D122","v":-2.4873599999999998},{"$f":"[7]Gfs!E122","v":-1.78115},{"$f":"[7]Gfs!F122","v":-2.532721},{"$f":"[7]Gfs!G122","v":-4.9903380000000004},{"$f":"[7]Gfs!H122","v":-3.5003570000000002}]
["      5.1.2.  Financial public corporations",{"$f":"[7]Gfs!B123","v":0},{"$f":"[7]Gfs!C123","v":0},{"$f":"[7]Gfs!D123","v":0},{"$f":"[7]Gfs!E123","v":0},{"$f":"[7]Gfs!F123","v":0},{"$f":"[7]Gfs!G123","v":0},{"$f":"[7]Gfs!H123","v":0}]
["    5.2.  To private enterprise",{"$f":"[7]Gfs!B124","v":0},{"$f":"[7]Gfs!C124","v":0},{"$f":"[7]Gfs!D124","v":0},{"$f":"[7]Gfs!E124","v":0},{"$f":"[7]Gfs!F124","v":0},{"$f":"[7]Gfs!G124","v":0},{"$f":"[7]Gfs!H124","v":0}]
["      5.2.1.  Nonfinancial private enterprises",{"$f":"[7]Gfs!B125","v":0},{"$f":"[7]Gfs!C125","v":0},{"$f":"[7]Gfs!D125","v":0},{"$f":"[7]Gfs!E125","v":0},{"$f":"[7]Gfs!F125","v":0},{"$f":"[7]Gfs!G125","v":0},{"$f":"[7]Gfs!H125","v":0}]
["      5.2.2.  Financial private enterprises",{"$f":"[7]Gfs!B126","v":0},{"$f":"[7]Gfs!C126","v":0},{"$f":"[7]Gfs!D126","v":0},{"$f":"[7]Gfs!E126","v":0},{"$f":"[7]Gfs!F126","v":0},{"$f":"[7]Gfs!G126","v":0},{"$f":"[7]Gfs!H126","v":0}]
["    5.3.  On products",{"$f":"[7]Gfs!B127","v":0},{"$f":"[7]Gfs!C127","v":0},{"$f":"[7]Gfs!D127","v":0},{"$f":"[7]Gfs!E127","v":0},{"$f":"[7]Gfs!F127","v":0},{"$f":"[7]Gfs!G127","v":0},{"$f":"[7]Gfs!H127","v":0}]
["  6.  Grants",{"$f":"[7]Gfs!B128","v":-0.19900000000000001},{"$f":"[7]Gfs!C128","v":-34.084092000000005},{"$f":"[7]Gfs!D128","v":-0.32317299999999999},{"$f":"[7]Gfs!E128","v":0},{"$f":"[7]Gfs!F128","v":-0.14910000000000001},{"$f":"[7]Gfs!G128","v":-0.14910000000000001},{"$f":"[7]Gfs!H128","v":-3.9759999999999997E-2}]
["    6.1. To foreign governments",{"$f":"[7]Gfs!B129","v":0},{"$f":"[7]Gfs!C129","v":0},{"$f":"[7]Gfs!D129","v":0},{"$f":"[7]Gfs!E129","v":0},{"$f":"[7]Gfs!F129","v":0},{"$f":"[7]Gfs!G129","v":0},{"$f":"[7]Gfs!H129","v":0}]
["      6.1.1.  Current",{"$f":"[7]Gfs!B130","v":0},{"$f":"[7]Gfs!C130","v":0},{"$f":"[7]Gfs!D130","v":0},{"$f":"[7]Gfs!E130","v":0},{"$f":"[7]Gfs!F130","v":0},{"$f":"[7]Gfs!G130","v":0},{"$f":"[7]Gfs!H130","v":0}]
["      6.1.2.  Capital",{"$f":"[7]Gfs!B131","v":0},{"$f":"[7]Gfs!C131","v":0},{"$f":"[7]Gfs!D131","v":0},{"$f":"[7]Gfs!E131","v":0},{"$f":"[7]Gfs!F131","v":0},{"$f":"[7]Gfs!G131","v":0},{"$f":"[7]Gfs!H131","v":0}]
["    6.2. To international organizations",{"$f":"[7]Gfs!B132","v":0},{"$f":"[7]Gfs!C132","v":0},{"$f":"[7]Gfs!D132","v":0},{"$f":"[7]Gfs!E132","v":0},{"$f":"[7]Gfs!F132","v":0},{"$f":"[7]Gfs!G132","v":0},{"$f":"[7]Gfs!H132","v":0}]
["      6.2.1.  Current",{"$f":"[7]Gfs!B133","v":0},{"$f":"[7]Gfs!C133","v":0},{"$f":"[7]Gfs!D133","v":0},{"$f":"[7]Gfs!E133","v":0},{"$f":"[7]Gfs!F133","v":0},{"$f":"[7]Gfs!G133","v":0},{"$f":"[7]Gfs!H133","v":0}]
["      6.2.2.  Capital",{"$f":"[7]Gfs!B134","v":0},{"$f":"[7]Gfs!C134","v":0},{"$f":"[7]Gfs!D134","v":0},{"$f":"[7]Gfs!E134","v":0},{"$f":"[7]Gfs!F134","v":0},{"$f":"[7]Gfs!G134","v":0},{"$f":"[7]Gfs!H134","v":0}]
["    6.3. To other general government units",{"$f":"[7]Gfs!B135","v":-0.19900000000000001},{"$f":"[7]Gfs!C135","v":-34.084092000000005},{"$f":"[7]Gfs!D135","v":-0.32317299999999999},{"$f":"[7]Gfs!E135","v":0},{"$f":"[7]Gfs!F135","v":-0.14910000000000001},{"$f":"[7]Gfs!G135","v":-0.14910000000000001},{"$f":"[7]Gfs!H135","v":-3.9759999999999997E-2}]
["      6.3.1.  Current",{"$f":"[7]Gfs!B136","v":-0.19900000000000001},{"$f":"[7]Gfs!C136","v":-0.222163},{"$f":"[7]Gfs!D136","v":-0.22209999999999999},{"$f":"[7]Gfs!E136","v":0},{"$f":"[7]Gfs!F136","v":-0.14910000000000001},{"$f":"[7]Gfs!G136","v":-0.14910000000000001},{"$f":"[7]Gfs!H136","v":-3.9759999999999997E-2}]
["        6.3.1.1  Extra Budgetary Units",{"$f":"[7]Gfs!B137","v":-0.19900000000000001},{"$f":"[7]Gfs!C137","v":-0.222163},{"$f":"[7]Gfs!D137","v":-0.22209999999999999},{"$f":"[7]Gfs!E137","v":0},{"$f":"[7]Gfs!F137","v":-0.14910000000000001},{"$f":"[7]Gfs!G137","v":-0.14910000000000001},{"$f":"[7]Gfs!H137","v":-3.9759999999999997E-2}]
["        6.3.1.2  Local Government",{"$f":"[7]Gfs!B138","v":0},{"$f":"[7]Gfs!C138","v":0},{"$f":"[7]Gfs!D138","v":0},{"$f":"[7]Gfs!E138","v":0},{"$f":"[7]Gfs!F138","v":0},{"$f":"[7]Gfs!G138","v":0},{"$f":"[7]Gfs!H138","v":0}]
["      6.3.2.  Capital",{"$f":"[7]Gfs!B139","v":0},{"$f":"[7]Gfs!C139","v":-33.861929000000003},{"$f":"[7]Gfs!D139","v":-0.101073},{"$f":"[7]Gfs!E139","v":0},{"$f":"[7]Gfs!F139","v":0},{"$f":"[7]Gfs!G139","v":0},{"$f":"[7]Gfs!H139","v":0}]
["        6.3.2.1  Extra Budgetary Units",{"$f":"[7]Gfs!B140","v":0},{"$f":"[7]Gfs!C140","v":0},{"$f":"[7]Gfs!D140","v":0},{"$f":"[7]Gfs!E140","v":0},{"$f":"[7]Gfs!F140","v":0},{"$f":"[7]Gfs!G140","v":0},{"$f":"[7]Gfs!H140","v":0}]
["        6.3.2.2  Local Government",{"$f":"[7]Gfs!B141","v":0},{"$f":"[7]Gfs!C141","v":0},{"$f":"[7]Gfs!D141","v":0},{"$f":"[7]Gfs!E141","v":0},{"$f":"[7]Gfs!F141","v":0},{"$f":"[7]Gfs!G141","v":0},{"$f":"[7]Gfs!H141","v":0}]
["        6.3.2.3  CTF (RMI) 1",{"$f":"[7]Gfs!B142","v":0},{"$f":"[7]Gfs!C142","v":-33.861929000000003},{"$f":"[7]Gfs!D142","v":-0.101073},{"$f":"[7]Gfs!E142","v":0},{"$f":"[7]Gfs!F142","v":0},{"$f":"[7]Gfs!G142","v":0},{"$f":"[7]Gfs!H142","v":0}]
["  7.  Social benfits",{"$f":"[7]Gfs!B143","v":0},{"$f":"[7]Gfs!C143","v":0},{"$f":"[7]Gfs!D143","v":0},{"$f":"[7]Gfs!E143","v":0},{"$f":"[7]Gfs!F143","v":0},{"$f":"[7]Gfs!G143","v":0},{"$f":"[7]Gfs!H143","v":0}]
["    7.1. Social security benefits",{"$f":"[7]Gfs!B144","v":0},{"$f":"[7]Gfs!C144","v":0},{"$f":"[7]Gfs!D144","v":0},{"$f":"[7]Gfs!E144","v":0},{"$f":"[7]Gfs!F144","v":0},{"$f":"[7]Gfs!G144","v":0},{"$f":"[7]Gfs!H144","v":0}]
["      7.1.1.  in cash",{"$f":"[7]Gfs!B145","v":0},{"$f":"[7]Gfs!C145","v":0},{"$f":"[7]Gfs!D145","v":0},{"$f":"[7]Gfs!E145","v":0},{"$f":"[7]Gfs!F145","v":0},{"$f":"[7]Gfs!G145","v":0},{"$f":"[7]Gfs!H145","v":0}]
["      7.1.2.  in kind",{"$f":"[7]Gfs!B146","v":0},{"$f":"[7]Gfs!C146","v":0},{"$f":"[7]Gfs!D146","v":0},{"$f":"[7]Gfs!E146","v":0},{"$f":"[7]Gfs!F146","v":0},{"$f":"[7]Gfs!G146","v":0},{"$f":"[7]Gfs!H146","v":0}]
["    7.2. Social assistance benefits",{"$f":"[7]Gfs!B147","v":0},{"$f":"[7]Gfs!C147","v":0},{"$f":"[7]Gfs!D147","v":0},{"$f":"[7]Gfs!E147","v":0},{"$f":"[7]Gfs!F147","v":0},{"$f":"[7]Gfs!G147","v":0},{"$f":"[7]Gfs!H147","v":0}]
["      7.2.1.  in cash",{"$f":"[7]Gfs!B148","v":0},{"$f":"[7]Gfs!C148","v":0},{"$f":"[7]Gfs!D148","v":0},{"$f":"[7]Gfs!E148","v":0},{"$f":"[7]Gfs!F148","v":0},{"$f":"[7]Gfs!G148","v":0},{"$f":"[7]Gfs!H148","v":0}]
["      7.2.2.  in kind",{"$f":"[7]Gfs!B149","v":0},{"$f":"[7]Gfs!C149","v":0},{"$f":"[7]Gfs!D149","v":0},{"$f":"[7]Gfs!E149","v":0},{"$f":"[7]Gfs!F149","v":0},{"$f":"[7]Gfs!G149","v":0},{"$f":"[7]Gfs!H149","v":0}]
["    7.3. Employer social benefits",{"$f":"[7]Gfs!B150","v":0},{"$f":"[7]Gfs!C150","v":0},{"$f":"[7]Gfs!D150","v":0},{"$f":"[7]Gfs!E150","v":0},{"$f":"[7]Gfs!F150","v":0},{"$f":"[7]Gfs!G150","v":0},{"$f":"[7]Gfs!H150","v":0}]
["      7.3.1.  in cash",{"$f":"[7]Gfs!B151","v":0},{"$f":"[7]Gfs!C151","v":0},{"$f":"[7]Gfs!D151","v":0},{"$f":"[7]Gfs!E151","v":0},{"$f":"[7]Gfs!F151","v":0},{"$f":"[7]Gfs!G151","v":0},{"$f":"[7]Gfs!H151","v":0}]
["      7.3.2.  in kind",{"$f":"[7]Gfs!B152","v":0},{"$f":"[7]Gfs!C152","v":0},{"$f":"[7]Gfs!D152","v":0},{"$f":"[7]Gfs!E152","v":0},{"$f":"[7]Gfs!F152","v":0},{"$f":"[7]Gfs!G152","v":0},{"$f":"[7]Gfs!H152","v":0}]
["  8.  Other expense",{"$f":"[7]Gfs!B153","v":-16.329048999999998},{"$f":"[7]Gfs!C153","v":-18.261011},{"$f":"[7]Gfs!D153","v":-14.05504},{"$f":"[7]Gfs!E153","v":-19.768488999999999},{"$f":"[7]Gfs!F153","v":-21.120166000000001},{"$f":"[7]Gfs!G153","v":-19.994350000000001},{"$f":"[7]Gfs!H153","v":-18.991444999999999}]
["    8.1. Property expense other than interest",{"$f":"[7]Gfs!B154","v":-0.95472000000000001},{"$f":"[7]Gfs!C154","v":-0.87481900000000001},{"$f":"[7]Gfs!D154","v":-0.85808099999999998},{"$f":"[7]Gfs!E154","v":-0.72329500000000002},{"$f":"[7]Gfs!F154","v":-0.86272400000000005},{"$f":"[7]Gfs!G154","v":-0.86518399999999995},{"$f":"[7]Gfs!H154","v":-0.86577800000000005}]
["      8.1.1.  Dividends (public corp only)",{"$f":"[7]Gfs!B155","v":0},{"$f":"[7]Gfs!C155","v":0},{"$f":"[7]Gfs!D155","v":0},{"$f":"[7]Gfs!E155","v":0},{"$f":"[7]Gfs!F155","v":0},{"$f":"[7]Gfs!G155","v":0},{"$f":"[7]Gfs!H155","v":0}]
["      8.1.2.  Withdrawls from quasi corporations (public corp only)",{"$f":"[7]Gfs!B156","v":0},{"$f":"[7]Gfs!C156","v":0},{"$f":"[7]Gfs!D156","v":0},{"$f":"[7]Gfs!E156","v":0},{"$f":"[7]Gfs!F156","v":0},{"$f":"[7]Gfs!G156","v":0},{"$f":"[7]Gfs!H156","v":0}]
["      8.1.3.  Property expense attributable to insurance policy holders",{"$f":"[7]Gfs!B157","v":0},{"$f":"[7]Gfs!C157","v":0},{"$f":"[7]Gfs!D157","v":0},{"$f":"[7]Gfs!E157","v":0},{"$f":"[7]Gfs!F157","v":0},{"$f":"[7]Gfs!G157","v":0},{"$f":"[7]Gfs!H157","v":0}]
["      8.1.4.  Rent",{"$f":"[7]Gfs!B158","v":-0.95472000000000001},{"$f":"[7]Gfs!C158","v":-0.87481900000000001},{"$f":"[7]Gfs!D158","v":-0.85808099999999998},{"$f":"[7]Gfs!E158","v":-0.72329500000000002},{"$f":"[7]Gfs!F158","v":-0.86272400000000005},{"$f":"[7]Gfs!G158","v":-0.86518399999999995},{"$f":"[7]Gfs!H158","v":-0.86577800000000005}]
["    8.2. Miscellaneous other expense",{"$f":"[7]Gfs!B159","v":-15.374328999999999},{"$f":"[7]Gfs!C159","v":-17.386192000000001},{"$f":"[7]Gfs!D159","v":-13.196959},{"$f":"[7]Gfs!E159","v":-19.045193999999999},{"$f":"[7]Gfs!F159","v":-20.257442000000001},{"$f":"[7]Gfs!G159","v":-19.129166000000001},{"$f":"[7]Gfs!H159","v":-18.125667}]
["      8.2.1.  Current",{"$f":"[7]Gfs!B160","v":-15.374328999999999},{"$f":"[7]Gfs!C160","v":-17.386192000000001},{"$f":"[7]Gfs!D160","v":-13.196959},{"$f":"[7]Gfs!E160","v":-19.045193999999999},{"$f":"[7]Gfs!F160","v":-20.257442000000001},{"$f":"[7]Gfs!G160","v":-19.129166000000001},{"$f":"[7]Gfs!H160","v":-18.125667}]
["      8.2.1.1  Transfers to nonprofit institutions serving households",{"$f":"[7]Gfs!B161","v":0},{"$f":"[7]Gfs!C161","v":0},{"$f":"[7]Gfs!D161","v":0},{"$f":"[7]Gfs!E161","v":0},{"$f":"[7]Gfs!F161","v":0},{"$f":"[7]Gfs!G161","v":-6.6928000000000001E-2},{"$f":"[7]Gfs!H161","v":-0.163829}]
["      8.2.1.2  Household - students",{"$f":"[7]Gfs!B162","v":0},{"$f":"[7]Gfs!C162","v":0},{"$f":"[7]Gfs!D162","v":0},{"$f":"[7]Gfs!E162","v":0},{"$f":"[7]Gfs!F162","v":0},{"$f":"[7]Gfs!G162","v":0},{"$f":"[7]Gfs!H162","v":0}]
["      8.2.1.3  Household - other",{"$f":"[7]Gfs!B163","v":-0.88375000000000004},{"$f":"[7]Gfs!C163","v":-1.1311100000000001},{"$f":"[7]Gfs!D163","v":0},{"$f":"[7]Gfs!E163","v":-0.75634500000000005},{"$f":"[7]Gfs!F163","v":-0.92927099999999996},{"$f":"[7]Gfs!G163","v":0},{"$f":"[7]Gfs!H163","v":-1.1502190000000001}]
["      8.2.1.4  Other expense",{"$f":"[7]Gfs!B164","v":-14.490579},{"$f":"[7]Gfs!C164","v":-16.255082000000002},{"$f":"[7]Gfs!D164","v":-13.196959},{"$f":"[7]Gfs!E164","v":-18.288848999999999},{"$f":"[7]Gfs!F164","v":-19.328171000000001},{"$f":"[7]Gfs!G164","v":-19.062238000000001},{"$f":"[7]Gfs!H164","v":-16.811619}]
["      8.2.2.  Capital",{"$f":"[7]Gfs!B165","v":0},{"$f":"[7]Gfs!C165","v":0},{"$f":"[7]Gfs!D165","v":0},{"$f":"[7]Gfs!E165","v":0},{"$f":"[7]Gfs!F165","v":0},{"$f":"[7]Gfs!G165","v":0},{"$f":"[7]Gfs!H165","v":0}]
["      8.2.2.1.  Transfers to nonfinancial public corporations",{"$f":"[7]Gfs!B166","v":0},{"$f":"[7]Gfs!C166","v":0},{"$f":"[7]Gfs!D166","v":0},{"$f":"[7]Gfs!E166","v":0},{"$f":"[7]Gfs!F166","v":0},{"$f":"[7]Gfs!G166","v":0},{"$f":"[7]Gfs!H166","v":0}]
["      8.2.2.2.  Transfers to financial public corporations",{"$f":"[7]Gfs!B167","v":0},{"$f":"[7]Gfs!C167","v":0},{"$f":"[7]Gfs!D167","v":0},{"$f":"[7]Gfs!E167","v":0},{"$f":"[7]Gfs!F167","v":0},{"$f":"[7]Gfs!G167","v":0},{"$f":"[7]Gfs!H167","v":0}]
["      8.2.2.3.  Transfers to nonfinancial private enterprises",{"$f":"[7]Gfs!B168","v":0},{"$f":"[7]Gfs!C168","v":0},{"$f":"[7]Gfs!D168","v":0},{"$f":"[7]Gfs!E168","v":0},{"$f":"[7]Gfs!F168","v":0},{"$f":"[7]Gfs!G168","v":0},{"$f":"[7]Gfs!H168","v":0}]
["      8.2.2.4.  Transfers to financial private enterprises",{"$f":"[7]Gfs!B169","v":0},{"$f":"[7]Gfs!C169","v":0},{"$f":"[7]Gfs!D169","v":0},{"$f":"[7]Gfs!E169","v":0},{"$f":"[7]Gfs!F169","v":0},{"$f":"[7]Gfs!G169","v":0},{"$f":"[7]Gfs!H169","v":0}]
["      8.2.2.5.  Transfers to nonprofit institutions serving households",{"$f":"[7]Gfs!B170","v":0},{"$f":"[7]Gfs!C170","v":0},{"$f":"[7]Gfs!D170","v":0},{"$f":"[7]Gfs!E170","v":0},{"$f":"[7]Gfs!F170","v":0},{"$f":"[7]Gfs!G170","v":0},{"$f":"[7]Gfs!H170","v":0}]
["      8.2.2.6.  Transfers to households",{"$f":"[7]Gfs!B171","v":0},{"$f":"[7]Gfs!C171","v":0},{"$f":"[7]Gfs!D171","v":0},{"$f":"[7]Gfs!E171","v":0},{"$f":"[7]Gfs!F171","v":0},{"$f":"[7]Gfs!G171","v":0},{"$f":"[7]Gfs!H171","v":0}]
["Note 1: RMI contributions to the Compact Trust Fund have been treated as a transfer to another layer government",{"$f":"[7]Gfs!B172","v":0},{"$f":"[7]Gfs!C172","v":0},{"$f":"[7]Gfs!D172","v":0},{"$f":"[7]Gfs!E172","v":0},{"$f":"[7]Gfs!F172","v":0},{"$f":"[7]Gfs!G172","v":0},{"$f":"[7]Gfs!H172","v":0}]
[]
["Table 9b    RMI Government Finances (GFS 2001 Format, detail) continued"]
["(US$ millions)","FY2004","FY2005","FY2006","FY2007","FY2008","FY2009","FY2010"]
["Net Worth and its Changes",{"$f":"[7]Gfs!B173","v":-4.2744969999999967},{"$f":"[7]Gfs!C173","v":22.760045999999999},{"$f":"[7]Gfs!D173","v":-12.013944},{"$f":"[7]Gfs!E173","v":-18.650806000000003},{"$f":"[7]Gfs!F173","v":-13.889485999999994},{"$f":"[7]Gfs!G173","v":-10.900249999999996},{"$f":"[7]Gfs!H173","v":-19.917089000000008}]
["1.  Nonfinancial assets",{"$f":"[7]Gfs!B174","v":-6.0453010000000003},{"$f":"[7]Gfs!C174","v":-11.161327},{"$f":"[7]Gfs!D174","v":-14.876083},{"$f":"[7]Gfs!E174","v":-19.378788},{"$f":"[7]Gfs!F174","v":-8.7125749999999993},{"$f":"[7]Gfs!G174","v":-9.8078889999999994},{"$f":"[7]Gfs!H174","v":-12.495751}]
["  1.  Fixed Assets",{"$f":"[7]Gfs!B175","v":-6.0453010000000003},{"$f":"[7]Gfs!C175","v":-11.161327},{"$f":"[7]Gfs!D175","v":-14.876083},{"$f":"[7]Gfs!E175","v":-19.378788},{"$f":"[7]Gfs!F175","v":-8.7125749999999993},{"$f":"[7]Gfs!G175","v":-9.8078889999999994},{"$f":"[7]Gfs!H175","v":-12.495751}]
["    1.1.  Buildings and structures",{"$f":"[7]Gfs!B176","v":0},{"$f":"[7]Gfs!C176","v":0},{"$f":"[7]Gfs!D176","v":0},{"$f":"[7]Gfs!E176","v":0},{"$f":"[7]Gfs!F176","v":0},{"$f":"[7]Gfs!G176","v":0},{"$f":"[7]Gfs!H176","v":0}]
["      1.1.1.  Dwellings",{"$f":"[7]Gfs!B177","v":0},{"$f":"[7]Gfs!C177","v":0},{"$f":"[7]Gfs!D177","v":0},{"$f":"[7]Gfs!E177","v":0},{"$f":"[7]Gfs!F177","v":0},{"$f":"[7]Gfs!G177","v":0},{"$f":"[7]Gfs!H177","v":0}]
["      1.1.2.  Nonresidential buildings",{"$f":"[7]Gfs!B178","v":0},{"$f":"[7]Gfs!C178","v":0},{"$f":"[7]Gfs!D178","v":0},{"$f":"[7]Gfs!E178","v":0},{"$f":"[7]Gfs!F178","v":0},{"$f":"[7]Gfs!G178","v":0},{"$f":"[7]Gfs!H178","v":0}]
["      1.1.3.  Other structures",{"$f":"[7]Gfs!B179","v":0},{"$f":"[7]Gfs!C179","v":0},{"$f":"[7]Gfs!D179","v":0},{"$f":"[7]Gfs!E179","v":0},{"$f":"[7]Gfs!F179","v":0},{"$f":"[7]Gfs!G179","v":0},{"$f":"[7]Gfs!H179","v":0}]
["      1.1.3.1.  Other structures (revenue and expense)",{"$f":"[7]Gfs!B180","v":0},{"$f":"[7]Gfs!C180","v":0},{"$f":"[7]Gfs!D180","v":0},{"$f":"[7]Gfs!E180","v":0},{"$f":"[7]Gfs!F180","v":0},{"$f":"[7]Gfs!G180","v":0},{"$f":"[7]Gfs!H180","v":0}]
["      1.1.3.2.  Other structures (balance sheet)",{"$f":"[7]Gfs!B181","v":0},{"$f":"[7]Gfs!C181","v":0},{"$f":"[7]Gfs!D181","v":0},{"$f":"[7]Gfs!E181","v":0},{"$f":"[7]Gfs!F181","v":0},{"$f":"[7]Gfs!G181","v":0},{"$f":"[7]Gfs!H181","v":0}]
["    1.2.  Machinery and equipment",{"$f":"[7]Gfs!B182","v":0},{"$f":"[7]Gfs!C182","v":0},{"$f":"[7]Gfs!D182","v":0},{"$f":"[7]Gfs!E182","v":0},{"$f":"[7]Gfs!F182","v":0},{"$f":"[7]Gfs!G182","v":0},{"$f":"[7]Gfs!H182","v":0}]
["      1.2.1.  Transport equipment",{"$f":"[7]Gfs!B183","v":0},{"$f":"[7]Gfs!C183","v":0},{"$f":"[7]Gfs!D183","v":0},{"$f":"[7]Gfs!E183","v":0},{"$f":"[7]Gfs!F183","v":0},{"$f":"[7]Gfs!G183","v":0},{"$f":"[7]Gfs!H183","v":0}]
["      1.2.2.  Other machinery and equipment",{"$f":"[7]Gfs!B184","v":0},{"$f":"[7]Gfs!C184","v":0},{"$f":"[7]Gfs!D184","v":0},{"$f":"[7]Gfs!E184","v":0},{"$f":"[7]Gfs!F184","v":0},{"$f":"[7]Gfs!G184","v":0},{"$f":"[7]Gfs!H184","v":0}]
["    1.3.  Other fixed assets",{"$f":"[7]Gfs!B185","v":0},{"$f":"[7]Gfs!C185","v":0},{"$f":"[7]Gfs!D185","v":0},{"$f":"[7]Gfs!E185","v":0},{"$f":"[7]Gfs!F185","v":0},{"$f":"[7]Gfs!G185","v":0},{"$f":"[7]Gfs!H185","v":0}]
["      1.3.1.  Cultivated assets",{"$f":"[7]Gfs!B186","v":0},{"$f":"[7]Gfs!C186","v":0},{"$f":"[7]Gfs!D186","v":0},{"$f":"[7]Gfs!E186","v":0},{"$f":"[7]Gfs!F186","v":0},{"$f":"[7]Gfs!G186","v":0},{"$f":"[7]Gfs!H186","v":0}]
["      1.3.2.  Intangiable fixed assets",{"$f":"[7]Gfs!B187","v":0},{"$f":"[7]Gfs!C187","v":0},{"$f":"[7]Gfs!D187","v":0},{"$f":"[7]Gfs!E187","v":0},{"$f":"[7]Gfs!F187","v":0},{"$f":"[7]Gfs!G187","v":0},{"$f":"[7]Gfs!H187","v":0}]
["  2.  Inventories",{"$f":"[7]Gfs!B188","v":0},{"$f":"[7]Gfs!C188","v":0},{"$f":"[7]Gfs!D188","v":0},{"$f":"[7]Gfs!E188","v":0},{"$f":"[7]Gfs!F188","v":0},{"$f":"[7]Gfs!G188","v":0},{"$f":"[7]Gfs!H188","v":0}]
["    2.1.  Strategic stocks",{"$f":"[7]Gfs!B189","v":0},{"$f":"[7]Gfs!C189","v":0},{"$f":"[7]Gfs!D189","v":0},{"$f":"[7]Gfs!E189","v":0},{"$f":"[7]Gfs!F189","v":0},{"$f":"[7]Gfs!G189","v":0},{"$f":"[7]Gfs!H189","v":0}]
["    2.2.  Other inventories",{"$f":"[7]Gfs!B190","v":0},{"$f":"[7]Gfs!C190","v":0},{"$f":"[7]Gfs!D190","v":0},{"$f":"[7]Gfs!E190","v":0},{"$f":"[7]Gfs!F190","v":0},{"$f":"[7]Gfs!G190","v":0},{"$f":"[7]Gfs!H190","v":0}]
["      2.2.1.  Materials and supplies",{"$f":"[7]Gfs!B191","v":0},{"$f":"[7]Gfs!C191","v":0},{"$f":"[7]Gfs!D191","v":0},{"$f":"[7]Gfs!E191","v":0},{"$f":"[7]Gfs!F191","v":0},{"$f":"[7]Gfs!G191","v":0},{"$f":"[7]Gfs!H191","v":0}]
["      2.2.1.1.  Materials and supplies (revenue and expense)",{"$f":"[7]Gfs!B192","v":0},{"$f":"[7]Gfs!C192","v":0},{"$f":"[7]Gfs!D192","v":0},{"$f":"[7]Gfs!E192","v":0},{"$f":"[7]Gfs!F192","v":0},{"$f":"[7]Gfs!G192","v":0},{"$f":"[7]Gfs!H192","v":0}]
["      2.2.1.2.  Materials and supplies (balance sheet)",{"$f":"[7]Gfs!B193","v":0},{"$f":"[7]Gfs!C193","v":0},{"$f":"[7]Gfs!D193","v":0},{"$f":"[7]Gfs!E193","v":0},{"$f":"[7]Gfs!F193","v":0},{"$f":"[7]Gfs!G193","v":0},{"$f":"[7]Gfs!H193","v":0}]
["      2.2.2.  Work in progress",{"$f":"[7]Gfs!B194","v":0},{"$f":"[7]Gfs!C194","v":0},{"$f":"[7]Gfs!D194","v":0},{"$f":"[7]Gfs!E194","v":0},{"$f":"[7]Gfs!F194","v":0},{"$f":"[7]Gfs!G194","v":0},{"$f":"[7]Gfs!H194","v":0}]
["      2.2.3.  Fished goods",{"$f":"[7]Gfs!B195","v":0},{"$f":"[7]Gfs!C195","v":0},{"$f":"[7]Gfs!D195","v":0},{"$f":"[7]Gfs!E195","v":0},{"$f":"[7]Gfs!F195","v":0},{"$f":"[7]Gfs!G195","v":0},{"$f":"[7]Gfs!H195","v":0}]
["      2.2.4.  Gods for resale",{"$f":"[7]Gfs!B196","v":0},{"$f":"[7]Gfs!C196","v":0},{"$f":"[7]Gfs!D196","v":0},{"$f":"[7]Gfs!E196","v":0},{"$f":"[7]Gfs!F196","v":0},{"$f":"[7]Gfs!G196","v":0},{"$f":"[7]Gfs!H196","v":0}]
["  3.  Valuables",{"$f":"[7]Gfs!B197","v":0},{"$f":"[7]Gfs!C197","v":0},{"$f":"[7]Gfs!D197","v":0},{"$f":"[7]Gfs!E197","v":0},{"$f":"[7]Gfs!F197","v":0},{"$f":"[7]Gfs!G197","v":0},{"$f":"[7]Gfs!H197","v":0}]
["  4.  Nonproduced assets",{"$f":"[7]Gfs!B198","v":0},{"$f":"[7]Gfs!C198","v":0},{"$f":"[7]Gfs!D198","v":0},{"$f":"[7]Gfs!E198","v":0},{"$f":"[7]Gfs!F198","v":0},{"$f":"[7]Gfs!G198","v":0},{"$f":"[7]Gfs!H198","v":0}]
["    4.1.  Land",{"$f":"[7]Gfs!B199","v":0},{"$f":"[7]Gfs!C199","v":0},{"$f":"[7]Gfs!D199","v":0},{"$f":"[7]Gfs!E199","v":0},{"$f":"[7]Gfs!F199","v":0},{"$f":"[7]Gfs!G199","v":0},{"$f":"[7]Gfs!H199","v":0}]
["2  Financial Assets",{"$f":"[7]Gfs!B200","v":1.1726020000000013},{"$f":"[7]Gfs!C200","v":28.604483999999999},{"$f":"[7]Gfs!D200","v":-2.3295190000000012},{"$f":"[7]Gfs!E200","v":-4.0770970000000002},{"$f":"[7]Gfs!F200","v":-6.871006999999997},{"$f":"[7]Gfs!G200","v":-4.8770290000000003},{"$f":"[7]Gfs!H200","v":-9.3326210000000049}]
["2.1  Domestic",{"$f":"[7]Gfs!B201","v":6.2439820000000026},{"$f":"[7]Gfs!C201","v":5.1656049999999976},{"$f":"[7]Gfs!D201","v":-9.0890809999999984},{"$f":"[7]Gfs!E201","v":1.8266539999999978},{"$f":"[7]Gfs!F201","v":-4.627087999999997},{"$f":"[7]Gfs!G201","v":0.60706300000000013},{"$f":"[7]Gfs!H201","v":8.3045999999999509E-2}]
["2.1.2  Domestic Currency and deposits",{"$f":"[7]Gfs!B202","v":0},{"$f":"[7]Gfs!C202","v":0},{"$f":"[7]Gfs!D202","v":0},{"$f":"[7]Gfs!E202","v":0},{"$f":"[7]Gfs!F202","v":0},{"$f":"[7]Gfs!G202","v":0},{"$f":"[7]Gfs!H202","v":0}]
["2.1.3  Domestic Securities other than shares",{"$f":"[7]Gfs!B203","v":0},{"$f":"[7]Gfs!C203","v":0},{"$f":"[7]Gfs!D203","v":0},{"$f":"[7]Gfs!E203","v":0},{"$f":"[7]Gfs!F203","v":0},{"$f":"[7]Gfs!G203","v":0},{"$f":"[7]Gfs!H203","v":0}]
["2.1.4  Domestic Loans",{"$f":"[7]Gfs!B204","v":0},{"$f":"[7]Gfs!C204","v":0},{"$f":"[7]Gfs!D204","v":0},{"$f":"[7]Gfs!E204","v":0},{"$f":"[7]Gfs!F204","v":0},{"$f":"[7]Gfs!G204","v":0},{"$f":"[7]Gfs!H204","v":0}]
["2.1.5  Domestic Shares and other equity",{"$f":"[7]Gfs!B205","v":0},{"$f":"[7]Gfs!C205","v":0},{"$f":"[7]Gfs!D205","v":0},{"$f":"[7]Gfs!E205","v":0},{"$f":"[7]Gfs!F205","v":0},{"$f":"[7]Gfs!G205","v":0},{"$f":"[7]Gfs!H205","v":0}]
["2.1.6  Domestic Insurance technical reserves",{"$f":"[7]Gfs!B206","v":0},{"$f":"[7]Gfs!C206","v":0},{"$f":"[7]Gfs!D206","v":0},{"$f":"[7]Gfs!E206","v":0},{"$f":"[7]Gfs!F206","v":0},{"$f":"[7]Gfs!G206","v":0},{"$f":"[7]Gfs!H206","v":0}]
["2.1.7  Domestic Financial derivatives",{"$f":"[7]Gfs!B207","v":0},{"$f":"[7]Gfs!C207","v":0},{"$f":"[7]Gfs!D207","v":0},{"$f":"[7]Gfs!E207","v":0},{"$f":"[7]Gfs!F207","v":0},{"$f":"[7]Gfs!G207","v":0},{"$f":"[7]Gfs!H207","v":0}]
["2.1.8  Domestic other accounts receivable",{"$f":"[7]Gfs!B208","v":6.2439820000000026},{"$f":"[7]Gfs!C208","v":5.1656049999999976},{"$f":"[7]Gfs!D208","v":-9.0890809999999984},{"$f":"[7]Gfs!E208","v":1.8266539999999978},{"$f":"[7]Gfs!F208","v":-4.627087999999997},{"$f":"[7]Gfs!G208","v":0.60706300000000013},{"$f":"[7]Gfs!H208","v":8.3045999999999509E-2}]
["2.2  Foreign",{"$f":"[7]Gfs!B209","v":-5.0713800000000013},{"$f":"[7]Gfs!C209","v":23.438879000000004},{"$f":"[7]Gfs!D209","v":6.7595619999999972},{"$f":"[7]Gfs!E209","v":-5.903750999999998},{"$f":"[7]Gfs!F209","v":-2.243919},{"$f":"[7]Gfs!G209","v":-5.4840920000000004},{"$f":"[7]Gfs!H209","v":-9.4156670000000044}]
["2.2.2  Foreign Currency and deposits",{"$f":"[7]Gfs!B210","v":-2.6558070000000029},{"$f":"[7]Gfs!C210","v":-3.964184999999997},{"$f":"[7]Gfs!D210","v":3.2522889999999975},{"$f":"[7]Gfs!E210","v":-4.7881319999999974},{"$f":"[7]Gfs!F210","v":-3.9309229999999999},{"$f":"[7]Gfs!G210","v":-5.2693580000000004},{"$f":"[7]Gfs!H210","v":-7.5503380000000035}]
["2.2.3  Foreign Securities other than shares",{"$f":"[7]Gfs!B211","v":0.32410499999999998},{"$f":"[7]Gfs!C211","v":0.26494899999999999},{"$f":"[7]Gfs!D211","v":2.5926999999999999E-2},{"$f":"[7]Gfs!E211","v":0.130186},{"$f":"[7]Gfs!F211","v":-4.0490999999999999E-2},{"$f":"[7]Gfs!G211","v":-3.8180000000000002E-3},{"$f":"[7]Gfs!H211","v":1.746E-2}]
["2.2.4  Foreign Loans",{"$f":"[7]Gfs!B212","v":0},{"$f":"[7]Gfs!C212","v":0},{"$f":"[7]Gfs!D212","v":0},{"$f":"[7]Gfs!E212","v":0},{"$f":"[7]Gfs!F212","v":0},{"$f":"[7]Gfs!G212","v":0},{"$f":"[7]Gfs!H212","v":0}]
["2.2.5  Foreign Shares and other equity",{"$f":"[7]Gfs!B213","v":-0.83625199999999822},{"$f":"[7]Gfs!C213","v":27.053932},{"$f":"[7]Gfs!D213","v":1.9676959999999999},{"$f":"[7]Gfs!E213","v":0.38724199999999986},{"$f":"[7]Gfs!F213","v":0.58119700000000007},{"$f":"[7]Gfs!G213","v":0.14916699999999999},{"$f":"[7]Gfs!H213","v":6.1995000000000022E-2}]
["2.2.6  Foreign Insurance technical reserves",{"$f":"[7]Gfs!B214","v":0},{"$f":"[7]Gfs!C214","v":0},{"$f":"[7]Gfs!D214","v":0},{"$f":"[7]Gfs!E214","v":0},{"$f":"[7]Gfs!F214","v":0},{"$f":"[7]Gfs!G214","v":0},{"$f":"[7]Gfs!H214","v":0}]
["2.2.7  Foreign Financial derivatives",{"$f":"[7]Gfs!B215","v":0},{"$f":"[7]Gfs!C215","v":0},{"$f":"[7]Gfs!D215","v":0},{"$f":"[7]Gfs!E215","v":0},{"$f":"[7]Gfs!F215","v":0},{"$f":"[7]Gfs!G215","v":0},{"$f":"[7]Gfs!H215","v":0}]
["2.2.8  Foreign other accounts receivable",{"$f":"[7]Gfs!B216","v":-1.9034260000000001},{"$f":"[7]Gfs!C216","v":8.4183000000000341E-2},{"$f":"[7]Gfs!D216","v":1.5136499999999997},{"$f":"[7]Gfs!E216","v":-1.6330469999999999},{"$f":"[7]Gfs!F216","v":1.146298},{"$f":"[7]Gfs!G216","v":-0.36008300000000015},{"$f":"[7]Gfs!H216","v":-1.9447839999999998}]
["2.3  Foreign Monetary gold and SDRs",{"$f":"[7]Gfs!B217","v":0},{"$f":"[7]Gfs!C217","v":0},{"$f":"[7]Gfs!D217","v":0},{"$f":"[7]Gfs!E217","v":0},{"$f":"[7]Gfs!F217","v":0},{"$f":"[7]Gfs!G217","v":0},{"$f":"[7]Gfs!H217","v":0}]
["3  Financial Liabilities",{"$f":"[7]Gfs!B218","v":0.59820200000000234},{"$f":"[7]Gfs!C218","v":5.3168889999999998},{"$f":"[7]Gfs!D218","v":5.1916579999999986},{"$f":"[7]Gfs!E218","v":4.8050789999999974},{"$f":"[7]Gfs!F218","v":1.6940960000000009},{"$f":"[7]Gfs!G218","v":3.784668000000003},{"$f":"[7]Gfs!H218","v":1.911282999999997}]
["3.1  Domestic",{"$f":"[7]Gfs!B219","v":-1.4871929999999978},{"$f":"[7]Gfs!C219","v":3.6962890000000002},{"$f":"[7]Gfs!D219","v":6.2408499999999982},{"$f":"[7]Gfs!E219","v":4.9208459999999974},{"$f":"[7]Gfs!F219","v":2.3225270000000009},{"$f":"[7]Gfs!G219","v":6.508968000000003},{"$f":"[7]Gfs!H219","v":4.8706249999999969}]
["3.1.2  Domestic Currency and deposits",{"$f":"[7]Gfs!B220","v":0},{"$f":"[7]Gfs!C220","v":0},{"$f":"[7]Gfs!D220","v":0},{"$f":"[7]Gfs!E220","v":0},{"$f":"[7]Gfs!F220","v":0},{"$f":"[7]Gfs!G220","v":0},{"$f":"[7]Gfs!H220","v":0}]
["3.1.3  Domestic Securities other than shares",{"$f":"[7]Gfs!B221","v":0},{"$f":"[7]Gfs!C221","v":0},{"$f":"[7]Gfs!D221","v":0},{"$f":"[7]Gfs!E221","v":0},{"$f":"[7]Gfs!F221","v":0},{"$f":"[7]Gfs!G221","v":0},{"$f":"[7]Gfs!H221","v":0}]
["3.1.4  Domestic Loans",{"$f":"[7]Gfs!B222","v":0},{"$f":"[7]Gfs!C222","v":0},{"$f":"[7]Gfs!D222","v":0},{"$f":"[7]Gfs!E222","v":0},{"$f":"[7]Gfs!F222","v":0},{"$f":"[7]Gfs!G222","v":0},{"$f":"[7]Gfs!H222","v":0}]
["3.1.5  Domestic Shares and other equity",{"$f":"[7]Gfs!B223","v":0},{"$f":"[7]Gfs!C223","v":0},{"$f":"[7]Gfs!D223","v":0},{"$f":"[7]Gfs!E223","v":0},{"$f":"[7]Gfs!F223","v":0},{"$f":"[7]Gfs!G223","v":0},{"$f":"[7]Gfs!H223","v":0}]
["3.1.6  Domestic Insurance technical reserves",{"$f":"[7]Gfs!B224","v":0},{"$f":"[7]Gfs!C224","v":0},{"$f":"[7]Gfs!D224","v":0},{"$f":"[7]Gfs!E224","v":0},{"$f":"[7]Gfs!F224","v":0},{"$f":"[7]Gfs!G224","v":0},{"$f":"[7]Gfs!H224","v":0}]
["3.1.7  Domestic Financial derivatives",{"$f":"[7]Gfs!B225","v":0},{"$f":"[7]Gfs!C225","v":0},{"$f":"[7]Gfs!D225","v":0},{"$f":"[7]Gfs!E225","v":0},{"$f":"[7]Gfs!F225","v":0},{"$f":"[7]Gfs!G225","v":0},{"$f":"[7]Gfs!H225","v":0}]
["3.1.8  Domestic Other accounts payable",{"$f":"[7]Gfs!B226","v":-1.4871929999999978},{"$f":"[7]Gfs!C226","v":3.6962890000000002},{"$f":"[7]Gfs!D226","v":6.2408499999999982},{"$f":"[7]Gfs!E226","v":4.9208459999999974},{"$f":"[7]Gfs!F226","v":2.3225270000000009},{"$f":"[7]Gfs!G226","v":6.508968000000003},{"$f":"[7]Gfs!H226","v":4.8706249999999969}]
["3.2  Foreign",{"$f":"[7]Gfs!B227","v":2.0853950000000001},{"$f":"[7]Gfs!C227","v":1.6206},{"$f":"[7]Gfs!D227","v":-1.0491920000000001},{"$f":"[7]Gfs!E227","v":-0.11576699999999973},{"$f":"[7]Gfs!F227","v":-0.62843099999999996},{"$f":"[7]Gfs!G227","v":-2.7242999999999999},{"$f":"[7]Gfs!H227","v":-2.9593419999999999}]
["3.2.2  Foreign Currency and deposits",{"$f":"[7]Gfs!B228","v":0},{"$f":"[7]Gfs!C228","v":0},{"$f":"[7]Gfs!D228","v":0},{"$f":"[7]Gfs!E228","v":0},{"$f":"[7]Gfs!F228","v":0},{"$f":"[7]Gfs!G228","v":0},{"$f":"[7]Gfs!H228","v":0}]
["3.2.3  Foreign Securities other than shares",{"$f":"[7]Gfs!B229","v":0},{"$f":"[7]Gfs!C229","v":0},{"$f":"[7]Gfs!D229","v":0},{"$f":"[7]Gfs!E229","v":0},{"$f":"[7]Gfs!F229","v":0},{"$f":"[7]Gfs!G229","v":0},{"$f":"[7]Gfs!H229","v":0}]
["3.2.4  Foreign Loans",{"$f":"[7]Gfs!B230","v":2.0853950000000001},{"$f":"[7]Gfs!C230","v":0.50356600000000007},{"$f":"[7]Gfs!D230","v":-8.767400000000003E-2},{"$f":"[7]Gfs!E230","v":-1.3459409999999998},{"$f":"[7]Gfs!F230","v":-0.76573399999999991},{"$f":"[7]Gfs!G230","v":-1.8930369999999999},{"$f":"[7]Gfs!H230","v":-2.6488290000000001}]
["3.2.5  Foreign Shares and other equity",{"$f":"[7]Gfs!B231","v":0},{"$f":"[7]Gfs!C231","v":0},{"$f":"[7]Gfs!D231","v":0},{"$f":"[7]Gfs!E231","v":0},{"$f":"[7]Gfs!F231","v":0},{"$f":"[7]Gfs!G231","v":0},{"$f":"[7]Gfs!H231","v":0}]
["3.2.6  Foreign Insurance technical reserves",{"$f":"[7]Gfs!B232","v":0},{"$f":"[7]Gfs!C232","v":0},{"$f":"[7]Gfs!D232","v":0},{"$f":"[7]Gfs!E232","v":0},{"$f":"[7]Gfs!F232","v":0},{"$f":"[7]Gfs!G232","v":0},{"$f":"[7]Gfs!H232","v":0}]
["3.2.7  Foreign Financial derivatives",{"$f":"[7]Gfs!B233","v":0},{"$f":"[7]Gfs!C233","v":0},{"$f":"[7]Gfs!D233","v":0},{"$f":"[7]Gfs!E233","v":0},{"$f":"[7]Gfs!F233","v":0},{"$f":"[7]Gfs!G233","v":0},{"$f":"[7]Gfs!H233","v":0}]
["3.2.8  Foreign Other accounts payable",{"$f":"[7]Gfs!B234","v":0},{"$f":"[7]Gfs!C234","v":1.1170340000000001},{"$f":"[7]Gfs!D234","v":-0.96151800000000009},{"$f":"[7]Gfs!E234","v":1.2301740000000001},{"$f":"[7]Gfs!F234","v":0.13730299999999995},{"$f":"[7]Gfs!G234","v":-0.83126300000000009},{"$f":"[7]Gfs!H234","v":-0.31051299999999998}]
[null,{"$f":"[7]Gfs!B235","v":0},{"$f":"[7]Gfs!C235","v":0},{"$f":"[7]Gfs!D235","v":0},{"$f":"[7]Gfs!E235","v":0},{"$f":"[7]Gfs!F235","v":0},{"$f":"[7]Gfs!G235","v":0},{"$f":"[7]Gfs!H235","v":0}]
["Analytical Measures",{"$f":"[7]Gfs!B236","v":0},{"$f":"[7]Gfs!C236","v":0},{"$f":"[7]Gfs!D236","v":0},{"$f":"[7]Gfs!E236","v":0},{"$f":"[7]Gfs!F236","v":0},{"$f":"[7]Gfs!G236","v":0},{"$f":"[7]Gfs!H236","v":0}]
["Gross operating balance",{"$f":"[7]Gfs!B237","v":0.94702600000000814},{"$f":"[7]Gfs!C237","v":-21.295394999999999},{"$f":"[7]Gfs!D237","v":12.291368000000006},{"$f":"[7]Gfs!E237","v":18.650805999999989},{"$f":"[7]Gfs!F237","v":13.889485999999977},{"$f":"[7]Gfs!G237","v":11.826461999999992},{"$f":"[7]Gfs!H237","v":19.917089000000004}]
["Primary operating balance",{"$f":"[7]Gfs!B238","v":0.7011790000000081},{"$f":"[7]Gfs!C238","v":-22.089490999999999},{"$f":"[7]Gfs!D238","v":12.739423000000006},{"$f":"[7]Gfs!E238","v":19.135258999999991},{"$f":"[7]Gfs!F238","v":14.782590999999977},{"$f":"[7]Gfs!G238","v":12.630719999999993},{"$f":"[7]Gfs!H238","v":20.673423000000007}]
["Net lending/borrowing",{"$f":"[7]Gfs!B239","v":-5.0982749999999921},{"$f":"[7]Gfs!C239","v":-32.456721999999999},{"$f":"[7]Gfs!D239","v":-2.5847149999999939},{"$f":"[7]Gfs!E239","v":-0.72798200000001145},{"$f":"[7]Gfs!F239","v":5.1769109999999774},{"$f":"[7]Gfs!G239","v":2.0185729999999928},{"$f":"[7]Gfs!H239","v":7.421338000000004}]
["Overall fiscal balance",{"$f":"[7]Gfs!B240","v":-5.0982749999999921},{"$f":"[7]Gfs!C240","v":-32.456721999999999},{"$f":"[7]Gfs!D240","v":-2.5847149999999939},{"$f":"[7]Gfs!E240","v":-0.72798200000001145},{"$f":"[7]Gfs!F240","v":5.1769109999999774},{"$f":"[7]Gfs!G240","v":2.0185729999999928},{"$f":"[7]Gfs!H240","v":7.421338000000004}]
["Overall primary balance",{"$f":"[7]Gfs!B241","v":-5.3441219999999925},{"$f":"[7]Gfs!C241","v":-33.250818000000002},{"$f":"[7]Gfs!D241","v":-2.1366599999999938},{"$f":"[7]Gfs!E241","v":-0.24352900000001132},{"$f":"[7]Gfs!F241","v":6.0700159999999777},{"$f":"[7]Gfs!G241","v":2.8228309999999928},{"$f":"[7]Gfs!H241","v":8.1776720000000047}]
["Gross saving",{"$f":"[7]Gfs!B242","v":-1.504320999999992},{"$f":"[7]Gfs!C242","v":7.8500140000000052},{"$f":"[7]Gfs!D242","v":2.8958520000000054},{"$f":"[7]Gfs!E242","v":2.0681419999999875},{"$f":"[7]Gfs!F242","v":2.599958999999977},{"$f":"[7]Gfs!G242","v":-1.3918110000000077},{"$f":"[7]Gfs!H242","v":6.6091140000000035}]
["Total expenditure",{"$f":"[7]Gfs!B243","v":-82.129374999999982},{"$f":"[7]Gfs!C243","v":-126.175279},{"$f":"[7]Gfs!D243","v":-97.732480999999993},{"$f":"[7]Gfs!E243","v":-109.28604},{"$f":"[7]Gfs!F243","v":-101.89837900000001},{"$f":"[7]Gfs!G243","v":-102.914703},{"$f":"[7]Gfs!H243","v":-101.80480799999999}]
["Government final expenditure (n/acts)",{"$f":"[7]Gfs!B244","v":-65.437786000000003},{"$f":"[7]Gfs!C244","v":-68.128213000000002},{"$f":"[7]Gfs!D244","v":-73.475368000000003},{"$f":"[7]Gfs!E244","v":-75.397406000000004},{"$f":"[7]Gfs!F244","v":-77.096939000000006},{"$f":"[7]Gfs!G244","v":-75.749313999999998},{"$f":"[7]Gfs!H244","v":-75.832623999999996}]
["Gross investment (n/acts)",{"$f":"[7]Gfs!B245","v":-6.0453010000000003},{"$f":"[7]Gfs!C245","v":-11.161327},{"$f":"[7]Gfs!D245","v":-14.876083},{"$f":"[7]Gfs!E245","v":-19.378788},{"$f":"[7]Gfs!F245","v":-8.7125749999999993},{"$f":"[7]Gfs!G245","v":-9.8078889999999994},{"$f":"[7]Gfs!H245","v":-12.495751}]
[null,{"$f":"[7]Gfs!B246","v":0},{"$f":"[7]Gfs!C246","v":0},{"$f":"[7]Gfs!D246","v":0},{"$f":"[7]Gfs!E246","v":0},{"$f":"[7]Gfs!F246","v":0},{"$f":"[7]Gfs!G246","v":0},{"$f":"[7]Gfs!H246","v":0}]
["Statistical discrepancy",{"$f":"[7]Gfs!B247","v":-3.3274709999999885},{"$f":"[7]Gfs!C247","v":1.4646509999999999},{"$f":"[7]Gfs!D247","v":0.27742400000000522},{"$f":"[7]Gfs!E247","v":0},{"$f":"[7]Gfs!F247","v":-1.7763568394002505E-14},{"$f":"[7]Gfs!G247","v":0.92621199999999604},{"$f":"[7]Gfs!H247","v":0}]
["Timing diffences",{"$f":"[7]Gfs!B248","v":0},{"$f":"[7]Gfs!C248","v":-0.85757399999999961},{"$f":"[7]Gfs!D248","v":0.16362200000000063},{"$f":"[7]Gfs!E248","v":0},{"$f":"[7]Gfs!F248","v":0},{"$f":"[7]Gfs!G248","v":-0.42621199999999959},{"$f":"[7]Gfs!H248","v":0}]
["Audit adjustment",{"$f":"[7]Gfs!B249","v":0},{"$f":"[7]Gfs!C249","v":-0.60707699999999998},{"$f":"[7]Gfs!D249","v":-0.44104599999999999},{"$f":"[7]Gfs!E249","v":0},{"$f":"[7]Gfs!F249","v":0},{"$f":"[7]Gfs!G249","v":-0.5},{"$f":"[7]Gfs!H249","v":0}]
["Unaccounted",{"$f":"[7]Gfs!B250","v":-3.3274709999999885},{"$f":"[7]Gfs!C250","v":0},{"$f":"[7]Gfs!D250","v":5.8286708792820718E-15},{"$f":"[7]Gfs!E250","v":0},{"$f":"[7]Gfs!F250","v":-1.7763568394002505E-14},{"$f":"[7]Gfs!G250","v":-3.5527136788005009E-15},{"$f":"[7]Gfs!H250","v":0}]
["Note 1: RMI contributions to the Compact Trust Fund have been treated as a transfer to another layer government"]

{"sheet":"FPse","index":30,"n_rows":52,"n_cols":21,"rows_kept":52,"cut":false,"hidden":false,"merged":[]}
[null,"Table 9c    Transfers (including subsidies and capital transfers) to Public Enterprises,  FY2004-FY2011"]
[null,"US$000","FY1993","FY1994","FY1995","FY1996","FY1997","FY1998","FY1999","FY2000","FY2001","FY2002","FY2003","FY2004","FY2005","FY2006","FY2007","FY2008","FY2009","FY2010","FY2011"]
[1,"Air Marshall Islands",3700,5300,2745,1492,784.9,500,1874,2000,0,1500,913,716,400,397,2100,2740,499.4,898.79100000000005,1856.75875]
[2,"Kwajalein Atoll Development Authority",null,null,null,null,0,0,0,0,0,0,0,0,0]
[3,"Kwajalein Atoll Joint Utilities Resources",200,1100,518,509,488.3,325,325,2030,550,1824.7629999999999,3103.9119999999998,1253.2919999999999,1469.614,2081.3009999999999,3820.645,3585.1990000000001,3431.6120000000001,1548.7819999999999,1600]
[4,"Kwajalein Atoll Port Authority",null,null,null,null,0,0,0,0,0,0,0,0,0,0,0,0,0,0]
[5,"Majuro Water and Sewer Company",300,200,524,null,100,0,0,100,99.5,1464.5,155.43499999999977,154.572,235.26499999999999,225.93100000000001,395.125,1258,346.928,539.69899999999996,124.431]
[6,"Marshalls Energy Co. Inc.",400,1300,null,null,601,0,0,0,0,1867,1867,205.459,400,1470,874.2,355.61799999999999,1458.8329999999999,1709.991,862.24199999999996]
[7,"Marshall Islands Airports Authority",null,null,null,null,0,0,0,50,89.22,0,0,0]
[8,"Marshall Islands Development Bank",null,null,37,null,0,0,0,49.75,970,994.78599999999994,165.029,207,194.23500000000001,347.3,248.5,248.5,250,248.5,250]
[9,"Marshall Islands Ports Authority",null,null,null,null,395,115,0,0,0,0,0,0,99,740.822,306.642,424.92599999999999,314.64999999999998,0,0]
[10,"National Telecommunications Authority",300,null,298.5,null,0,0,0,0,0,0,0,0,0,0,0,0,1000,1000,0]
[11,"Outrigger - Marshall Islands Resort",null,null,null,null,420,1120,462.3,99.5,185.98099999999999,0,0,545.11200000000008,0,0,0,0,0]
[12,"Marshall Islands Shipping Corporation",null,null,null,null,null,null,null,null,null,null,null,null,null,null,1467.5,1008.15,1091.847,969.15,1142.4459999999999]
[13,"Tobolar",1900,2200,2697.5,596,450,579,581,845,3049.9639999999999,1449,1096,900,894.6,900,1200,1092.1849999999999,997,1340.002,1245.5999999999999]
[null,"Total",6800,10100,6820,2597,3239.2,2639,3242.3,5174.25,4944.665,9100.0489999999991,7300.3760000000002,3981.4349999999999,3692.7139999999999,6162.3540000000003,10412.612000000001,10712.578,9390.27,8254.9149999999991,6831.47775]
[null,"Memo: Units treated as government agencies in the RMI economic statistics"]
[null,"Majuro Atoll Waste Company",null,null,null,null,null,null,null,null,null,null,null,null,null,null,425.31799999999998,1110.6579999999999,695,420.375,914.07300000000009]
[null,"College of Marshall Islands (current transfers from REPMAR)",null,null,null,null,null,null,"n.a.","n.a.","n.a.","n.a.",1941.9949999999999,2200,4540.4989999999998,3326.4349999999999,3327.2370000000001,3092.6869999999999,3243.6320000000001,4352.482,4564.5209999999997]
[null,"College of Marshall Islands (capital transfer, from REPMAR)",null,null,null,null,null,null,"n.a.","n.a.","n.a.","n.a.","n.a.",199.63499999999999,107.846,1000,5507.0339999999997,4848.3010000000004,5766.308,3589.8870000000002,3073.1639999999998]
[null,"Memo: US funded airport Improvement projects",null,null,null,null,null,null,"n.a.","n.a.","n.a.","n.a.","n.a.",162.54900000000001,111,13285.977999999999,4901.8919999999998,8383.2739999999994,10591,5389,3800]
[]
[null,"Table 9d    Transfers treated as current subsidies to Public Enterprises in GDP estimates,  FY2004-FY2011"]
[null,"US$000",null,null,null,null,"FY1997","FY1998","FY1999","FY2000","FY2001","FY2002","FY2003","FY2004","FY2005","FY2006","FY2007","FY2008","FY2009","FY2010","FY2011"]
[1,"Air Marshall Islands",null,null,null,null,784.9,500,0,0,0,418,913,716,400,397,308.13300000000004,934.91699999999992,824.4,663.24900000000002,556.75874999999996]
[2,"Kwajalein Atoll Development Authority",null,null,null,null,0,0,0,0,0,0,0,0,0,0,0,0,0,0,0]
[3,"Kwajalein Atoll Joint Utilities Resources",null,null,null,null,488.3,325,325,898,550,816.76299999999992,743.91199999999981,769.29199999999992,1118.614,2074.3009999999999,3535.645,3019.8990000000003,3063.6120000000001,1548.7819999999999,1600]
[4,"Kwajalein Atoll Port Authority",null,null,null,null,0,0,0,0,0,0,0,0,0,0,0,0,0,0,0]
[5,"Majuro Water and Sewer Company",null,null,null,null,0,0,0,100,99.5,750.5,155.43499999999977,154.572,235.26499999999999,225.93100000000001,395.125,489.41300000000001,346,318.09899999999999,124.431]
[6,"Marshalls Energy Co. Inc.",null,null,null,null,115.2,0,0,0,0,933.5,933.5,0,0,420,874.2,355.61799999999999,1153.9269999999999,926.20399999999995,862.24199999999996]
[7,"Marshall Islands Airports Authority",null,null,null,null,0,0,0,50,0,0,0,0]
[8,"Marshall Islands Development Bank",null,null,null,null,0,0,0,0,0,0,0,0,0,0,0,0,0,0,0]
[9,"Marshall Islands Ports Authority",null,null,null,null,50,115,0,0,0,0,0,0,99,0,0,0,0,0,0]
[10,"National Telecommunications Authority",null,null,null,null,0,0,0,0,0,0,0,0,0,0,0,0,0,1040.25,0]
[11,"Outrigger - Marshall Islands Resort",null,null,null,null,420,1119.5999999999999,462.3,99.5,110,0,0,545.11200000000008,0,0,84,0,0,0,0]
[12,"Marshall Islands Shipping Corporation",null,null,null,null,null,null,null,null,null,null,null,null,null,null,1467.5,1008.2,1091.8499999999999,969.15,1142.4459999999999]
[13,"Tobolar",null,null,null,null,450,579,581,845,1849,949,1096,900,844.6,900,1200,1092.1849999999999,997,1340.002,1245.5999999999999]
[null,"Total",null,null,null,null,2308.4,2638.6,1368.3,1992.5,2608.5,3867.7629999999999,3841.8469999999998,3084.9760000000001,2697.4789999999998,4017.232,7864.6030000000001,6900.232,7476.7890000000007,6805.735999999999,5531.47775]
[null,"Source: EPPSO GDP estimates"]
[]
[null,"Table 9e    Operating Income (loss), Public Enterprises,   FY2004-FY2011"]
[null,"Operating Income (loss)",null,null,null,null,null,null,{"$f":"I2","v":"FY1999"},{"$f":"J2","v":"FY2000"},"FY2001","FY2002","FY2003","FY2004","FY2005","FY2006","FY2007","FY2008","FY2009","FY2010","FY2011"]
[null,"Air Marshall Islands",null,null,null,null,null,null,-1316.0889999999999,-1917.53,-3969.9470000000001,-1870.047,-1924.8530000000001,-1023.4,-1137.915,-1083.2560000000001,-558.1,-2579.7539999999999,-1785.6079999999999,-1228,-830]
[null,"Kwajalein Atoll Joint Utilities Resources",null,null,null,null,null,null,-388.93900000000002,-1488.5730000000001,-1873.8130000000001,-1641.5160000000001,-2595.3440000000001,-2143.422,-2109.634,-1983.33,-2811.127,-3092.74,-3077.694,-2524.98,-1864.778]
[null,"Majuro Water and Sewer Company",null,null,null,null,null,null,-307.90600000000001,-701.30100000000004,-565.74800000000005,-88.358999999999995,-6.6660000000000004,-54.542000000000002,-211.702,-121.724,-262.38600000000002,-334.21800000000002,-383.464,-349.89600000000002,-135.38499999999999]
[null,"Marshalls Energy Co. Inc.",null,null,null,null,null,null,744.66600000000005,603.06100000000004,-829.45600000000002,2840.7440000000001,1265.931,-1378.809,-3209.7249999999999,-3894.28,-2895.538,-2943.8809999999999,-1076.71,-218.721,-768.63699999999994]
[null,"Marshall Islands Ports Authority",null,null,null,null,null,null,-214.05600000000001,-182.92400000000001,151.12,558.67600000000004,484.60500000000002,-117.96,129.084,-632.72699999999998,-1524.5609999999999,-1604.221,1598.655,-1889.35,-2719.1880000000001]
[null,"Marshall Islands Shipping Corporation",null,null,null,null,null,null,null,null,null,null,null,null,null,null,-928.27599999999995,53.601999999999997,-1331.116,-1071.8720000000001,-1461.2739999999999]
[null,"National Telecommunications Authority",null,null,null,null,null,null,-55.975000000000001,751.18399999999997,420.69,1574.4549999999999,784.39400000000001,52.377000000000002,400.86799999999999,1055.527,1528.289,1087.7829999999999,600.81799999999998,-92.611000000000004,-529.798]
[null,"Outrigger - Marshall Islands Resort",null,null,null,null,null,null,-1039.6089999999999,-509.89100000000002,-529.18200000000002,-727.42700000000002,-675.88800000000003,-5843.1670000000004,24.616,-281.11099999999999,-239.99299999999999,-488.28899999999999,-178.01900000000001,-389.09699999999998,-330.392]
[null,"Tobolar",null,null,null,null,null,null,-479.322,-1583.204,-1750.9190000000001,-852.13699999999994,-817.55200000000002,-296.36399999999998,-1184.5940000000001,-980.90800000000002,-663.69399999999996,20.497,-2369.6129999999998,-715.37300000000005,1112.2470000000001]
[null,"Total",null,null,null,null,null,null,{"$f":"SUM(I43:I51)","v":-3057.23},{"$f":"SUM(J43:J51)","v":-5029.1780000000008},-8947.255000000001,-205.61099999999999,-3485.3730000000005,-10805.286999999998,-7299.0020000000004,-7921.8090000000002,-8355.3860000000004,-9881.2209999999995,-8002.7510000000002,-8479.9,-7527.2050000000008]

{"sheet":"CII","index":31,"n_rows":16,"n_cols":11,"rows_kept":16,"cut":false,"hidden":false,"merged":[]}
["Table 9f    RMI: Compact grants awarded, FY2004-FY2012"]
[null,"FY2004","FY2005","FY2006","FY2007","FY2008","FY2009","FY2010","FY2011","FY2012","FY2004-2012"]
["Education",9648932,10066921,10834083,11408682,11336978,12457410,11600728,11839151,11839151,{"$f":"SUM(B3:J3)","v":101032036}]
["Health",5894448,5564197,5597181,5815108,6512349,7040240,7159858,6834858,6834858,{"$f":"SUM(B4:J4)","v":57253097}]
["Public Sector Capacity Building",0,103514,103514,0,300000,425000,413380,300000,300000,1945408]
["Private Sector Development",356620,361943,361943,0,0,0,0,0,0,1080506]
["Environment",400000,404720,408000,210579,215860,228138,230202,549954,551800,3199253]
["Ebeye Special Needs",3100000,3136580,3185560,3263969,3345830,3536134,3451055,3486781,3515400,30021309]
["Kwajalein Development Fund",1900000,1922420,1952440,2000497,2050670,2167308,2115163,2137149,2154600,18400247]
["Infrastructure & IMF",13700000,13385745,12495679,12573086,11855213,11547382,11189235,10296314,9958191,107000845]
["Supplemental Education Grant",0,6100000,5941769,5990490,5895668,5886017,5895667,5885052,5885052,47479715]
["Inflation adjustment",0,0,0,0,0,0,0,0,0,0]
["Inflation correction",0,0,0,0,0,1513421,27765,-212750,0,1328436]
["Trust Fund Contribution",7000000,7588500,8220800,8949592,9713700,10784291,11132214,11798145,12474000,87661242]
["Kwajalein Land Owners",15000000,15177000,15414000,15793397,16189500,17110328,16698653,16871519,17010000,145264397]
["Total ",{"$f":"SUM(B3:B15)","v":57000000},{"$f":"SUM(C3:C15)","v":63811540},{"$f":"SUM(D3:D15)","v":64514969},66005400,67415768,72695669,69913920,69786173,70523052,558193072]